BEGIN:VCALENDAR
VERSION:2.0
PRODID:-//VivaLugo - ECPv6.15.13.1//NONSGML v1.0//EN
CALSCALE:GREGORIAN
METHOD:PUBLISH
X-ORIGINAL-URL:https://vivalugo.es
X-WR-CALDESC:Eventos para VivaLugo
REFRESH-INTERVAL;VALUE=DURATION:PT1H
X-Robots-Tag:noindex
X-PUBLISHED-TTL:PT1H
BEGIN:VTIMEZONE
TZID:Europe/Madrid
BEGIN:DAYLIGHT
TZOFFSETFROM:+0100
TZOFFSETTO:+0200
TZNAME:CEST
DTSTART:20240331T010000
END:DAYLIGHT
BEGIN:STANDARD
TZOFFSETFROM:+0200
TZOFFSETTO:+0100
TZNAME:CET
DTSTART:20241027T010000
END:STANDARD
BEGIN:DAYLIGHT
TZOFFSETFROM:+0100
TZOFFSETTO:+0200
TZNAME:CEST
DTSTART:20250330T010000
END:DAYLIGHT
BEGIN:STANDARD
TZOFFSETFROM:+0200
TZOFFSETTO:+0100
TZNAME:CET
DTSTART:20251026T010000
END:STANDARD
BEGIN:DAYLIGHT
TZOFFSETFROM:+0100
TZOFFSETTO:+0200
TZNAME:CEST
DTSTART:20260329T010000
END:DAYLIGHT
BEGIN:STANDARD
TZOFFSETFROM:+0200
TZOFFSETTO:+0100
TZNAME:CET
DTSTART:20261025T010000
END:STANDARD
END:VTIMEZONE
BEGIN:VEVENT
DTSTART;TZID=Europe/Madrid:20250929T183000
DTEND;TZID=Europe/Madrid:20250929T193000
DTSTAMP:20260421T173650
CREATED:20250923T091212Z
LAST-MODIFIED:20250923T091212Z
UID:94325-1759170600-1759174200@vivalugo.es
SUMMARY:Conferencia "El Motor del Éxito: Descubriendo la Motivación"
DESCRIPTION:Conferencia «El Motor del Éxito: Descubriendo la Motivación» \nSerá impartida por Denís Fernández Valcárcel\, psicólogo especialista en rendimiento deportivo. \nSe realizará online o presencial en la UNED LUGO\, el 29 de septiembre\, de 18:30 a 19:30 horas   \nDe la mano del especialista Denís Fernández Valcárcel\, conoceremos qué es la motivación\, cómo funciona y por qué es clave para el éxito en diferentes ámbitos de la vida. Analizaremos sus principales vertientes: la motivación intrínseca\, que nace de nuestra pasión y deseos internos\, y la motivación extrínseca\, impulsada por recompensas externas como el reconocimiento o incentivos. \nMás información y matrícula gratuita: \nhttps://extension.uned.es/actividad/47327&codigo=EMDD
URL:https://vivalugo.es/evento/conferencia-el-motor-del-exito-descubriendo-la-motivacion/
LOCATION:UNED LUGO\, Tolda de Castela Nº4B\, Lugo\, 27169
CATEGORIES:Conferencias
END:VEVENT
END:VCALENDAR