BEGIN:VCALENDAR
VERSION:2.0
PRODID:-//VivaLugo - ECPv6.15.13.1//NONSGML v1.0//EN
CALSCALE:GREGORIAN
METHOD:PUBLISH
X-ORIGINAL-URL:https://vivalugo.es
X-WR-CALDESC:Eventos para VivaLugo
REFRESH-INTERVAL;VALUE=DURATION:PT1H
X-Robots-Tag:noindex
X-PUBLISHED-TTL:PT1H
BEGIN:VTIMEZONE
TZID:Europe/Madrid
BEGIN:DAYLIGHT
TZOFFSETFROM:+0100
TZOFFSETTO:+0200
TZNAME:CEST
DTSTART:20240331T010000
END:DAYLIGHT
BEGIN:STANDARD
TZOFFSETFROM:+0200
TZOFFSETTO:+0100
TZNAME:CET
DTSTART:20241027T010000
END:STANDARD
BEGIN:DAYLIGHT
TZOFFSETFROM:+0100
TZOFFSETTO:+0200
TZNAME:CEST
DTSTART:20250330T010000
END:DAYLIGHT
BEGIN:STANDARD
TZOFFSETFROM:+0200
TZOFFSETTO:+0100
TZNAME:CET
DTSTART:20251026T010000
END:STANDARD
BEGIN:DAYLIGHT
TZOFFSETFROM:+0100
TZOFFSETTO:+0200
TZNAME:CEST
DTSTART:20260329T010000
END:DAYLIGHT
BEGIN:STANDARD
TZOFFSETFROM:+0200
TZOFFSETTO:+0100
TZNAME:CET
DTSTART:20261025T010000
END:STANDARD
END:VTIMEZONE
BEGIN:VEVENT
DTSTART;TZID=Europe/Madrid:20250930T160000
DTEND;TZID=Europe/Madrid:20250930T160000
DTSTAMP:20260421T162307
CREATED:20250930T145223Z
LAST-MODIFIED:20250930T145223Z
UID:94637-1759248000-1759248000@vivalugo.es
SUMMARY:Encontro “Arte\, Memoria e Museos” no MPL
DESCRIPTION:Encontro “Arte\, Memoria e Museos” no MPL \nXoves 30 de outubro de 2025 \n16:00 horas \nMuseo provincial de Lugo
URL:https://vivalugo.es/evento/encontro-arte-memoria-e-museos-no-mpl/
LOCATION:Museo Provincial de Lugo\, Praza da Soidade\, s/n\, Lugo\, 27001
CATEGORIES:Conferencias
END:VEVENT
BEGIN:VEVENT
DTSTART;TZID=Europe/Madrid:20250930T190000
DTEND;TZID=Europe/Madrid:20250930T190000
DTSTAMP:20260421T162307
CREATED:20250923T090458Z
LAST-MODIFIED:20250925T134814Z
UID:94320-1759258800-1759258800@vivalugo.es
SUMMARY:Encontro entre Miqui Otero e Cecilia F. Santomé
DESCRIPTION:Encontro entre Miqui Otero e Cecilia F. Santomé \n\nMartes\, 30 de setembro\n19:00h\nLibrería Trama\n\nSerá un encontro entre os autores Miqui Otero (La cápsula del tiempo\, Simón\, Orquesta) e Cecilia F. Santomé (Unha rapaza de provincias\, As despedidas). \nO programa de animación lectora Afinidades Electivas. Encuentros literarios en librerías ten como obxectivos\, por unha parte\, impulsar a actividade en librerías independentes e\, por outra\, apoiar a creación literaria en todas as linguas do Estado\, poñendo en valor a pluralidade lingüística do país\, favorecendo o diálogo entre as distintas linguas e cotribuindo á difusión de literaturas de distintos territorios. \nAs librerías independientes acollen os encontros entre dous escritores\, tradutores e ilustradores que desenvolvan o seu traballo nas distintas linguas\, animando a cada un deles a referirse ó traballo e á obra do outro\, buscando semellanzas\, conexións e mesmo camiños diverxentes.
URL:https://vivalugo.es/evento/encontro-entre-miqui-otero-e-cecilia-f-santome/
LOCATION:Librería Trama\, Avenida A Coruña\, 21\, Lugo\, 27003
CATEGORIES:Presentaciones
ATTACH;FMTTYPE=image/png:https://vivalugo.es/wp-content/uploads/2025/09/encontro-miqui-otero-cecilia-f-santome.png
END:VEVENT
BEGIN:VEVENT
DTSTART;TZID=Europe/Madrid:20250930T190000
DTEND;TZID=Europe/Madrid:20250930T190000
DTSTAMP:20260421T162307
CREATED:20250929T185437Z
LAST-MODIFIED:20250929T185855Z
UID:94530-1759258800-1759258800@vivalugo.es
SUMMARY:Inauguración da exposición “O Vestiario das Almas Pintadas”
DESCRIPTION:O martes 30 de setembro de 2025\, ás 19.00 horas\, no Museo Provincial de Lugo. \nA mostra abrangue unha experiencia singular: 45 manequíns con máis de 600 pezas de roupa antiga ou reproducións fieis\, xunto a utensilios\, obxectos etnográficos e aparellos da vida cotiá\, expostos ao lado das obras orixinais. \nEsta posta en escena permite mergullarse nas mesmas escenas representadas en cadros e esculturas\, apreciando ao detalle o vestiario\, a ourivería e os obxectos empregados polos nosos antepasados. \nA exposición  recupera do esquecemento figuras fundamentais da memoria popular: mulleres camiño da fonte con sellas sobre a cabeza\, vendedoras do mercado de Lugo\, cacharreiras das feiras\, rezadoras dun rosario ou os personaxes da Romaría de Darbo… \n“O Vestiario das Almas Pintadas. A indumentaria galega nos cadros costumistas”\, é unha iniciativa que vincula arte\, educación e investigación\, desenvolvida pola Rede Museística Provincial coa colaboración da Asociación de Danza e Teatro CAFUNÉ e da Asociación Etnográfica Sete Espadelas. \nO proxecto\, coordinado por Encarna Lago e comisariado por David Quiñones e José Luis Rodríguez\, enmárcase no programa de investigación educativa impulsado pola Rede\, co obxectivo de mellorar o acceso ás coleccións como fontes primarias de coñecemento\, favorecendo unha aproximación renovada e crítica ao patrimonio artístico galego.
URL:https://vivalugo.es/evento/inauguracion-da-exposicion-o-vestiario-das-almas-pintadas/
LOCATION:Museo Provincial de Lugo\, Praza da Soidade\, s/n\, Lugo\, 27001
CATEGORIES:Expos
ATTACH;FMTTYPE=image/jpeg:https://vivalugo.es/wp-content/uploads/2025/09/exposicion-o-vestiario.jpg
END:VEVENT
END:VCALENDAR