BEGIN:VCALENDAR
VERSION:2.0
PRODID:-//VivaLugo - ECPv6.15.13.1//NONSGML v1.0//EN
CALSCALE:GREGORIAN
METHOD:PUBLISH
X-WR-CALNAME:VivaLugo
X-ORIGINAL-URL:https://vivalugo.es
X-WR-CALDESC:Eventos para VivaLugo
REFRESH-INTERVAL;VALUE=DURATION:PT1H
X-Robots-Tag:noindex
X-PUBLISHED-TTL:PT1H
BEGIN:VTIMEZONE
TZID:Europe/Madrid
BEGIN:DAYLIGHT
TZOFFSETFROM:+0100
TZOFFSETTO:+0200
TZNAME:CEST
DTSTART:20240331T010000
END:DAYLIGHT
BEGIN:STANDARD
TZOFFSETFROM:+0200
TZOFFSETTO:+0100
TZNAME:CET
DTSTART:20241027T010000
END:STANDARD
BEGIN:DAYLIGHT
TZOFFSETFROM:+0100
TZOFFSETTO:+0200
TZNAME:CEST
DTSTART:20250330T010000
END:DAYLIGHT
BEGIN:STANDARD
TZOFFSETFROM:+0200
TZOFFSETTO:+0100
TZNAME:CET
DTSTART:20251026T010000
END:STANDARD
BEGIN:DAYLIGHT
TZOFFSETFROM:+0100
TZOFFSETTO:+0200
TZNAME:CEST
DTSTART:20260329T010000
END:DAYLIGHT
BEGIN:STANDARD
TZOFFSETFROM:+0200
TZOFFSETTO:+0100
TZNAME:CET
DTSTART:20261025T010000
END:STANDARD
END:VTIMEZONE
BEGIN:VEVENT
DTSTART;TZID=Europe/Madrid:20251002T190000
DTEND;TZID=Europe/Madrid:20251002T190000
DTSTAMP:20260421T134349
CREATED:20250925T134654Z
LAST-MODIFIED:20250925T134925Z
UID:94342-1759431600-1759431600@vivalugo.es
SUMMARY:Presentación do libro "Punto de araña" de Nerea Pallares
DESCRIPTION:Presentación do libro «Punto de araña»\, Premio García Barros 2025\, de Nerea Pallares. \nXoves 2 de outubro\, celebrarase\, ás 19 h\, no patio do Vello Cárcere de Lugo \nAcompañando a autora\, estará María Valcárcel\, xestora cultura e crítica literaria.
URL:https://vivalugo.es/evento/presentacion-do-libro-punto-de-arana-de-nerea-pallares/
LOCATION:O Vello Cárcere\, Av. Alcalde Anxo López Pérez\, 10\, Lugo\, Lugo\, 27002\, Spain
CATEGORIES:Presentaciones
ATTACH;FMTTYPE=image/jpeg:https://vivalugo.es/wp-content/uploads/2025/09/presentacion-punto-de-arana.jpg
END:VEVENT
BEGIN:VEVENT
DTSTART;TZID=Europe/Madrid:20251002T190000
DTEND;TZID=Europe/Madrid:20251002T190000
DTSTAMP:20260421T134349
CREATED:20250930T114349Z
LAST-MODIFIED:20250930T114349Z
UID:94586-1759431600-1759431600@vivalugo.es
SUMMARY:Presentación do libro "Alas de libertad"
DESCRIPTION:Presentación do libro «Alas de libertad» \nDe María Pilar Núñez Parada. \nXoves 02 de outubro de 2025 \n19:00 horas \nO Vello Cárcere de Lugo
URL:https://vivalugo.es/evento/presentacion-do-libro-alas-de-libertad/
LOCATION:O Vello Cárcere\, Av. Alcalde Anxo López Pérez\, 10\, Lugo\, Lugo\, 27002\, Spain
CATEGORIES:Presentaciones
ATTACH;FMTTYPE=image/jpeg:https://vivalugo.es/wp-content/uploads/2025/09/presentacion-libro-alas-libertad.jpg
END:VEVENT
BEGIN:VEVENT
DTSTART;TZID=Europe/Madrid:20251002T190000
DTEND;TZID=Europe/Madrid:20251002T190000
DTSTAMP:20260421T134349
CREATED:20250930T174326Z
LAST-MODIFIED:20250930T174326Z
UID:94685-1759431600-1759431600@vivalugo.es
SUMMARY:Encontro '50 anos despois de Franco: verdugos invisibles de vítimas coñecidas'
DESCRIPTION:Encontro ’50 anos despois de Franco: verdugos invisibles de vítimas coñecidas’ \nNa cafetaría da Escola Politécnica Superior de Enxeñaría ás 19 horas do xoves 2 de outubro.\n\n\nNeste 2025 cúmprese o 50 aniversario da morte de Franco\, o ditador que marcou de forma tráxica a historia do Estado español durante case catro décadas. \nNun tempo en que emerxen relatos edulcorados ou directamente falsos da guerra á que nos levou o golpe de estado do 36 e da brutal represión posterior\, segue a ser imprescindible facer memoria. Afortunadamente\, a memoria das vítimas empeza a estar dispoñible para quen queira saber; pero se hai vítimas\, por forza ten que haber vitimarios. E a súa historia\, a dos verdugos\, continúa maiormente oculta. \nPara calquera sociedade\, sacar á luz aos asasinos é mais difícil que reivindicar ás vítimas. Mais para avanzar e volver aos erros do pasado\, precisamos saber deles. Que lóxicas explican estas matanzas? Cales foron as motivacións para os crimes? \nLourenzo Fernández Prieto\, catedrático de Historia Contemporánea da USC\, cunha longa traxectoria divulgadora e investigadora sobre a represión franquista\, concretada en traballos como Golpistas e verdugos do 1936. Historia dun pasado incómodo\, falará sobre estas verdades incómodas que aínda hoxe custa sacar á luz. \nEsta iniciativa enmárcase dentro da programación artellada ao abeiro do convenio Lugo Cultural\, que recibe financiamento da USC\, Cultura e Turismo do Concello de Lugo e da Vicepresidencia da Deputación Provincial de Lugo.
URL:https://vivalugo.es/evento/encontro-50-anos-despois-de-franco-verdugos-invisibles-de-vitimas-conecidas/
LOCATION:Escola Politécnica Superior de Enxeñaría\, Rúa Benigno Ledo\, LUGO\, Lugo\, 27002\, Spain
CATEGORIES:Conferencias
ATTACH;FMTTYPE=image/png:https://vivalugo.es/wp-content/uploads/2025/09/encontro-50-anos-despois-franco.png
END:VEVENT
BEGIN:VEVENT
DTSTART;TZID=Europe/Madrid:20251002T200000
DTEND;TZID=Europe/Madrid:20251002T200000
DTSTAMP:20260421T134349
CREATED:20250929T190104Z
LAST-MODIFIED:20250930T144804Z
UID:94533-1759435200-1759435200@vivalugo.es
SUMMARY:Inauguración da exposición “A rúa como espello: unha ollada á alma urbana”
DESCRIPTION:Inauguración da exposición “A rúa como espello: unha ollada á alma urbana” \nO xoves\, 2 de outubro\, ás 20:00 h\, no Vello Cárcere\, e a mostra estará aberta ao público ata finais de novembro. \nEsta mostra\, dedicada á fotografía de rúa en Lugo e na súa provincia\, é froito do traballo do Colectivo Ruando\, unha comunidade de fotógrafos afeccionados e profesionais que transforman o cotián en arte. \nA exposición é unha selección de 40 imaxes contemporáneas que capturan a esencia da vida urbana\, buscando o inesperado: un xesto\, un contraste visual ou unha escena que fala do noso mundo sen palabras. Cada fotografía é un fragmento de vida\, un testemuño que nos invita a mirar con máis atención o que nos rodea. \nAdemais de ser unha mostra artística\, “A rúa como espello” quere xerar unha reflexión sobre a ética na fotografía de rúa. Para o colectivo\, fotografar persoas en espazos públicos implica unha gran responsabilidade. O obxectivo non é invadir\, senón visibilizar con empatía e crear un diálogo a través da imaxe. \nEste proxecto\, que se enmarca no programa de investigación educativa da Rede Museística Provincial de Lugo\, é unha oportunidade única para descubrir a alma de Lugo a través dunha nova mirada.
URL:https://vivalugo.es/evento/inauguracion-da-exposicion-a-rua-como-espello-unha-ollada-a-alma-urbana/
LOCATION:O Vello Cárcere\, Av. Alcalde Anxo López Pérez\, 10\, Lugo\, Lugo\, 27002\, Spain
CATEGORIES:Expos
ATTACH;FMTTYPE=image/jpeg:https://vivalugo.es/wp-content/uploads/2025/09/inauguracion-expo-rua-espello.jpg
END:VEVENT
BEGIN:VEVENT
DTSTART;TZID=Europe/Madrid:20251002T200000
DTEND;TZID=Europe/Madrid:20251002T200000
DTSTAMP:20260421T134349
CREATED:20250930T175436Z
LAST-MODIFIED:20250930T175436Z
UID:94688-1759435200-1759435200@vivalugo.es
SUMMARY:Danza "Halley"
DESCRIPTION:Danza «Halley» \nde Led Silhouette \nXoves\, 2 de outubro de 2025 20:00 hs. \n\nLugar: Auditorio Municipal Gustavo Freire \nIdade recomendada: Todos os públicos \nSinopse:\n…1835\, 1910\, 1986\, 2061… \nUn fío que une todo. O que se quere contar e o que non se pode enumerar.  \nTemos tantos rivais coma aliados.  \nIncluso as civilizacións máis avanzadas quedan atrás algunha vez.  \nO poeta escribiu que o universo vai cambiando\, pero a xente non.  \nDesde que aprendemos a abrir os ollos\, non deixamos de observar ao noso arredor.  \nCercano\, lonxano\, todo foi obxeto de estudo.  \nAinda non nos damos conta da capacidade de destrucción que temos.  \n150.000 anos para chegar á estrela máis cercana.  \nCada paso deixa unha pegada no tempo. Co peso da eternidade\, á velocidade da luz. Isto é unha vida. “Isti mirant stella”. \nENTRADAS \nA través do portal web entradaslugo.es e na Oficina de Turismo ata 3 horas antes do comezo de cada función; e no auditorio\, o día da función\, desde unha hora e media antes do comezo do espectáculo.
URL:https://vivalugo.es/evento/danza-halley/
LOCATION:​Auditorio Municipal Gustavo Freire\, Parque da Milagrosa\, Avda. da Coruña\, s/n\, Lugo\, Lugo\, 27003\, Spain
CATEGORIES:Artes escénicas
ATTACH;FMTTYPE=image/jpeg:https://vivalugo.es/wp-content/uploads/2025/09/danza-halley.jpg
END:VEVENT
BEGIN:VEVENT
DTSTART;TZID=Europe/Madrid:20251002T220000
DTEND;TZID=Europe/Madrid:20251002T220000
DTSTAMP:20260421T134349
CREATED:20250926T102039Z
LAST-MODIFIED:20250926T102039Z
UID:94370-1759442400-1759442400@vivalugo.es
SUMMARY:Espectáculo de humor retro-activo con Sergio Alba
DESCRIPTION:Espectáculo de humor retro-activo con Sergio Alba \n«Dous rombos\, pasa para a cama» \nXoves 02 de outubro de 2025 \n22:00 horas \nClub Clavicémbalo de Lugo
URL:https://vivalugo.es/evento/espectaculo-de-humor-retro-activo-con-sergio-alba/
LOCATION:Club Clavicémbalo\, Rúa dos Paxariños\, 23\, Lugo\, Lugo\, 27002\, Spain
CATEGORIES:Artes escénicas
ATTACH;FMTTYPE=image/jpeg:https://vivalugo.es/wp-content/uploads/2025/09/espectaculo-humor-retro-activo.jpg
END:VEVENT
END:VCALENDAR