BEGIN:VCALENDAR
VERSION:2.0
PRODID:-//VivaLugo - ECPv6.15.13.1//NONSGML v1.0//EN
CALSCALE:GREGORIAN
METHOD:PUBLISH
X-WR-CALNAME:VivaLugo
X-ORIGINAL-URL:https://vivalugo.es
X-WR-CALDESC:Eventos para VivaLugo
REFRESH-INTERVAL;VALUE=DURATION:PT1H
X-Robots-Tag:noindex
X-PUBLISHED-TTL:PT1H
BEGIN:VTIMEZONE
TZID:Europe/Madrid
BEGIN:DAYLIGHT
TZOFFSETFROM:+0100
TZOFFSETTO:+0200
TZNAME:CEST
DTSTART:20240331T010000
END:DAYLIGHT
BEGIN:STANDARD
TZOFFSETFROM:+0200
TZOFFSETTO:+0100
TZNAME:CET
DTSTART:20241027T010000
END:STANDARD
BEGIN:DAYLIGHT
TZOFFSETFROM:+0100
TZOFFSETTO:+0200
TZNAME:CEST
DTSTART:20250330T010000
END:DAYLIGHT
BEGIN:STANDARD
TZOFFSETFROM:+0200
TZOFFSETTO:+0100
TZNAME:CET
DTSTART:20251026T010000
END:STANDARD
BEGIN:DAYLIGHT
TZOFFSETFROM:+0100
TZOFFSETTO:+0200
TZNAME:CEST
DTSTART:20260329T010000
END:DAYLIGHT
BEGIN:STANDARD
TZOFFSETFROM:+0200
TZOFFSETTO:+0100
TZNAME:CET
DTSTART:20261025T010000
END:STANDARD
END:VTIMEZONE
BEGIN:VEVENT
DTSTART;VALUE=DATE:20251004
DTEND;VALUE=DATE:20251005
DTSTAMP:20260421T135924
CREATED:20250927T162551Z
LAST-MODIFIED:20250927T162551Z
UID:94492-1759536000-1759622399@vivalugo.es
SUMMARY:San Froilán 2025 - Programa do sábado 04
DESCRIPTION:SÁBADO 4\n10.00 h. XXXII Feira do Mel. Praza da Soidade. Cata de mel ás 12h. Obradoiro de globoflexia das 17h ás 20h. \n10.00 h. III Feira de Olería Lugo Tradicional (FOLT) na praza Santo Domingo (fronte á Praza de Abastos). Inauguración o día 3 ás 12h. Horario; das 10 ás 21h. \n11.00 h. San Froilán Tecedeiro no parque Rosalía de Castro. Mostra artesanal e obradoiro de construción de varias pezas artísticas con materiais autóctonos da man de Corazóns Artesáns\, na que poderán participar todas aquelas persoas que o desexen (Das 11.00h ás 13.30h). \n11.00 h. EXPOLUGO. Exposición de razas autóctonas da Galiza; Das 10:00 ás 20:00 h na carpa xunto ao Vello Cárcere. Bovino: Cachena\, Caldelá\, Frieiresa\, Limiá\, Vianesa\, Charolesa e Rubia Galega. Ovino: Ovella Galega\, Suffolk\, Charolesa\, Romanov\, Churra e Texel negra. Caprino: Cabra Galega e Boer. Porcino: Porco Celta. Aves: Galiña de Mos e Galiña Piñeira. Equino: Pura Raza Galega. Cans: Can de Palleiro e Maquinaria Clásica. \n11.00 h. Feira de antigüidades e coleccionismo na rúa da Raíña. Todo o día. \n12.00 h. Pregón a cargo de Mª Cristina Lombao Ramos no balcón da Casa do Concello. \n12.30 h. Os Pelúdez entre nós + Xigantes e Cabezudos + Cántigas e Frores no pregón\, praza Maior\, Campo Castelo\, rúa San Pedro\, Progreso e Raíña. \n13.00 h. Verbena coa orquestra NEVERLOURA na Mosqueira. \n17.00 h. San Froilán Tecedeiro no parque Rosalía de Castro. Mostra artesanal e obradoiro de construción de varias pezas artísticas con materiais autóctonos da man de Corazóns Artesáns\, na que poderán participar todas aquelas persoas que o desexen (Das 17.00h ás 20.00h). \n17.00 h. SOUNDSYSTEM NO CAMIÑO con obradoiros\, exposicións e as actuacións de WANDEM SOUNDSYSTEM + PINTEGA SISTEMA DE SON + DUB MONO HIFI + DUB IN SOUL\, no Pazo De Feiras até ás 05.00h. \n18.00 h. XX SANFROIDANCE coas actuacións de OZETAK + FONKI CHEFF + KR-ON + VILOUTA + PAYBALL + FER MESA + BEATMAC + LE33\, na praza da Mosqueira das 18h ás 02.00h. \n18.30 h. Actuación de CLAUSTRO MÚSICA no templete da praza Maior. \n20.00 h. Pasarrúas de A Volta do Agro pola Tinería\, rúa Nova e praza da Soidade. \n21.00 h. Concerto de LUCÍA PÉREZ na praza Santa María. \n21.30 h. Pasarrúas coa charanga MEKANIKA ROLLING BAND por Recatelo\, praza Maior e Campo Castelo. \n22.00 h. Concerto de TANXUGUEIRAS na praza Horta do Seminario. Ás 21.00h Teloneiros: Diego Flâneur & Ünder. \n23.30 h. Concerto de DAKÍDARRIA na praza Santa María. \n01.00 h. FESTICULTORES TROUPE na praza Santa María. \nSAN FROILÁN MIÚDO. ESPECTÁCULOS E ACTIVIDADES PARA TODA A FAMILIA. \nSábado 4: \n12.30 h. Os Cabezudos + Cántigas e Frores na praza Maior (fronte á Casa do Concello). \n18.30 h. Ritmo Lugo. Exhibicións de baile na carpa do San Froilán Miúdo. \nPrograma completo do San Froilán 2025
URL:https://vivalugo.es/evento/san-froilan-2025-programa-do-sabado-04/
CATEGORIES:Varios
ATTACH;FMTTYPE=image/jpeg:https://vivalugo.es/wp-content/uploads/2025/09/cartel-san-froilan-2025.jpg
END:VEVENT
BEGIN:VEVENT
DTSTART;VALUE=DATE:20251004
DTEND;VALUE=DATE:20251005
DTSTAMP:20260421T135924
CREATED:20250930T090531Z
LAST-MODIFIED:20251002T105859Z
UID:94535-1759536000-1759622399@vivalugo.es
SUMMARY:I Xornadas Pedagóxicas de Arqueoloxía Lucense
DESCRIPTION:I Xornadas Pedagóxicas de Arqueoloxía Lucense\n\nSábado\, 4 de outubro\n\nSalón de actos. Edificio administrativo da Xunta de Galicia\, Lugo\n\nUn encontro que pretende achegar á cidadanía os coñecementos obtidos nas últimas intervencións arqueolóxicas realizadas en xacementos sobranceiros da provincia\, explicados polos propios arqueólogos que as dirixiron.\n\nUnha oportunidade para afondar no pasado\, valorar o patrimonio común e comprender mellor a nosa identidade como pobo.\n\nEntrada libre e gratuíta.\n\n\n\nArtigo en VivaLugo:  Xornada divulgativa sobre xacementos arqueolóxicos da provincia de Lugo
URL:https://vivalugo.es/evento/i-xornadas-pedagoxicas-de-arqueoloxia-lucense/
LOCATION:Edificio Administrativo Xunta de Galicia en Lugo\, Ronda da Muralla 27\, Lugo
CATEGORIES:Conferencias
ATTACH;FMTTYPE=image/png:https://vivalugo.es/wp-content/uploads/2025/09/xornada-arqueoloxia-lucense-todo.png
END:VEVENT
BEGIN:VEVENT
DTSTART;TZID=Europe/Madrid:20251004T180000
DTEND;TZID=Europe/Madrid:20251004T180000
DTSTAMP:20260421T135924
CREATED:20250926T112754Z
LAST-MODIFIED:20250926T112754Z
UID:94411-1759600800-1759600800@vivalugo.es
SUMMARY:Sanfroidance 2025
DESCRIPTION:Sanfroidance 2025 \n4 de outubro\, a partir das 18:00 h\, na Praza da Mosqueira. Entrada de balde. \nEste ano trae un formato totalmente innovador\, un auténtico ring de boxeo\, onde se enfrontarán en tres sesións de máis de duas horas\, seis recoñecidos DJs que competirán a golpe de cancións. OZETAK vs FONKI CHEFF\, KR-ON vs VILOUTA e FER MESA vs PAYBALL\, todo isto acompañado das espectaculares visuais que xa son marca da casa. \nA presentación do evento correrá da man do músico e actor RAÚL BEATMAC\, sen olvidar o convidado especial\, o Lucense LE33\, gañador de mil e unha batallas. \nUn encontro imprescindible coa música urbana\, negra e electrónica. \nSan Froilán 2025 – O Festival SFDC celebra o seu 20 aniversario
URL:https://vivalugo.es/evento/sanfroidance-2025/
LOCATION:Pza da Mosqueira
CATEGORIES:Conciertos
ATTACH;FMTTYPE=image/jpeg:https://vivalugo.es/wp-content/uploads/2025/09/sfdc-2025.jpg
END:VEVENT
BEGIN:VEVENT
DTSTART;TZID=Europe/Madrid:20251004T230000
DTEND;TZID=Europe/Madrid:20251004T230000
DTSTAMP:20260421T135924
CREATED:20250930T172530Z
LAST-MODIFIED:20250930T172530Z
UID:94679-1759618800-1759618800@vivalugo.es
SUMMARY:Concerto "The Twist Connection"
DESCRIPTION:Concerto «The Twist Connection» \nSábado 04 de outubro de 2025 \n23:00 horas \nClub Clavicémbalo Lugo
URL:https://vivalugo.es/evento/concerto-the-twist-connection/
LOCATION:Club Clavicémbalo\, Rúa dos Paxariños\, 23\, Lugo\, Lugo\, 27002\, Spain
CATEGORIES:Conciertos
ATTACH;FMTTYPE=image/jpeg:https://vivalugo.es/wp-content/uploads/2025/09/concerto-the-twist-connection.jpg
END:VEVENT
END:VCALENDAR