BEGIN:VCALENDAR
VERSION:2.0
PRODID:-//VivaLugo - ECPv6.15.13.1//NONSGML v1.0//EN
CALSCALE:GREGORIAN
METHOD:PUBLISH
X-WR-CALNAME:VivaLugo
X-ORIGINAL-URL:https://vivalugo.es
X-WR-CALDESC:Eventos para VivaLugo
REFRESH-INTERVAL;VALUE=DURATION:PT1H
X-Robots-Tag:noindex
X-PUBLISHED-TTL:PT1H
BEGIN:VTIMEZONE
TZID:Europe/Madrid
BEGIN:DAYLIGHT
TZOFFSETFROM:+0100
TZOFFSETTO:+0200
TZNAME:CEST
DTSTART:20240331T010000
END:DAYLIGHT
BEGIN:STANDARD
TZOFFSETFROM:+0200
TZOFFSETTO:+0100
TZNAME:CET
DTSTART:20241027T010000
END:STANDARD
BEGIN:DAYLIGHT
TZOFFSETFROM:+0100
TZOFFSETTO:+0200
TZNAME:CEST
DTSTART:20250330T010000
END:DAYLIGHT
BEGIN:STANDARD
TZOFFSETFROM:+0200
TZOFFSETTO:+0100
TZNAME:CET
DTSTART:20251026T010000
END:STANDARD
BEGIN:DAYLIGHT
TZOFFSETFROM:+0100
TZOFFSETTO:+0200
TZNAME:CEST
DTSTART:20260329T010000
END:DAYLIGHT
BEGIN:STANDARD
TZOFFSETFROM:+0200
TZOFFSETTO:+0100
TZNAME:CET
DTSTART:20261025T010000
END:STANDARD
END:VTIMEZONE
BEGIN:VEVENT
DTSTART;VALUE=DATE:20251005
DTEND;VALUE=DATE:20251006
DTSTAMP:20260421T151611
CREATED:20250927T162742Z
LAST-MODIFIED:20250927T162742Z
UID:94494-1759622400-1759708799@vivalugo.es
SUMMARY:San Froilán 2025 - Programa do domingo 05
DESCRIPTION:DOMINGO 5 (SAN FROILÁN)\n10.00 h. XXXII Feira do Mel. Praza da Soidade. Obradoiro de velas das 12h ás 14h. \n10.00 h. III Feira de Olería Lugo Tradicional (FOLT) na praza Santo Domingo (fronte á Praza de Abastos). Horario; das 10 ás 19h. \n11.00 h. EXPOLUGO. Exposición de razas autóctonas da Galiza; Das 10:00 ás 14:30 h na carpa xunto ao Vello Cárcere. Bovino: Cachena\, Caldelá\, Frieiresa\, Limiá\, Vianesa\, Charolesa e Rubia Galega. Ovino: Ovella Galega\, Suffolk\, Charolesa\, Romanov\, Churra e Texel negra. Caprino: Cabra Galega e Boer. Porcino: Porco Celta. Aves: Galiña de Mos e Galiña Piñeira. Equino: Pura Raza Galega. Cans: Can de Palleiro e Maquinaria Clásica. \n11.00 h. San Froilán Tecedeiro no parque Rosalía de Castro. Mostra artesanal e obradoiro de construción de varias pezas artísticas con materiais autóctonos da man de Corazóns Artesáns\, na que poderán participar todas aquelas persoas que o desexen (Das 11.00h ás 13.30h). \n11.00 h. Feira de antigüidades e coleccionismo na rúa da Raíña. Todo o día. \n12.00 h. Ofrenda da Corporación municipal a San Froilán\, na Catedral de Lugo. \n12.00 h. Pasarrúas de Os Picurruchos pola rúa Quiroga Ballesteros\, praza de Santo Domingo e praza da Soidade. \n12.00 h. Pasarrúas de Caivanca pola rúa Nova\, Tinería e praza da Soidade. \n12.00 h. Pasarrúas de Cántigas e Frores pola rúa Camiño Real e praza da Milagrosa. \n12.00 h. Pasarrúas de Foliada de Bosende por Recatelo e Recinto Feiral. \n13.00 h. Verbena coa orquestra SUAVECITO\, sesión vermut\, tarde e DJ Casanova ata ás 0.00h\, na praza de Augas Férreas. \n13.00 h. Concerto da BANDA FILHARMÓNICA DE LUGO + BANDA DE MÚSICA DE VILALBA na praza de Santa María. \n13.00 h. Concerto de MOCHO GRIS na praza da Mosqueira. \n12.30 h. Espectáculo itinerante “PILOTS” de La Finestra. Espectáculo teatral itinerante para público familiar. Percorrido; saída dende o San Froilán Miúdo na rúa alcalde Anxo López Pérez\, Bispo Aguirre\, praza Maior e Campo Castelo. \n13.00 h. O SAN FROILÁN MÁXICO NO TEU BARRIO coa actuación “50 (1975-2025)” na praza do Castiñeiro. \n13.30 h. XIII Desfile de Gando tradicional do San Froilán. Percorrido: tramo peonil da ronda da Muralla\, praza da Constitución\, Campo Castelo\, praza Maior e Bispo Aguirre. Coa actuación de Reviravolta e Os Pelúdez entre nós. \n17.00 h. San Froilán Tecedeiro no parque Rosalía de Castro. Mostra artesanal e obradoiro de construción de varias pezas artísticas con materiais autóctonos da man de Corazóns Artesáns\, na que poderán participar todas aquelas persoas que o desexen (Das 17.00h ás 20.00h). \n17.30 h. Espectáculo itinerante “PILOTS” de La Finestra. Espectáculo teatral para público familiar. Percorrido; saída dende o San Froilán Miúdo na rúa alcalde Anxo López Pérez\, Bispo Aguirre\, praza Maior e Campo Castelo. \n17.30 h. Os Pelúdez no Cemiterio San Froilán. Visita guiada polo cemiterio da man de Os Pelúdez \n18.00 h. O SAN FROILÁN MÁXICO NO TEU BARRIO coa actuación “50 (1975-2025)” na praza do Castiñeiro. Pases ás 18.00\, 19.30 e 21.00h. \n18.00 h. IX Concurso MISS DEUSA co Colectivo ALAS na praza da Mosqueira. \n19.00 h. Verbena galega d’antes. Espectáculo participativo. Ás 19h\, chegada das merendas\, gaiteiros e figurantes\, ás 19.30h comezo da verbena coa actuación de Airiños da Freba e bailador@s de Oxeito\, ata ás 21h na praza Maior (Quiosco da música). \n20.00 h. Pasarrúas de Airiños de Orbazai pola rúa Rafael de Vega\, Montero Ríos\, Paxariños e Ramón Montenegro. \n20.00 h. Pasarrúas de Bloco Meigallo pola Tinería\, rúa Nova e praza da Soidade. \n20.00 h. Pasarrúas de Falso Teito pola Fonte do Rei\, rúa san Roque e praza Mártires de Carral. \n20.00 h. VI ELECTRONIC LUCUS FEST coas actuacións de DJ FRISCO & MARCOS PEÓN\, JACOBO GÓMEZ\, JUAN CHOUSA E JOSE FOUCE das 20.00 h ás 02.00 h na praza da Mosqueira. \n21.00 h. Concerto de CRISTINA BRANCO na praza Santa María. \n22.00 h. Concerto de XOEL LÓPEZ na praza Horta do Seminario. Ás 21.00h Teloneiros: Funámbula e os ceos quebradizos. \n23.00 h. Verbena coa orquestra STEREO na praza Maior. \n23.30 h. Concerto de BIZNAGA na praza Santa María. \n01.00 h. FESTICULTORES TROUPE na praza Santa María. \nSAN FROILÁN MIÚDO. ESPECTÁCULOS E ACTIVIDADES PARA TODA A FAMILIA. \nDomingo 5 (San Froilán): \n11.30 h. “XOGOS PAPORRUBIO” de Paporrubio na carpa do San Froilán Miúdo. Xogos de autónomos e animados de temática agraria para todas as idades e desfrutar en familia. Dende ás 11.30h até ás 14.00h. \n12.30 h. “PILOTS” de La Finestra\, espectáculo teatral itinerante de circo para toda a familia. Premio FETÉN 2025 ao mellor espectáculo itinerante. Percorrido; saída dende o San Froilán Miúdo na rúa alcalde Anxo López Pérez\, Bispo Aguirre\, praza Maior e Campo Castelo. \n13.00 h. O SAN FROILÁN MÁXICO NO TEU BARRIO coa actuación “50 (1975-2025)” na praza do Castiñeiro. \n16.00 h. “XOGOS PAPORRUBIO” de Paporrubio na carpa do San Froilán Miúdo. Xogos de autónomos e animados de temática agraria para todas as idades e desfrutar en familia. Dende ás 16.00h até ás 18.00h. \n17.30 h. “PILOTS” de La Finestra\, espectáculo teatral itinerante de circo para toda a familia. Premio FETÉN 2025 ao mellor espectáculo itinerante. Percorrido; saída dende o San Froilán Miúdo na rúa alcalde Anxo López Pérez\, Bispo Aguirre\, praza Maior e Campo Castelo. \n18.00 h. O SAN FROILÁN MÁXICO NO TEU BARRIO coa actuación “50 (1975-2025)” na praza do Castiñeiro. Pases ás 18h ás 1 \n18.30 h. “ROCOCÓ” de Cía Rampante na Carpa do San Froilán Miúdo. \nPrograma do San Froilán 2025
URL:https://vivalugo.es/evento/san-froilan-2025-programa-do-domingo-05/
CATEGORIES:Varios
ATTACH;FMTTYPE=image/jpeg:https://vivalugo.es/wp-content/uploads/2025/09/cartel-san-froilan-2025.jpg
END:VEVENT
BEGIN:VEVENT
DTSTART;TZID=Europe/Madrid:20251005T190000
DTEND;TZID=Europe/Madrid:20251005T190000
DTSTAMP:20260421T151611
CREATED:20250930T171409Z
LAST-MODIFIED:20250930T171503Z
UID:94666-1759690800-1759690800@vivalugo.es
SUMMARY:Inauguración da exposición “Abismos na mirada”
DESCRIPTION:Inauguración da exposición “Abismos na mirada” \nde Alba Vázquez @albavazquezart \nDomingo 05 de outubro \n19:00 horas \nMesón do Forno \nÁs 20h: intervención sonora de Russ (Marta Gilino)\, produtora e artista sonora galega que creará una atmósfera entre a escoita íntima e a enerxía do club\, para este primeiro domingo de San Froilán. \nNesta ocasión @russinha__ trae unha sesión na que a música tradicional galega se mestura coa electrónica\, xerando texturas sonoras que dialogan coas visuais de Antía Carreira aka Tonita\, artista visual desta casa. \n Alba Vázquez\n«A artista visual e ilustradora noiesa\, preséntanos unha serie de gravados coa técnica de xilografía sobre pulpa de papel. \nO proceso parte da transferencia de fotografías a unha plancha de madeira. Unha vez tallada a matriz\, elabórase sobre ela o papel artesanal\, empregando pulpa branca e de cores\, que recolle tamén a textura das zonas talladas. Unha vez seco o papel\, entíntase a matriz e estámpase cun tórculo. \nA temática dos gravados ten que ver coa mirada\, unha das súas obsesións artísticas. Asómbralle o que unha ollada pode transmitir e ao mesmo tempo\, entende que a arte reflicte a mirada do artista\, a súa forma de ver o mundo. Nesta serie de gravados\, transforma esas miradas xogando coa cor e coa abstracción\, e convidando ao espectador a mirar dende outra perspectiva\, a alonxarse e descubrir novas formas de ver.»
URL:https://vivalugo.es/evento/inauguracion-da-exposicion-abismos-na-mirada/
LOCATION:Mesón do Forno\, Rúa Río Ser\, 12\, LUGO\, Lugo\, 27004\, Spain
CATEGORIES:Expos
ATTACH;FMTTYPE=image/jpeg:https://vivalugo.es/wp-content/uploads/2025/09/inauguracion-expo-abismos-mirada.jpg
END:VEVENT
END:VCALENDAR