BEGIN:VCALENDAR
VERSION:2.0
PRODID:-//VivaLugo - ECPv6.15.13.1//NONSGML v1.0//EN
CALSCALE:GREGORIAN
METHOD:PUBLISH
X-WR-CALNAME:VivaLugo
X-ORIGINAL-URL:https://vivalugo.es
X-WR-CALDESC:Eventos para VivaLugo
REFRESH-INTERVAL;VALUE=DURATION:PT1H
X-Robots-Tag:noindex
X-PUBLISHED-TTL:PT1H
BEGIN:VTIMEZONE
TZID:Europe/Madrid
BEGIN:DAYLIGHT
TZOFFSETFROM:+0100
TZOFFSETTO:+0200
TZNAME:CEST
DTSTART:20240331T010000
END:DAYLIGHT
BEGIN:STANDARD
TZOFFSETFROM:+0200
TZOFFSETTO:+0100
TZNAME:CET
DTSTART:20241027T010000
END:STANDARD
BEGIN:DAYLIGHT
TZOFFSETFROM:+0100
TZOFFSETTO:+0200
TZNAME:CEST
DTSTART:20250330T010000
END:DAYLIGHT
BEGIN:STANDARD
TZOFFSETFROM:+0200
TZOFFSETTO:+0100
TZNAME:CET
DTSTART:20251026T010000
END:STANDARD
BEGIN:DAYLIGHT
TZOFFSETFROM:+0100
TZOFFSETTO:+0200
TZNAME:CEST
DTSTART:20260329T010000
END:DAYLIGHT
BEGIN:STANDARD
TZOFFSETFROM:+0200
TZOFFSETTO:+0100
TZNAME:CET
DTSTART:20261025T010000
END:STANDARD
END:VTIMEZONE
BEGIN:VEVENT
DTSTART;VALUE=DATE:20251007
DTEND;VALUE=DATE:20251008
DTSTAMP:20260421T180648
CREATED:20250927T163412Z
LAST-MODIFIED:20250927T163412Z
UID:94498-1759795200-1759881599@vivalugo.es
SUMMARY:San Froilán 2025 - Programa do martes 07
DESCRIPTION:MARTES 7 (Día dos maiores). \n12.00 h. Pasarrúas de Caivanca pola rúa Quiroga Ballesteros\, Mercado Municipal\, Praza de Abastos e praza Santo Domingo. \n18.00 h. Verbena coa orquestra PRINCIPAL na praza Maior. \n19.00 h. Letra das Festas 2025 (a revista oral do San Froilán)\, Chegaron de lonxe: a poboación inmigrante no San Froilán. Lembranzas e sucedidos das nosas festas\, no Centro Cultural Vello Cárcere. \n19.30 h. Pasarrúas de Airiños de Orbazai polos barrios de Albeiros e Gándaras. \n20.00 h. Pasarrúas de Foilada de Bosende por Recatelo e Recinto Feiral. \n20.00 h. Pasarrúas de Estoupacaldeiros pola Avenida das Américas e rúa Marqués de Ombreiro. \n20.00 h. Concerto de VRASICA na praza da Mosqueira. \n20.00 h. Concerto de ZARANDELA na praza de Santa María. \n21.00 h. Concerto de IRMAUS DA RAIA SECA na praza de Santa María. \n22.00 h. Concerto de UNTIDES na praza da Mosqueira. \nSAN FROILÁN MIÚDO. ESPECTÁCULOS E ACTIVIDADES PARA TODA A FAMILIA. \nMartes 7: \n16.00 h. “STEAM PINBALLS” de Holoqué Espectaculum. Instalación participativa de realidad mixta en la que se mezclan las artes escénicas\, la artesanía y la tecnología inmersiva. Até ás 18h. \n18.30 h. “CRUNCH 2” de Muu na carpa do San Froilán Miúdo. \nPrograma do San Froilán 2025
URL:https://vivalugo.es/evento/san-froilan-2025-programa-do-martes-07/
CATEGORIES:Varios
ATTACH;FMTTYPE=image/jpeg:https://vivalugo.es/wp-content/uploads/2025/09/cartel-san-froilan-2025.jpg
END:VEVENT
END:VCALENDAR