BEGIN:VCALENDAR
VERSION:2.0
PRODID:-//VivaLugo - ECPv6.15.13.1//NONSGML v1.0//EN
CALSCALE:GREGORIAN
METHOD:PUBLISH
X-WR-CALNAME:VivaLugo
X-ORIGINAL-URL:https://vivalugo.es
X-WR-CALDESC:Eventos para VivaLugo
REFRESH-INTERVAL;VALUE=DURATION:PT1H
X-Robots-Tag:noindex
X-PUBLISHED-TTL:PT1H
BEGIN:VTIMEZONE
TZID:Europe/Madrid
BEGIN:DAYLIGHT
TZOFFSETFROM:+0100
TZOFFSETTO:+0200
TZNAME:CEST
DTSTART:20240331T010000
END:DAYLIGHT
BEGIN:STANDARD
TZOFFSETFROM:+0200
TZOFFSETTO:+0100
TZNAME:CET
DTSTART:20241027T010000
END:STANDARD
BEGIN:DAYLIGHT
TZOFFSETFROM:+0100
TZOFFSETTO:+0200
TZNAME:CEST
DTSTART:20250330T010000
END:DAYLIGHT
BEGIN:STANDARD
TZOFFSETFROM:+0200
TZOFFSETTO:+0100
TZNAME:CET
DTSTART:20251026T010000
END:STANDARD
BEGIN:DAYLIGHT
TZOFFSETFROM:+0100
TZOFFSETTO:+0200
TZNAME:CEST
DTSTART:20260329T010000
END:DAYLIGHT
BEGIN:STANDARD
TZOFFSETFROM:+0200
TZOFFSETTO:+0100
TZNAME:CET
DTSTART:20261025T010000
END:STANDARD
END:VTIMEZONE
BEGIN:VEVENT
DTSTART;VALUE=DATE:20251008
DTEND;VALUE=DATE:20251009
DTSTAMP:20260421T191831
CREATED:20250927T163557Z
LAST-MODIFIED:20250927T163557Z
UID:94500-1759881600-1759967999@vivalugo.es
SUMMARY:San Froilán 2025 - Programa do mércores 08
DESCRIPTION:MÉRCORES 8. \n19.00 h. Presentación do número 22 da Colección San Froilán dos Devanceiros: “VIVA O SAN FROILÁN 2018-2024. Fotografías e ilustracións” V.V.A.A. no centro cultural O Vello Cárcere. \n20.00 h. Pasarrúas de XAORA pola Avenida da Coruña. \n20.00 h. Concerto de CANTAREIRAS D’XANARES na praza da Mosqueira. \n20.00 h. Pasarrúas de Caivanca polas rúas Rafael de Vega\, Montero Ríos\, Paxariños e Ramón Montenegro. \n21.00 h. Concerto de UXÍA; Será por flores na praza Santa María. Ás 20.00h Teloneiros: Nebra. \n22.00 h. Concerto de EL NIDO na praza da Mosqueira. \nSAN FROILÁN MIÚDO. ESPECTÁCULOS E ACTIVIDADES PARA TODA A FAMILIA. \nMércores 8: \n16.00 h. “STEAM PINBALLS” de Holoqué Espectaculum. Instalación participativa de realidad mixta en la que se mezclan las artes escénicas\, la artesanía y la tecnología inmersiva. Até ás 18h. \n18.30 h. “HUMANUS COMICUS” de Mondo Costrini na carpa do San Froilán Miúdo. \n Programa do San Froilán 2025
URL:https://vivalugo.es/evento/san-froilan-2025-programa-do-mercores-08/
LOCATION:Lugo
CATEGORIES:Varios
ATTACH;FMTTYPE=image/jpeg:https://vivalugo.es/wp-content/uploads/2025/09/cartel-san-froilan-2025.jpg
END:VEVENT
END:VCALENDAR