BEGIN:VCALENDAR
VERSION:2.0
PRODID:-//VivaLugo - ECPv6.15.13.1//NONSGML v1.0//EN
CALSCALE:GREGORIAN
METHOD:PUBLISH
X-WR-CALNAME:VivaLugo
X-ORIGINAL-URL:https://vivalugo.es
X-WR-CALDESC:Eventos para VivaLugo
REFRESH-INTERVAL;VALUE=DURATION:PT1H
X-Robots-Tag:noindex
X-PUBLISHED-TTL:PT1H
BEGIN:VTIMEZONE
TZID:Europe/Madrid
BEGIN:DAYLIGHT
TZOFFSETFROM:+0100
TZOFFSETTO:+0200
TZNAME:CEST
DTSTART:20240331T010000
END:DAYLIGHT
BEGIN:STANDARD
TZOFFSETFROM:+0200
TZOFFSETTO:+0100
TZNAME:CET
DTSTART:20241027T010000
END:STANDARD
BEGIN:DAYLIGHT
TZOFFSETFROM:+0100
TZOFFSETTO:+0200
TZNAME:CEST
DTSTART:20250330T010000
END:DAYLIGHT
BEGIN:STANDARD
TZOFFSETFROM:+0200
TZOFFSETTO:+0100
TZNAME:CET
DTSTART:20251026T010000
END:STANDARD
BEGIN:DAYLIGHT
TZOFFSETFROM:+0100
TZOFFSETTO:+0200
TZNAME:CEST
DTSTART:20260329T010000
END:DAYLIGHT
BEGIN:STANDARD
TZOFFSETFROM:+0200
TZOFFSETTO:+0100
TZNAME:CET
DTSTART:20261025T010000
END:STANDARD
END:VTIMEZONE
BEGIN:VEVENT
DTSTART;VALUE=DATE:20251009
DTEND;VALUE=DATE:20251010
DTSTAMP:20260421T203725
CREATED:20250927T163747Z
LAST-MODIFIED:20251002T141858Z
UID:94502-1759968000-1760054399@vivalugo.es
SUMMARY:San Froilán 2025 - Programa do xoves 09
DESCRIPTION:XOVES 9. \n17.00 h. Actuación de “PITUQUITO LITERAL” de Trécola Producións\, espectáculo para público familiar na praza da Soidade. \n17.00 h. IX ESPAZO HIP HOP coas actuacións de IVÁN CANO + MIDAS ALONSO + BATALLAS DE GALOS\, na praza da Mosqueira até ás 00.00h. \n19:00 h. Concerto da Banda Municipal no Templete da Praza Maior. \n20.00 h. Pasarrúas de Son de Lugh polas rúas Ourense\, Lamas de Prado e praza do Castiñeiro. \n20.00 h. Pasarrúas de Xaora pola Fonte do Rei\, rúa San Roque e praza Mártires de Carral. \n21.00 h. Concerto de VERA FAUNA na praza Santa María. Ás 20.00h Teloneiros: Jade4. \n23.30 h. Concerto de BALA na praza Santa María. \nSAN FROILÁN MIÚDO. ESPECTÁCULOS E ACTIVIDADES PARA TODA A FAMILIA. \nXoves 9: \n17.00 h. Actuación de “PITUQUITO LITERAL” de Trécola Producións\, espectáculo de títeres para público familiar na praza da Soidade. \n18.30 h. “GRAN SONATA” de Le Puant na carpa do San Froilán Miúdo. \nPrograma completo do San Froilán 2025
URL:https://vivalugo.es/evento/san-froilan-2025-programa-do-xoves-09/
LOCATION:Lugo
CATEGORIES:Varios
ATTACH;FMTTYPE=image/jpeg:https://vivalugo.es/wp-content/uploads/2025/09/cartel-san-froilan-2025.jpg
END:VEVENT
BEGIN:VEVENT
DTSTART;TZID=Europe/Madrid:20251009T183000
DTEND;TZID=Europe/Madrid:20251009T183000
DTSTAMP:20260421T203725
CREATED:20251008T223316Z
LAST-MODIFIED:20251008T223527Z
UID:94920-1760034600-1760034600@vivalugo.es
SUMMARY:Lugopoética 2025 con Mar Ferreiro Rozas\, Lucía López Cancio e Gustavo Díaz Rey
DESCRIPTION:Lugopoética 2025 con Mar Ferreiro Rozas\, Lucía López Cancio e Gustavo Díaz Rey \n9 de Outubro de 2025 – 18:30 horas \nActividade gratuíta \nSalón de Actos da UNED Lugo ou online (+ info) \nMar Ferreiro Rozas \nNada na cidade de Lugo o día de Nadal de1973\, e oriunda de San Adriano (Lourenzá). Xurista de profesión\, cunha larga traxectoria como Xuíza e Avogada. No 2023\, publicou o seu primeiro libro de poesía\, en castelán\, que leva por título “Llegarás (entretanto es tiempo de vivir y/o malvivir)”\, \nLucía López Cancio \nGraduada en educación social e no máster de profesorado pola Uned\, especialidade de Intervención Sociocomunitaria\, exerceu como profesora de F.P. e educadora social. Actualmente\, estudaTraballo Social na Uned\, á vez que exerce como educadora\, manténdose en contacto coas persoas (nenos\, adolescentes\, 3ª idade…) das que aprende e se sinte inspirada para crear poemas a través dunha ollada máis fonda da realidade. \nGustavo Enrique Díaz Rey \nGraduado en Dereito pola UNED\, actualmente está finalizando o Máster de Acceso á Avogacía. Como poeta\, escribe de maneira espontánea e persoal como unha forma de gardar na memoria e na retina imaxes que lle impactan. Baséase na observación do entorno dunha pequena aldea de Láncara\, lugar natal da súa muller.
URL:https://vivalugo.es/evento/lugopoetica-2025-con-mar-ferreiro-rozas-lucia-lopez-cancio-e-gustavo-diaz-rey/
LOCATION:UNED LUGO\, Tolda de Castela Nº4B\, Lugo\, 27169
CATEGORIES:Artes escénicas
ATTACH;FMTTYPE=image/jpeg:https://vivalugo.es/wp-content/uploads/2025/10/lugopoetica-2025-programa.jpg
END:VEVENT
BEGIN:VEVENT
DTSTART;TZID=Europe/Madrid:20251009T190000
DTEND;TZID=Europe/Madrid:20251009T190000
DTSTAMP:20260421T203725
CREATED:20250930T171028Z
LAST-MODIFIED:20250930T171028Z
UID:94663-1760036400-1760036400@vivalugo.es
SUMMARY:Actividades polo 30° Aniversario de ALUME
DESCRIPTION:Actividades polo 30° Aniversario de ALUME \n«Estamos de 30° Aniversario. Alégranos moito contarvos que o próximo día 9 de outubro celebraremos que cumprimos tres décadas acompañando a saúde mental en Lugo.O acto terá lugar no Museo Interactivo da Historia de Lugo ás 19.00 hEstades todas/os convidadas/os a facernos compañía neste día tan especial» \nConferencia «Otra salud mental es posible» \nEntrega premio socio de honra \nAmenizado por Tradescola \nÁgape \n 
URL:https://vivalugo.es/evento/actividades-polo-30-aniversario-de-alume/
LOCATION:MIHL\, Av Infanta Elena\, s/n\, Lugo
CATEGORIES:Varios
ATTACH;FMTTYPE=image/jpeg:https://vivalugo.es/wp-content/uploads/2025/09/actividades-30-aniversario-alume.jpg
END:VEVENT
BEGIN:VEVENT
DTSTART;TZID=Europe/Madrid:20251009T193000
DTEND;TZID=Europe/Madrid:20251009T193000
DTSTAMP:20260421T203725
CREATED:20251002T133947Z
LAST-MODIFIED:20251008T213909Z
UID:94752-1760038200-1760038200@vivalugo.es
SUMMARY:Presentación de "Literatura insólita" de Armando Requeixo
DESCRIPTION:Presentación de «Literatura insólita» de Armando Requeixo. \nO xoves 9 de outubro\, ás 19:30 h\, na libraría La voz de la Verdad\, en Lugo \nAcompañando o autor\, estarán Toño Núñez\, escritor e profesor; Tonina Gay Parga\, xornalista e dinamizadora cultural; e Grial Parga (Editorial Galaxia). \nEditorial Galaxia vén de publicar «Literatura insólita»\, un volume no\nque Armando Requeixo reúne unha ampla selección de artigos dedicados a\nexplorar o lado máis curioso\, sorprendente e misterioso da creación\nliteraria. \nUnha viaxe polas rarezas e misterios da literatura que percorre costumes\ne manías de escritores\, profesións paralelas\, precocidades e\nlonxevidades literarias\, mortes novelescas\, traizóns póstumas\, títulos\nsingulares\, linguas insólitas\, dedicatorias únicas ou volumes\nprohibidos. \nAo longo das súas páxinas tamén se abordan temas como illas e reinos\nfabulados\, o xadrez\, os cemiterios\, os trens\, o humor\, a medicina\, as\ninvasións\, os naufraxios\, as matemáticas\, o deporte\, os templarios\, os\ncabalos\, os paraugas ou a intelixencia artificial. \nUn libro que se converte nun convite para mergullarse no lado oculto e\nmarabilloso da literatura.
URL:https://vivalugo.es/evento/presentacion-de-literatura-insolita-de-armando-requeixo/
LOCATION:La Voz de la Verdad\, Rúa Bispo Aguirre\, 17\, LUGO\, Lugo\, 27002\, Spain
CATEGORIES:Presentaciones
ATTACH;FMTTYPE=image/jpeg:https://vivalugo.es/wp-content/uploads/2025/10/presentacion-literatura-insolita.jpg
END:VEVENT
BEGIN:VEVENT
DTSTART;TZID=Europe/Madrid:20251009T220000
DTEND;TZID=Europe/Madrid:20251009T220000
DTSTAMP:20260421T203725
CREATED:20251007T151901Z
LAST-MODIFIED:20251007T151901Z
UID:94899-1760047200-1760047200@vivalugo.es
SUMMARY:Jueves de comedia con Pepo Suevos
DESCRIPTION:Jueves de comedia con Pepo Suevos \nJueves 9 de octubre\, Sala Sweet Lugo \nApertura de puertas: 22:00 h \nInicio del espectáculo: 23:00 h \nPepo Suevos es una de las figuras más queridas del humor gallego. Ha participado en producciones tan destacadas como la serie Fariña\, y es colaborador habitual de la Televisión de Galicia\, donde combina su talento humorístico con una amplia trayectoria en teatro y cine. \nSu estilo fresco y directo\, lleno de ironía y cotidianidad\, promete una noche de risas aseguradas.
URL:https://vivalugo.es/evento/jueves-de-comedia-con-pepo-suevos/
LOCATION:Sweet Lugo\, Avelino Pousa Antelo 8\, Recatelo (Parque de Rosalía de Castro)\, Lugo
CATEGORIES:Artes escénicas
ATTACH;FMTTYPE=image/jpeg:https://vivalugo.es/wp-content/uploads/2025/10/jueves-de-comedia-pepo-suevos-scaled.jpg
END:VEVENT
END:VCALENDAR