BEGIN:VCALENDAR
VERSION:2.0
PRODID:-//VivaLugo - ECPv6.15.13.1//NONSGML v1.0//EN
CALSCALE:GREGORIAN
METHOD:PUBLISH
X-WR-CALNAME:VivaLugo
X-ORIGINAL-URL:https://vivalugo.es
X-WR-CALDESC:Eventos para VivaLugo
REFRESH-INTERVAL;VALUE=DURATION:PT1H
X-Robots-Tag:noindex
X-PUBLISHED-TTL:PT1H
BEGIN:VTIMEZONE
TZID:Europe/Madrid
BEGIN:DAYLIGHT
TZOFFSETFROM:+0100
TZOFFSETTO:+0200
TZNAME:CEST
DTSTART:20240331T010000
END:DAYLIGHT
BEGIN:STANDARD
TZOFFSETFROM:+0200
TZOFFSETTO:+0100
TZNAME:CET
DTSTART:20241027T010000
END:STANDARD
BEGIN:DAYLIGHT
TZOFFSETFROM:+0100
TZOFFSETTO:+0200
TZNAME:CEST
DTSTART:20250330T010000
END:DAYLIGHT
BEGIN:STANDARD
TZOFFSETFROM:+0200
TZOFFSETTO:+0100
TZNAME:CET
DTSTART:20251026T010000
END:STANDARD
BEGIN:DAYLIGHT
TZOFFSETFROM:+0100
TZOFFSETTO:+0200
TZNAME:CEST
DTSTART:20260329T010000
END:DAYLIGHT
BEGIN:STANDARD
TZOFFSETFROM:+0200
TZOFFSETTO:+0100
TZNAME:CET
DTSTART:20261025T010000
END:STANDARD
END:VTIMEZONE
BEGIN:VEVENT
DTSTART;VALUE=DATE:20251011
DTEND;VALUE=DATE:20251012
DTSTAMP:20260421T231238
CREATED:20250927T164119Z
LAST-MODIFIED:20250927T164119Z
UID:94506-1760140800-1760227199@vivalugo.es
SUMMARY:San Froilán 2025 - Programa do sábado 11
DESCRIPTION:SÁBADO 11 (Dia do Ferrol). \n11.00 h. Feira de antigüidades e coleccionismo na rúa da Raíña. Todo o día. \n11.00 h. «V SALTAR NA RÚA – MILLA POPULAR LUCUS» na praza Horta do Seminario. Exhibición de saltos ás 11.00h e milla popular urbana ás 13.00h. \n12.00 h. Pasarrúas de Airiños de Orbazai pola rúa San Marcos\, Montevideo. Bolaño Ribadeneira\, Nova e praza do Ferrol. \n12.30 H. Recepción oficial á Corporación do Concello de Ferrol no salón de plenos na Casa do Concello. \n12.30 h. Concerto de BANDA DE MÚSICA SONS E SOÑOS na praza da Mosqueira. \n12.30 h. Espectáculo itinerante “RUM RUM” de Xip Xap Teatre. Espectáculo teatral para público familiar. Percorrido; saída dende o San Froilán Miúdo na rúa alcalde Anxo López Pérez\, Bispo Aguirre\, praza Maior e Campo Castelo. \n12.30 h. Os Pelúdez entre nós polo Recinto Feiral. \n13.00 h. O SAN FROILÁN MÁXICO NO TEU BARRIO coa actuación “50 (1975-2025)” na praza de Agro do Rolo. \n13.00 h. XXII FESTIVAL DE CULTURA TRADICIONAL coa Asociación Cultural Cántigas e Frores e coas actuacións de Asociación Cultural Cántigas e Frores e Asociación Cultural Rebulir na praza Santa María. \n17.30 h. Espectáculo itinerante “RUM RUM” de Xip Xap Teatre. Espectáculo teatral para público familiar. Percorrido; saída dende o San Froilán Miúdo na rúa alcalde Anxo López Pérez\, Bispo Aguirre\, praza Maior e Campo Castelo.. \n18.00 h. Actuación de A VOLTA DO AGRO na praza de Santo Domingo. \n18.00 h. O SAN FROILÁN MÁXICO NO TEU BARRIO coa actuación “50 (1975-2025)” na praza Agro do Rolo. Pases ás 18.00\, 19.30 e 21.00h. \n18.00 h. Verbena coa orquestra OCA BAND\, e DJ Manu Chady ata ás 0.00h\, na praza de Augas Férreas. \n19.00 h. Pasarrúas de Treboada por Augas Férreas e rúa Alfonso X. \n20.00 h. Pasarrúas de Os Picurruchos pola Ronda das Fontiñas. \n20.00 h. Pasarrúas de Petiscos de Balde polo Barrio da Ponte. \n20.00 h. Pasarrúas de Tambukda pola Tinería. \n20.00 h. Concerto de SIGILU na praza da Mosqueira. \n21.00 h. Concerto de QUERALT LAHOZ na praza Santa María. \n22.00 h. Concerto de ANXO ARAUJO na praza da Mosqueira. \n22.00 h. Concerto de EL CONSORCIO na Horta do Seminario. Ás 21.00h Teloneiros: Iria Estévez e Luis Monsalve\, cuarteto de corda. \n23.00 h. Verbena coa orquestra COSTA DORADA na praza Maior. \n23.30 h. Concerto de DE NINGHURES na praza Santa María. \n00.30 h. A DUENDENETA na praza da Soidade. \nSAN FROILÁN MIÚDO. ESPECTÁCULOS E ACTIVIDADES PARA TODA A FAMILIA. \nSábado 11(Día do Ferrol): \n11.30 h. “XOGOS AO GRANDE” na carpa do San Froilán Miúdo. Orixinais e únicos xogos artesáns de madeira para toda a familia. Constrúe\, apunta\, golpea e lanza. Saca a relucir a túa coordinación e equilibrio\, a túa destreza e puntería. Dende ás 11.30h até ás 14.00h. \n12.30 h. “RUM RUM”. Espectáculo teatral itinerante para público familiar de Xip Xap Teatre. Percorrido; saída dende o San Froilán Miúdo na rúa alcalde Anxo López Pérez\, Bispo Aguirre\, praza Maior e Campo Castelo. \n13.00 h. O SAN FROILÁN MÁXICO NO TEU BARRIO coa actuación “50 (1975-2025)” na praza Agro do Rolo. \n16.00 h. “XOGOS AO GRANDE” na carpa do San Froilán Miúdo. Orixinais e únicos xogos artesáns de madeira para toda a familia. Constrúe\, apunta\, golpea e lanza. Saca a relucir a túa coordinación e equilibrio\, a túa destreza e puntería. Dende ás 16.00h até ás 18.00h. \n17.30 h. “RUM RUM”. Espectáculo teatral itinerante para público familiar de Xip Xap Teatre. Percorrido; saída dende o San Froilán Miúdo na rúa alcalde Anxo López Pérez\, Bispo Aguirre\, praza Maior e Campo Castelo. \n18.00 h. O SAN FROILÁN MÁXICO NO TEU BARRIO coa actuación “50 (1975-2025)” na praza Agro do Rolo. Pases ás 18.00\, 19.30 e 21.00h. \n18.30 h. “DE VILATRISTE A VILALEGRE” de Teatro ao Cubo na carpa do San Froilán Miúdo. \nPrograma completo do San Froilán
URL:https://vivalugo.es/evento/san-froilan-2025-programa-do-sabado-11/
LOCATION:Lugo
CATEGORIES:Varios
ATTACH;FMTTYPE=image/jpeg:https://vivalugo.es/wp-content/uploads/2025/09/cartel-san-froilan-2025.jpg
END:VEVENT
BEGIN:VEVENT
DTSTART;VALUE=DATE:20251011
DTEND;VALUE=DATE:20251013
DTSTAMP:20260421T231238
CREATED:20251009T160115Z
LAST-MODIFIED:20251009T160115Z
UID:94951-1760140800-1760313599@vivalugo.es
SUMMARY:Oktober Ink 2025
DESCRIPTION:Oktober Ink 2025 \nSábado 11 e domingo 12 de outubro na Capela de Santa María \nEntrada gratuíta \nMúsica\, tatuxes\, food trucks…
URL:https://vivalugo.es/evento/oktober-ink-2025/
LOCATION:Lugo
CATEGORIES:Artes escénicas
ATTACH;FMTTYPE=image/jpeg:https://vivalugo.es/wp-content/uploads/2025/10/oktober-ink-2025.jpg
END:VEVENT
BEGIN:VEVENT
DTSTART;TZID=Europe/Madrid:20251011T110000
DTEND;TZID=Europe/Madrid:20251011T110000
DTSTAMP:20260421T231238
CREATED:20251009T155649Z
LAST-MODIFIED:20251009T155818Z
UID:94948-1760180400-1760180400@vivalugo.es
SUMMARY:Guido Guía "O regueiro das hortas"
DESCRIPTION:Guido Guía «O regueiro das hortas» \nSábado 11 de outubro de 2025 \n11:00 horas \nPunto de encontro: Parque de Rosalía de Castro\, Lugo \nInscricións: guidoguiaturismo@gmail.com
URL:https://vivalugo.es/evento/guido-guia-o-regueiro-das-hortas/
LOCATION:Lugo
ATTACH;FMTTYPE=image/jpeg:https://vivalugo.es/wp-content/uploads/2025/10/guido-guia-regueiro.jpg
END:VEVENT
END:VCALENDAR