BEGIN:VCALENDAR
VERSION:2.0
PRODID:-//VivaLugo - ECPv6.15.13.1//NONSGML v1.0//EN
CALSCALE:GREGORIAN
METHOD:PUBLISH
X-ORIGINAL-URL:https://vivalugo.es
X-WR-CALDESC:Eventos para VivaLugo
REFRESH-INTERVAL;VALUE=DURATION:PT1H
X-Robots-Tag:noindex
X-PUBLISHED-TTL:PT1H
BEGIN:VTIMEZONE
TZID:Europe/Madrid
BEGIN:DAYLIGHT
TZOFFSETFROM:+0100
TZOFFSETTO:+0200
TZNAME:CEST
DTSTART:20240331T010000
END:DAYLIGHT
BEGIN:STANDARD
TZOFFSETFROM:+0200
TZOFFSETTO:+0100
TZNAME:CET
DTSTART:20241027T010000
END:STANDARD
BEGIN:DAYLIGHT
TZOFFSETFROM:+0100
TZOFFSETTO:+0200
TZNAME:CEST
DTSTART:20250330T010000
END:DAYLIGHT
BEGIN:STANDARD
TZOFFSETFROM:+0200
TZOFFSETTO:+0100
TZNAME:CET
DTSTART:20251026T010000
END:STANDARD
BEGIN:DAYLIGHT
TZOFFSETFROM:+0100
TZOFFSETTO:+0200
TZNAME:CEST
DTSTART:20260329T010000
END:DAYLIGHT
BEGIN:STANDARD
TZOFFSETFROM:+0200
TZOFFSETTO:+0100
TZNAME:CET
DTSTART:20261025T010000
END:STANDARD
END:VTIMEZONE
BEGIN:VEVENT
DTSTART;TZID=Europe/Madrid:20251013T193000
DTEND;TZID=Europe/Madrid:20251017T193000
DTSTAMP:20260424T130308
CREATED:20251009T145455Z
LAST-MODIFIED:20251009T145518Z
UID:94936-1760383800-1760729400@vivalugo.es
SUMMARY:“Semana de Cine de catro países”
DESCRIPTION:O Club Cultural Valle-Inclán inicia as actividades do derradeiro trimestre do ano 2025 cunha “Semana de Cine de catro países” que se iniciará o luns\, día 13 de outubro\, coa proxección de Filtrando la luz\, de Xacobe  Meléndez Fassbender\, documental que percorre a historia do movemento ecoloxista galego. Asítirán á presentación o director e dous dos entrevistados\, Sonsoles Izquierdo e Fernando Arribas. \nTerá lugar no Salón de Actos do Centro Cultural O Vello Cárcere\, en sesión de 19:30 horas. \nEntrada libre e de balde ata completar aforo. \nA semana seguirá de acordo co seguinte programa en VOSE: \n* Día 14 de outubro: Bauryna salu\, de Askhat Kuchencherekov\, Kazajstán – 113 min \n* Día 16 de outubro: The Teacher\, de Farah Nabulsi\, Palestina – 2023 – 115 min \n* Día 17 de outubro: Memorias de un caracol\, de Adam Elliot\, Australia – 2024. 94 min \n 
URL:https://vivalugo.es/evento/semana-de-cine-de-catro-paises/
LOCATION:O Vello Cárcere\, Av. Alcalde Anxo López Pérez\, 10\, Lugo\, Lugo\, 27002\, Spain
CATEGORIES:Cine
ATTACH;FMTTYPE=image/jpeg:https://vivalugo.es/wp-content/uploads/2025/10/semana-cine-catro-paises.jpg
END:VEVENT
BEGIN:VEVENT
DTSTART;VALUE=DATE:20251017
DTEND;VALUE=DATE:20251018
DTSTAMP:20260424T130308
CREATED:20251016T113815Z
LAST-MODIFIED:20251016T113815Z
UID:95627-1760659200-1760745599@vivalugo.es
SUMMARY:Conciertos a la luz de las velas
DESCRIPTION:Conciertos a la luz de las velas  \n«Revive la magia de los conciertos a la luz de las velas con dos conciertos: Tributo a Coldplay vs. Imagine Dragons a las 19.00 h. y Tributo a Hans Zimmer a las 21.00 horas. \nFecha: Viernes 17 de octubre\nHora: a las 19.00 y a las 21.00 h\nPrecio: 14 euros Coldplay y 15 euros Hans Zimmer.\nSalón Regio\nDuración: 60 minutos (apertura de puertas 45 minutos antes\, no se podrá acceder tras el inicio)\nEdad: a partir de 8 años. Los menores de 16 años deberán acudir acompañados por un adulto»
URL:https://vivalugo.es/evento/conciertos-a-la-luz-de-las-velas/
LOCATION:Círculo das Artes\, Praza Maior\, 23\, Lugo\, Lugo\, 27001\, Spain
CATEGORIES:Conciertos
ATTACH;FMTTYPE=image/jpeg:https://vivalugo.es/wp-content/uploads/2025/10/conciertos-luz-velas.jpg
END:VEVENT
BEGIN:VEVENT
DTSTART;TZID=Europe/Madrid:20251017T190000
DTEND;TZID=Europe/Madrid:20251017T190000
DTSTAMP:20260424T130308
CREATED:20250930T143649Z
LAST-MODIFIED:20250930T143649Z
UID:94625-1760727600-1760727600@vivalugo.es
SUMMARY:Visita guiada á mostra de Antía Carreira en Leira
DESCRIPTION:Visita guiada á mostra de Antía Carreira en Leira \nVisitas guiadas os días 17/10\, 31/10 e o 14/11 ás 19:00 horas\, e mediante cita previa en leirahaus@gmail.com \nDentro do ciclo de residencias comisariado por Visión Periférica \nArtigo con máis información en VivaLugo: Nova mostra de Antía Carreira en Leira.
URL:https://vivalugo.es/evento/visita-guiada-a-mostra-de-antia-carreira-en-leira/
LOCATION:Leira Haus\, Praza do Campo 1 bis\, Lugo\, 27001
CATEGORIES:Expos
ATTACH;FMTTYPE=image/jpeg:https://vivalugo.es/wp-content/uploads/2025/09/antia-carreira-residencia-artistica.jpg
END:VEVENT
BEGIN:VEVENT
DTSTART;TZID=Europe/Madrid:20251017T190000
DTEND;TZID=Europe/Madrid:20251017T190000
DTSTAMP:20260424T130308
CREATED:20251016T114658Z
LAST-MODIFIED:20251016T114658Z
UID:95634-1760727600-1760727600@vivalugo.es
SUMMARY:Enfiando o inmaterial
DESCRIPTION:Enfiando o inmaterial \nVenres 17 de outubro\, ás 19.00 h\, na Sala de mosaicos do Museo Provincial de Lugo \nEste evento\, organizado co gallo do Día Internacional do Patrimonio Cultural Inmaterial\, contará coa participación da Asociación Cultural e Pedagóxica Ponte… nas ondas! e coa presenza de Xermán Díaz\, Antía Montes\, Xabier Mailán e Lois Pérez.
URL:https://vivalugo.es/evento/enfiando-o-inmaterial/
LOCATION:Museo Provincial de Lugo\, Praza da Soidade\, s/n\, Lugo\, 27001
CATEGORIES:Artes escénicas
ATTACH;FMTTYPE=image/jpeg:https://vivalugo.es/wp-content/uploads/2025/10/enfiando-o-inmaterial.jpg
END:VEVENT
BEGIN:VEVENT
DTSTART;TZID=Europe/Madrid:20251017T200000
DTEND;TZID=Europe/Madrid:20251017T200000
DTSTAMP:20260424T130308
CREATED:20251015T104444Z
LAST-MODIFIED:20251015T110216Z
UID:95565-1760731200-1760731200@vivalugo.es
SUMMARY:Inauguración da exposición "Unha retratos-pectiva Noírica"
DESCRIPTION:Inauguración da exposición «Unha retratos-pectiva Noírica» \nVenres 17/10 – 20:00 horas – Museo MIHL \nUnha exposición da artista lucense Noa Persán donde os rostros -reales ou imaxinados- habitan un universo profundamente onírico e surrealista. \nA través desta retrospectiva\, Persán invítanos a percorrer o seu imaxinario visual\, poboado de miradas que desdebuxan a fronteira entre o soñado e o vivido. \nSala temporales MIHL\nAta 25 novembro
URL:https://vivalugo.es/evento/inauguracion-da-exposicion-unha-retratos-pectiva-noirica/
LOCATION:MIHL\, Av Infanta Elena\, s/n\, Lugo
CATEGORIES:Expos
ATTACH;FMTTYPE=image/jpeg:https://vivalugo.es/wp-content/uploads/2025/10/inauguracion-expo-noa-persan-mihl.jpg
END:VEVENT
BEGIN:VEVENT
DTSTART;TZID=Europe/Madrid:20251017T220000
DTEND;TZID=Europe/Madrid:20251017T220000
DTSTAMP:20260424T130308
CREATED:20251016T115307Z
LAST-MODIFIED:20251016T201353Z
UID:95640-1760738400-1760738400@vivalugo.es
SUMMARY:CANCELADO - Chemical Addicts en concerto no Clavi
DESCRIPTION:CANCELADO – Chemical Addicts en concerto no Clavi \nVenres 17 de outubro de 2025 \n22:00 horas \nClub Clavicémbalo de Lugo
URL:https://vivalugo.es/evento/chemical-addicts-en-concerto-no-clavi/
LOCATION:Club Clavicémbalo\, Rúa dos Paxariños\, 23\, Lugo\, Lugo\, 27002\, Spain
CATEGORIES:Conciertos
ATTACH;FMTTYPE=image/jpeg:https://vivalugo.es/wp-content/uploads/2025/10/programacion-club-clavicembalo-outubro-2025.jpg
END:VEVENT
BEGIN:VEVENT
DTSTART;TZID=Europe/Madrid:20251017T223000
DTEND;TZID=Europe/Madrid:20251017T223000
DTSTAMP:20260424T130308
CREATED:20251015T154104Z
LAST-MODIFIED:20251015T154104Z
UID:95623-1760740200-1760740200@vivalugo.es
SUMMARY:Concierto de "Los hijos de la vecina"
DESCRIPTION:Concierto de «Los hijos de la vecina» \n[ VERSIONES INDIE ESPAÑOL ] \nVIERNES 17.OCT.2025\n22:30 H. SALA JAGGER LUGO \nAnticipada: 10€\nTaquilla: 12€
URL:https://vivalugo.es/evento/concierto-de-los-hijos-de-la-vecina/
LOCATION:Sala Jagger\, Rua da Cruz 20\, Lugo\, Lugo\, 27001
CATEGORIES:Conciertos
ATTACH;FMTTYPE=image/jpeg:https://vivalugo.es/wp-content/uploads/2025/10/concierto-los-hijos-de-la-vecina.jpg
END:VEVENT
BEGIN:VEVENT
DTSTART;TZID=Europe/Madrid:20251017T223000
DTEND;TZID=Europe/Madrid:20251017T223000
DTSTAMP:20260424T130308
CREATED:20251016T201619Z
LAST-MODIFIED:20251016T201619Z
UID:95692-1760740200-1760740200@vivalugo.es
SUMMARY:Concerto de "Seixo"
DESCRIPTION:Concerto de «Seixo» \nVenres 17 de outubro de 2025 \n22:30 horas \nClub Clavicémbalo de Lugo
URL:https://vivalugo.es/evento/concerto-de-seixo/
LOCATION:Club Clavicémbalo\, Rúa dos Paxariños\, 23\, Lugo\, Lugo\, 27002\, Spain
CATEGORIES:Conciertos
ATTACH;FMTTYPE=image/jpeg:https://vivalugo.es/wp-content/uploads/2025/10/concerto-seixo.jpg
END:VEVENT
END:VCALENDAR