BEGIN:VCALENDAR
VERSION:2.0
PRODID:-//VivaLugo - ECPv6.15.13.1//NONSGML v1.0//EN
CALSCALE:GREGORIAN
METHOD:PUBLISH
X-ORIGINAL-URL:https://vivalugo.es
X-WR-CALDESC:Eventos para VivaLugo
REFRESH-INTERVAL;VALUE=DURATION:PT1H
X-Robots-Tag:noindex
X-PUBLISHED-TTL:PT1H
BEGIN:VTIMEZONE
TZID:Europe/Madrid
BEGIN:DAYLIGHT
TZOFFSETFROM:+0100
TZOFFSETTO:+0200
TZNAME:CEST
DTSTART:20240331T010000
END:DAYLIGHT
BEGIN:STANDARD
TZOFFSETFROM:+0200
TZOFFSETTO:+0100
TZNAME:CET
DTSTART:20241027T010000
END:STANDARD
BEGIN:DAYLIGHT
TZOFFSETFROM:+0100
TZOFFSETTO:+0200
TZNAME:CEST
DTSTART:20250330T010000
END:DAYLIGHT
BEGIN:STANDARD
TZOFFSETFROM:+0200
TZOFFSETTO:+0100
TZNAME:CET
DTSTART:20251026T010000
END:STANDARD
BEGIN:DAYLIGHT
TZOFFSETFROM:+0100
TZOFFSETTO:+0200
TZNAME:CEST
DTSTART:20260329T010000
END:DAYLIGHT
BEGIN:STANDARD
TZOFFSETFROM:+0200
TZOFFSETTO:+0100
TZNAME:CET
DTSTART:20261025T010000
END:STANDARD
END:VTIMEZONE
BEGIN:VEVENT
DTSTART;VALUE=DATE:20251018
DTEND;VALUE=DATE:20251020
DTSTAMP:20260424T155631
CREATED:20251015T152957Z
LAST-MODIFIED:20251015T152957Z
UID:95617-1760745600-1760918399@vivalugo.es
SUMMARY:Diferentes interpretacións da obra teatral Don Juan
DESCRIPTION:Lugar: Cemiterio Municipal de Lugo \nO sábado 18\, a partir das 20h\, interpretación de Don Juan baixo o título «Dándolle unha volta a Don Juan» a cargo de Palimoquiños\, Malala e Cía. \nO domingo 19\, Magníficos e Palimocuqui interpretará a versión adaptada de Don Juan\, interpretada por nenas e nenos\, baixo o título Don Juanín: «Dándolle unha volta a Don Juan»\, que terá dous pases ás 16:30 e ás 18:30 h. \nEntrada: gratuíta. Entradas no Centro de Interpretación da Muralla (Oficina Municipal de Turismo de Lugo)
URL:https://vivalugo.es/evento/diferentes-interpretacions-da-obra-teatral-don-juan/
CATEGORIES:Artes escénicas
ATTACH;FMTTYPE=image/jpeg:https://vivalugo.es/wp-content/uploads/2025/10/interpretacions-don-juan.jpg
END:VEVENT
BEGIN:VEVENT
DTSTART;VALUE=DATE:20251018
DTEND;VALUE=DATE:20251020
DTSTAMP:20260424T155631
CREATED:20251016T120114Z
LAST-MODIFIED:20251016T120114Z
UID:95651-1760745600-1760918399@vivalugo.es
SUMMARY:Terra Creative Jam "Conecta o rural"
DESCRIPTION:Terra Creative Jam «Conecta o rural» \n18 e 19 de outubro de 2025 \nR.U. Xesús Bal e Gay (Est. da Granxa\, 130\, 27002 Lugo) \n«Benvida e Benvido á Creative Jam do Campus Terra da USC en Lugo\, precisamos que participes no futuro da nosa provincia polo que necesitamos que cantos máis mozos e mozas queirades e podades participedes con nós neste evento de creación de ideas.» \n+ info: https://terracreativejam.com/
URL:https://vivalugo.es/evento/terra-creative-jam-conecta-o-rural/
CATEGORIES:Cursos
ATTACH;FMTTYPE=image/jpeg:https://vivalugo.es/wp-content/uploads/2025/10/terra-creative-jam-conecta.jpg
END:VEVENT
BEGIN:VEVENT
DTSTART;VALUE=DATE:20251019
DTEND;VALUE=DATE:20251020
DTSTAMP:20260424T155631
CREATED:20251017T134111Z
LAST-MODIFIED:20251017T134111Z
UID:95750-1760832000-1760918399@vivalugo.es
SUMMARY:Maratón Fotográfico 2025
DESCRIPTION:Domingo 19 de outubro de 2025 \nTodo o día \nDentro do Lugo Cultural / Outono Cultural da USC Campus de Lugo \nPódense ​consultar as bases en: https://www.usc.gal/gl/servizos/area/cultura/axudas/maraton-fotografico-usc-0 \nAberta a inscrición nos certames de Videocreación\, Paisaxe sonora e Maratón fotográfico
URL:https://vivalugo.es/evento/maraton-fotografico-2025/
CATEGORIES:Varios
ATTACH;FMTTYPE=image/jpeg:https://vivalugo.es/wp-content/uploads/2025/10/maraton-fotografico-2025.jpg
END:VEVENT
BEGIN:VEVENT
DTSTART;TZID=Europe/Madrid:20251019T183000
DTEND;TZID=Europe/Madrid:20251019T183000
DTSTAMP:20260424T155631
CREATED:20251015T110538Z
LAST-MODIFIED:20251016T113932Z
UID:95568-1760898600-1760898600@vivalugo.es
SUMMARY:Familiar "Os senteito"
DESCRIPTION:Familiar «Os senteito» \nCaramuxo Teatro \nDomingo\, 19 de outubro de 2025 18:30 hs. \n\nLugar: Auditorio Municipal Gustavo Freire\nCategoría: Teatro Familiar\nIdade recomendada: A partir dos 4 anos \nSinopse: \nO señor Senteito vive nun pequeno contedor\, nunha pequena parcela do seu mundo\, vendo o día a día pasar. Un día chegará a señora Senteito e a rutina mudará para sempre. Unha comedia con máscaras e sen texto sobre a importancia da convivencia entre diferentes\, e sobre o dereito á vivenda. \nENTRADAS: \nAdquisición de entradas a través do portal web entradaslugo.es e na Oficina de Turismo ata 3 horas antes do comezo de cada función; e no auditorio\, o día da función\, desde unha hora e media antes do comezo do espectáculo.
URL:https://vivalugo.es/evento/familiar-os-senteito/
LOCATION:​Auditorio Municipal Gustavo Freire\, Parque da Milagrosa\, Avda. da Coruña\, s/n\, Lugo\, Lugo\, 27003\, Spain
CATEGORIES:Artes escénicas
ATTACH;FMTTYPE=image/jpeg:https://vivalugo.es/wp-content/uploads/2025/10/os-senteito.jpg
END:VEVENT
END:VCALENDAR