BEGIN:VCALENDAR
VERSION:2.0
PRODID:-//VivaLugo - ECPv6.15.13.1//NONSGML v1.0//EN
CALSCALE:GREGORIAN
METHOD:PUBLISH
X-WR-CALNAME:VivaLugo
X-ORIGINAL-URL:https://vivalugo.es
X-WR-CALDESC:Eventos para VivaLugo
REFRESH-INTERVAL;VALUE=DURATION:PT1H
X-Robots-Tag:noindex
X-PUBLISHED-TTL:PT1H
BEGIN:VTIMEZONE
TZID:Europe/Madrid
BEGIN:DAYLIGHT
TZOFFSETFROM:+0100
TZOFFSETTO:+0200
TZNAME:CEST
DTSTART:20240331T010000
END:DAYLIGHT
BEGIN:STANDARD
TZOFFSETFROM:+0200
TZOFFSETTO:+0100
TZNAME:CET
DTSTART:20241027T010000
END:STANDARD
BEGIN:DAYLIGHT
TZOFFSETFROM:+0100
TZOFFSETTO:+0200
TZNAME:CEST
DTSTART:20250330T010000
END:DAYLIGHT
BEGIN:STANDARD
TZOFFSETFROM:+0200
TZOFFSETTO:+0100
TZNAME:CET
DTSTART:20251026T010000
END:STANDARD
BEGIN:DAYLIGHT
TZOFFSETFROM:+0100
TZOFFSETTO:+0200
TZNAME:CEST
DTSTART:20260329T010000
END:DAYLIGHT
BEGIN:STANDARD
TZOFFSETFROM:+0200
TZOFFSETTO:+0100
TZNAME:CET
DTSTART:20261025T010000
END:STANDARD
END:VTIMEZONE
BEGIN:VEVENT
DTSTART;VALUE=DATE:20251026
DTEND;VALUE=DATE:20251028
DTSTAMP:20260419T193645
CREATED:20251021T150358Z
LAST-MODIFIED:20251021T150358Z
UID:95893-1761436800-1761609599@vivalugo.es
SUMMARY:Feira L de Lugo 2025
DESCRIPTION:Feira L de Lugo 2025 \nOs días 26 e 27 de outubro no Pazo de Feiras e Congresos de Lugo. \nHorarios: \n• Domingo\, 26: 12:00-20:00\n• Luns\, 27: 12:00-21:00 \nEntrada: Venda anticipada 20 €\, na taquilla 25 €. Para menores de 18 anos a entrada será gratuita. \nO que atoparás: \n\nMáis de 150 adegas participantes e máis de 1.000 viños expostos.\nDegustacións de produtos autóctonos de terra e mar\, maridaxes\, showcooking con chefs e experiencias gastronómicas exclusivas.\nConcurso “A mellor hamburguesa con L de Lugo”\, no que cocineros e cociñeiras de Galicia e Asturias competirán para presentar as creacións máis orixinais con produtos lucenses e galegos.\nZona infantil con actividades abertas ao público.\nMúsica en vivo e ambiente festivo que acompañarán toda a feira.\n\nOrganizada pola Asociación de Distribuidores de Hostalaría e Alimentación de Lugo (ADIS Lugo) \n+ info https://www.instagram.com/ldelugogastronomica/
URL:https://vivalugo.es/evento/feira-l-de-lugo-2025/
LOCATION:Pazo de Feiras e Congresos\, Lugo\, Spain
CATEGORIES:Varios
ATTACH;FMTTYPE=image/jpeg:https://vivalugo.es/wp-content/uploads/2025/10/feira-l-de-lugo-2025.jpg
END:VEVENT
BEGIN:VEVENT
DTSTART;VALUE=DATE:20251027
DTEND;VALUE=DATE:20251028
DTSTAMP:20260419T193645
CREATED:20251017T153206Z
LAST-MODIFIED:20251017T153206Z
UID:95805-1761523200-1761609599@vivalugo.es
SUMMARY:Concerto de Carla Marrero
DESCRIPTION:A violinista Carla Marrero dará un concerto o luns 27 de outubro ás 20.15 horas na Casa do Saber do campus de Lugo\, enmarcado na programación do Outono Cultural e co que comeza o ciclo ‘Músicas a carón da Mosqueira’ deste curso. \nA entrada é de balde e libre ata completar a capacidade da sala. \nEsta iniciativa enmárcase dentro da programación artellada ao abeiro do convenio Lugo Cultural\, que recibe financiamento da USC\, Cultura e Turismo do Concello de Lugo e da Vicepresidencia da Deputación Provincial de Lugo.
URL:https://vivalugo.es/evento/concerto-de-carla-marrero/
LOCATION:Casa do Saber\, Praza Pío XII\, 3\, Lugo\, Lugo\, 27001
CATEGORIES:Conciertos
ATTACH;FMTTYPE=image/jpeg:https://vivalugo.es/wp-content/uploads/2025/10/musicas-caron-mosqueira-2025.jpg
END:VEVENT
BEGIN:VEVENT
DTSTART;TZID=Europe/Madrid:20251027T180000
DTEND;TZID=Europe/Madrid:20251027T180000
DTSTAMP:20260419T193645
CREATED:20251024T102037Z
LAST-MODIFIED:20251024T102037Z
UID:96049-1761588000-1761588000@vivalugo.es
SUMMARY:Conferencia “Bosques e cambio climático. Retos e oportunidades”
DESCRIPTION:Con motivo do Día Internacional contra o Cambio Climático\, que se celebra cada 24 de outubro\, a UNED de Lugo pon en marcha o proxecto “ODS en Acción”\, unha iniciativa permanente que busca vincular mensualmente un Día Internacional ou Mundial cun dos 17 Obxectivos de Desenvolvemento Sostible (ODS). \nA primeira actividade enmarcada neste proxecto terá lugar o luns 27 de outubro\, ás 18:00 horas\, coa conferencia “Bosques e cambio climático. Retos e oportunidades”\, impartida por Mercedes Rois\, que servirá como acto inaugural do ciclo. \nNo salón de actos da UNED LUGO (ou online). Gratuíta. \nInformación sobre a conferencia: https://extension.uned.es/actividad/idactividad/47965 \nNesta primeira edición\, o proxecto “ODS en Acción” vincúlase ao ODS 13: Acción polo Clima\, subliñando o compromiso ambiental e educativo da UNED de Lugo. \nA conmemoración deste día responde á necesidade de dar visibilidade á emerxencia climática global\, lembrando que desde o ano 2000 numerosos organismos e organizacións ecoloxistas promoven esta xornada para sensibilizar á cidadanía e reclamar medidas urxentes fronte ao quecemento global e á degradación ambiental. \nAdemais\, o centro difundirá o 24 de outubro\, a través das súas redes e canles propios\, a peza audiovisual “PLAN A”\, protagonizada polo investigador do CSIC Fernando Valladares\, que ofrece unha ollada construtiva sobre a loita climática e o papel esencial da biodiversidade como ferramenta de resiliencia fronte á crise global. \nEse mesmo día\, a UNED de Lugo divulgará tamén unha peza informativa coas últimas novas climáticas\, na que se destacan os principais datos do Production Gap Report 2025\, da Avaliación de Riscos e Impactos derivados do Cambio Climático en España (ERICC-2025) e do balance do verán de 2025\, o máis cálido da serie histórica. \nEsta iniciativa enmárcase no proxecto #LugoNaturalMente\, a estratexia de sustentabilidade da UNED de Lugo\, e reforza a súa liña de traballo en educación ambiental\, divulgación científica e compromiso social\, achegando os ODS á cidadanía e promovendo a participación activa na defensa do territorio e do clima.
URL:https://vivalugo.es/evento/conferencia-bosques-e-cambio-climatico-retos-e-oportunidades/
LOCATION:UNED LUGO\, Tolda de Castela Nº4B\, Lugo\, 27169
CATEGORIES:Conferencias
ATTACH;FMTTYPE=image/jpeg:https://vivalugo.es/wp-content/uploads/2025/10/conferencia-bosques-cambio-climatico.jpg
END:VEVENT
BEGIN:VEVENT
DTSTART;TZID=Europe/Madrid:20251027T190000
DTEND;TZID=Europe/Madrid:20251027T190000
DTSTAMP:20260419T193645
CREATED:20251017T094536Z
LAST-MODIFIED:20251017T094536Z
UID:95715-1761591600-1761591600@vivalugo.es
SUMMARY:II Xornadas de divulgación na Hedreira - Segunda sesión
DESCRIPTION:II Xornadas de divulgación na Hedreira – Segunda sesión \nLuns 27\, 19:00 h \nExposición de investigacións tipo TFG\, TFM\, PFC\, tese ou non académicas nun ambiente amigable. Para compartir traballos interesantes\, que saian da academia e non queden esquecidos nun caixón. \n«Quedamos tan satisfeitas coa primeira edición que imos repetir! Queremos aprender de ti\, e seguro que non somos as únicas. É unha sensación compartida por moitas que é unha mágoa que investigacións interesantes\, do ámbito académico ou non\, rematen ignoradas nun caixón. Se ti tamén botas en falta ocasións para achegar o que sabes á sociedade\, esta é a túa oportunidade. \nConcretaremos o horario e títulos das exposicións nas nosas redes sociais (Instagram\, Facebook\, Telegram\, Bluesky) en función das propostas recibidas.» \nEnvíanos a túa proposta!Se estás desexando presentar o teu TFG\, TFM\, tese\, PFC ou investigación doutro tipo\, envía canto antes a csahedreira@riseup.net un resumo do traballo\, requisitos materiais e a túa dispoñibilidade. Temos ordenador e proxector. Priorizaremos aqueles traballos que aborden temáticas con impacto social \nhttps://www.facebook.com/hedreira
URL:https://vivalugo.es/evento/ii-xornadas-de-divulgacion-na-hedreira-segunda-sesion/
LOCATION:A Hedreira\, Rua Catasol\, 17\, Lugo\, 27002
CATEGORIES:Conferencias
ATTACH;FMTTYPE=image/jpeg:https://vivalugo.es/wp-content/uploads/2025/10/xornadas-divulgacion-hedreira-outubro.jpg
END:VEVENT
BEGIN:VEVENT
DTSTART;TZID=Europe/Madrid:20251027T193000
DTEND;TZID=Europe/Madrid:20251027T193000
DTSTAMP:20260419T193645
CREATED:20251024T094030Z
LAST-MODIFIED:20251024T094030Z
UID:96035-1761593400-1761593400@vivalugo.es
SUMMARY:Arturo Lezcano presenta na libraría Lectocosmos o seu libro O país invisible
DESCRIPTION:Arturo Lezcano presenta na libraría Lectocosmos o seu libro O país invisible ((Tamén en edición en castelán\, El país invisible) \nO próximo luns 27 de outubro ás 19:30 \nEditado por Libros del KO\, en conversa coa filóloga e bibliotecaria Lorena Gómez Méndez. \nCunha mestura de talento literario e de minuciosa labor xornalística\, o reporteiro e escritor constrúe nesta obra unha monumental crónica da Galicia da diáspora\, vertendo o froito de vinte anos de entrevistas\, lecturas e experiencias como corresponsal en Latinoamérica. \nComo se dunhas Mil e unha noites das Américas se tratase\, o escritor transita entre a fábula e a literatura de viaxes para despregar un abano de personaxes pintorescos e abraiantes: desde Antonio Soto\, heroe anarquista da Patagonia; Pepe la Muerte\, lugartenente de Lucky Luciano; ou os centos de homes e mulleres anónimos que participaron na construcción da Canle de Panamá\, e que crearon tamén unha nova vida e un novo país invisible doutro lado do mundo.
URL:https://vivalugo.es/evento/arturo-lezcano-presenta-na-libraria-lectocosmos-o-seu-libro-o-pais-invisible/
LOCATION:Lectocosmos\, Praza do Campo Castelo\, 19\, Lugo\, 27003
CATEGORIES:Presentaciones
ATTACH;FMTTYPE=image/jpeg:https://vivalugo.es/wp-content/uploads/2025/10/arturo-lezcano-presenta.jpg
END:VEVENT
BEGIN:VEVENT
DTSTART;TZID=Europe/Madrid:20251027T193000
DTEND;TZID=Europe/Madrid:20251027T193000
DTSTAMP:20260419T193645
CREATED:20251024T101123Z
LAST-MODIFIED:20251024T101123Z
UID:96047-1761593400-1761593400@vivalugo.es
SUMMARY:Cine "Black Dog"
DESCRIPTION:Cine «Black Dog» \nLuns 27 de outubro. Salón de Actos do Centro Cultural O Vello Cárcere. Sesión 19:30 horas. Entrada libre e de balde ata completar aforo. \nPremios\n\n2024\nFestival de Cannes: Un Certain Regard: Mellor película.\nPremios Independent Spirit Awards: Nominada a Mellor película estranxeira.\n\nFestival de Valladolid – Seminci: 2 premios. 3 nominacións. \nPremios Gotham: Nominada a Mellor dirección. \n2025: Asian Film Awards: 5 nominacións. \n\nDirector: Guan Hu \n\n\n\nPais: China\n\n\n2024\n\n\nDrama. Thriller | Perros/Lobos\n\n\n110 min\n\n\n\n\n\n\n\n\nSinopse:\n\nNos arredores do deserto de Gobi\, no norte de China\, nos días previos ao comezo dos Xogos Olímpicos de Pequín\, Lang\, un exconvicto\, regresa á súa cidade\, agora semiderruida e case fantasmal\, na que apenas queda xa xente.\nAlí se encariña cun can negro desvalido que lle acompañará no seu percorrido ao interior deste árido lugar que un día foi un fogar.\n\n\n\n\n 
URL:https://vivalugo.es/evento/cine-black-dog/
LOCATION:O Vello Cárcere\, Av. Alcalde Anxo López Pérez\, 10\, Lugo\, Lugo\, 27002\, Spain
CATEGORIES:Cine
ATTACH;FMTTYPE=image/jpeg:https://vivalugo.es/wp-content/uploads/2025/10/ciclo-cine-chines.jpg
END:VEVENT
END:VCALENDAR