BEGIN:VCALENDAR
VERSION:2.0
PRODID:-//VivaLugo - ECPv6.15.13.1//NONSGML v1.0//EN
CALSCALE:GREGORIAN
METHOD:PUBLISH
X-ORIGINAL-URL:https://vivalugo.es
X-WR-CALDESC:Eventos para VivaLugo
REFRESH-INTERVAL;VALUE=DURATION:PT1H
X-Robots-Tag:noindex
X-PUBLISHED-TTL:PT1H
BEGIN:VTIMEZONE
TZID:Europe/Madrid
BEGIN:DAYLIGHT
TZOFFSETFROM:+0100
TZOFFSETTO:+0200
TZNAME:CEST
DTSTART:20240331T010000
END:DAYLIGHT
BEGIN:STANDARD
TZOFFSETFROM:+0200
TZOFFSETTO:+0100
TZNAME:CET
DTSTART:20241027T010000
END:STANDARD
BEGIN:DAYLIGHT
TZOFFSETFROM:+0100
TZOFFSETTO:+0200
TZNAME:CEST
DTSTART:20250330T010000
END:DAYLIGHT
BEGIN:STANDARD
TZOFFSETFROM:+0200
TZOFFSETTO:+0100
TZNAME:CET
DTSTART:20251026T010000
END:STANDARD
BEGIN:DAYLIGHT
TZOFFSETFROM:+0100
TZOFFSETTO:+0200
TZNAME:CEST
DTSTART:20260329T010000
END:DAYLIGHT
BEGIN:STANDARD
TZOFFSETFROM:+0200
TZOFFSETTO:+0100
TZNAME:CET
DTSTART:20261025T010000
END:STANDARD
END:VTIMEZONE
BEGIN:VEVENT
DTSTART;VALUE=DATE:20251028
DTEND;VALUE=DATE:20251103
DTSTAMP:20260419T193756
CREATED:20251028T191204Z
LAST-MODIFIED:20251028T191204Z
UID:96146-1761609600-1762127999@vivalugo.es
SUMMARY:Actividades polo Samaín en O Vello Cárcere de Lugo
DESCRIPTION:Actividades polo Samaín en O Vello Cárcere de Lugo \n\n28 de outubro:\n\n\nViñetas arrepiantes. Obradoiro pequeviñetistas.\n17.30h (nados entre 2013 e 2018). Biblioteca de O Vello Cárcere.\n\n\n\n29 de outubro:\n\n\nA festa dos calacús. Obradoiro a toda cor.\n17.30h (nados entre 2017 e 2022). Espazo didáctico de O Vello Cárcere.\n\n\n\n30 de outubro:\n\n\nContos de Samaín. Minirrelatos.\n17.30h (nados entre 2013 e 2018). Biblioteca de O Vello Cárcere.\n\n\n\n\n\n1 de novembro:\n\n\nA pantasma colorida. Contacontos miúdos.\n11h e 12.30h. (nados entre 2017 e 2022). Espazo de lecer de O Vello Cárcere.\n\n\n\n\n2 de novembro:\n\n\nCousiñas xeitosas.\n11h (nados entre 2017 e 2022). Espazo de lecer de O Vello Cárcere.\n\n\n\nReserva de prazas e información en vellocarcere@lugo.gal e no 982297195.
URL:https://vivalugo.es/evento/actividades-polo-samain-en-o-vello-carcere-de-lugo/
LOCATION:O Vello Cárcere\, Av. Alcalde Anxo López Pérez\, 10\, Lugo\, Lugo\, 27002\, Spain
CATEGORIES:Varios
ATTACH;FMTTYPE=image/jpeg:https://vivalugo.es/wp-content/uploads/2025/10/actividades-samain-o-vello-carcere.jpg
END:VEVENT
BEGIN:VEVENT
DTSTART;VALUE=DATE:20251028
DTEND;VALUE=DATE:20251103
DTSTAMP:20260419T193756
CREATED:20251028T192002Z
LAST-MODIFIED:20251028T192002Z
UID:96149-1761609600-1762127999@vivalugo.es
SUMMARY:Programación do Samaín 2025 da Área de Cultura do Concello de Lugo
DESCRIPTION:Programación do Samaín 2025 da Área de Cultura do Concello de Lugo\n\n28 de outubro:\n\n\nViñetas arrepiantes. Obradoiro pequeviñetistas.\n17.30h (nados entre 2013 e 2018). Biblioteca de O Vello Cárcere.\n\n\n\n29 de outubro:\n\n\nA festa dos calacús. Obradoiro a toda cor.\n17.30h (nados entre 2017 e 2022). Espazo didáctico de O Vello Cárcere.\n\n\n\n30 de outubro:\n\n\nContos de Samaín. Minirrelatos.\n17.30h (nados entre 2013 e 2018). Biblioteca de O Vello Cárcere.\n\n\n\n31 de outubro:\n\n\nXincana Samaín.\n17h. Museos Lugo (información en oficina de turismo e redes sociais @museoslugo)\n\n\nActuación Bloco Meigallo.\n21h. Rúas do recinto histórico.\n\n\n\n1 de novembro:\n\n\nA pantasma colorida. Contacontos miúdos.\n11h e 12.30h. (nados entre 2017 e 2022). Espazo de lecer de O Vello Cárcere.\n\n\nXincana Samaín.\n17h. Museos Lugo (información en oficina de turismo e redes sociais @museoslugo\n\n\nActuación Tambukda.\n21h. Rúas do recinto histórico.\n\n\n\n2 de novembro:\n\n\nCousiñas xeitosas.\n11h (nados entre 2017 e 2022). Espazo de lecer de O Vello Cárcere.\n\n\n\n*Para as actividades do Vello Cárcere; reserva de prazas e información en vellocarcere@lugo.gal e no 982297195.
URL:https://vivalugo.es/evento/programacion-do-samain-2025-da-area-de-cultura-do-concello-de-lugo/
LOCATION:Lugo
CATEGORIES:Varios
ATTACH;FMTTYPE=image/png:https://vivalugo.es/wp-content/uploads/2025/10/samain-2025-lugo-scaled.png
END:VEVENT
BEGIN:VEVENT
DTSTART;TZID=Europe/Madrid:20251028T180000
DTEND;TZID=Europe/Madrid:20251029T210000
DTSTAMP:20260419T193756
CREATED:20251024T102450Z
LAST-MODIFIED:20251024T102450Z
UID:96052-1761674400-1761771600@vivalugo.es
SUMMARY:Jornadas Penitenciarias Lucenses XXXIX Edición
DESCRIPTION:Jornadas Penitenciarias Lucenses XXXIX Edición \nDel 28 al 29 de octubre de 2025 \nLugar: DIPUTACIÓN DE LUGO SALÓN DE ACTOS \nPuedes elegir la asistencia presencial o la asistencia online en directo o en diferido (UNED LUGO) \nEn la XXXIX edición de las  XORNADAS PENITENCIARIAS  LUCENSES  buscamos acercar a las familias\, a los docentes\, a los profesionales de la salud\, de la esfera jurídica y demás agentes  a todas  aquellas problemáticas relacionadas  con  los menores. Ya sea a nivel de conducta\, trastornos\, derivación a salud mental\, problemas de aprendizaje\, etcétera. Para ellos contamos con expertos en la materia de los ámbitos relacionados con el menor. \nEl primer día trataremos de hacer un planteamiento general de qué conductas o comportamientos nos deben alertar de una enfermedad o trastorno y cual es su abordaje terapéutico. \nEl segundo día \, contamos con un grupo de profesionales que pertenecen  a ámbitos de interacción de menores que ya han presentado dificultades.  Ya sean académicas o psico-sociales\, que hayan transgredido las normas\, que requieran de atención sanitaria o del sistema de protección institucional. \n\nPrograma\n\n\nmartes\, 28 de octubre\n\n18:00-19:00 h. Presentación: Elvira Paloma Fernández. Presidenta de APCA.\nInauguración: José Tomé Roca. Presidente de la Diputación de Lugo \nEntrega medallas Concepción Arenal Lugo. \nRelator: Víctor Fraga Gayoso. Scr. Gral de la Subdelegación de Gobierno. Psicólogo de II.PP.\n\n19:00-20:00 h. “¿Qué hay de nuevo en la salud mental de los adolescentes?”.\n\nPonente: Ricardo Fandiño Pascual. Psicólogo clínico\, Presidente de ASEIA. Profesor de la USC \nModeradora : Pilar García Puertas. Abogada y Presidenta de la Asociación “ Justicia y Diversidad”\n\n\nmiércoles\, 29 de octubre\n\n18:30-20:00 h. Mesa  redonda:” Contextos de intervención con adolescentes con problemas ”\nPonentes:\nMaría Sara Pendás Álvarez.Magistrada de Juzgado de Menores nº1 de Lugo.\n \nLoida  Ruiz Blanco. Directora de CIEMA\, Psicopedagoga y Educadora social\n \nMaria Jesús Rodríguez Rodríguez . Coordinadora servicio de Protección de menores de Lugo. Psicóloga. \nMartín  Rodríguez  Botana. Médico  Psiquiatra del HULA  y divulgador.\n \nAlba  López Riopedre. Orientadora Educativa del Colegio Diocesano San Lorenzo . Psicóloga\n \nModeradora: Ana Traseira Pena. Directora de la UNED  Ingeniera Química e Ingeniera Técnica Industrial .\n\nClausura: Miguel Fernández. Alcalde de  Lugo
URL:https://vivalugo.es/evento/jornadas-penitenciarias-lucenses-xxxix-edicion/
LOCATION:Pazo de San Marcos – Deputación de Lugo\, Rúa San Marcos\, 8\, lugo\, Lugo\, 27001
CATEGORIES:Conciertos
END:VEVENT
BEGIN:VEVENT
DTSTART;TZID=Europe/Madrid:20251029T190000
DTEND;TZID=Europe/Madrid:20251029T190000
DTSTAMP:20260419T193756
CREATED:20251017T153534Z
LAST-MODIFIED:20251017T153534Z
UID:95808-1761764400-1761764400@vivalugo.es
SUMMARY:Encontro '15 anos do decreto do plurilinguismo. Hai futuro para o galego?
DESCRIPTION:Encontro ’15 anos do decreto do plurilinguismo. Hai futuro para o galego?\n\n29.10.2025 | 19.00h\n\nEscola Politécnica Superior de Enxeñaría Lugo Cafetaría \nNeste 2025\, o Consello da Cultura Galega publicou un documento de traballo sobre as competencias e usos das linguas cooficiais en España\, que veu corroborar a caída do uso do galego entre as xeracións mais novas\, así como a menor efectividade das políticas educativas comparadas coas doutras comunidades. \nNo documento sublíñase tamén a urxencia de intervir no ámbito escolar e na transmisión interxeracional\, e constátase unha percepción de menos prestixio social e utilidade da lingua en ámbitos formais e profesionais. \nDiante deste panorama\, como actuar para tratar de reverter esta situación? É posible facelo? Como modificar esa negativa percepción que a sociedade galega ten da lingua propia? \nA situación sociolingüística en Galicia debe de ser obxecto dunha profunda reflexión\, e para facer o noso contributo\, no encontro estarán dúas persoas con moito que contar: \n\nAna Iglesias Álvarez\, profesora da Universidade de Vigo\, e doutora e investigadora no ámbito da sociolingüística\, especialmente en temáticas relacionadas coas actitudes lingüísticas cara ao galego\, a transmisión interxeracional da lingua e as políticas lingüísticas familiares. Moitas delas tratounas no seu libro Falar galego: “no veo por qué” (Ed. Xerais).\nNel Vidal Barral\, profesor de Lingua Galega no CPI O Cruce de Cerceda\, pero antes foi técnico de normalización Lingüística no Concello de Carballo e presitede da Coordinadora de Traballadores/as de Normalización da Lingua (CTNL). Desde un e outro posto participou na posta en marcha de múltiples proxectos de promoción do uso do galego (Gústame o galego\, Apego\, LGx15\, Youtubeiras\, Goza coa túa lingua etc).\n\nEsta iniciativa\, incluída dentro da programación do Outono Cultural\, enmárcase dentro da programación artellada ao abeiro do convenio Lugo Cultural\, que recibe financiamento da USC\, Cultura e Turismo do Concello de Lugo e da Vicepresidencia da Deputación Provincial de Lugo.
URL:https://vivalugo.es/evento/encontro-15-anos-do-decreto-do-plurilinguismo-hai-futuro-para-o-galego/
LOCATION:Escola Politécnica Superior de Enxeñaría\, Rúa Benigno Ledo\, LUGO\, Lugo\, 27002\, Spain
CATEGORIES:Conferencias
ATTACH;FMTTYPE=image/jpeg:https://vivalugo.es/wp-content/uploads/2025/10/encontro-15-anos-galego.jpg
END:VEVENT
BEGIN:VEVENT
DTSTART;TZID=Europe/Madrid:20251029T190000
DTEND;TZID=Europe/Madrid:20251029T190000
DTSTAMP:20260419T193756
CREATED:20251022T154809Z
LAST-MODIFIED:20251022T154809Z
UID:96005-1761764400-1761764400@vivalugo.es
SUMMARY:Meetup WordPress Lugo "Da túa web ao mundo"
DESCRIPTION:Meetup WordPress Lugo «Da túa web ao mundo» \nMércores 29 de outubro de 2025 \n19:00 horas \nO Vello Cárcere de Lugo \nClaves para dar o salto internacional con éxito» con Rafael Verde \n 
URL:https://vivalugo.es/evento/meetup-wordpress-lugo-da-tua-web-ao-mundo/
LOCATION:O Vello Cárcere\, Av. Alcalde Anxo López Pérez\, 10\, Lugo\, Lugo\, 27002\, Spain
CATEGORIES:Cursos
ATTACH;FMTTYPE=image/png:https://vivalugo.es/wp-content/uploads/2025/10/meetup-da-web-ao-mundo.png
END:VEVENT
BEGIN:VEVENT
DTSTART;TZID=Europe/Madrid:20251029T193000
DTEND;TZID=Europe/Madrid:20251029T193000
DTSTAMP:20260419T193756
CREATED:20251017T093752Z
LAST-MODIFIED:20251017T093752Z
UID:95710-1761766200-1761766200@vivalugo.es
SUMMARY:Documental "Salvaxe\, salvaxe"
DESCRIPTION:Documental «Salvaxe\, salvaxe» \n\n29/10/2025 – 19:30\n\n\nSalón de Actos da Casa do Saber\n\n\n\nEmilio Fonseca Martín\n\n\nEspaña\, 2024\n\n\n\nDocumental | Vida rural. cans/Lobos\n\n\n\n86 min\n\n\n\n\n\nPremios\n\n\nFestival de Málaga (2024): Biznaga de Prata ao Mellor Documental. \nPlay-doc Festival: Mellor Film galego.     \nFestival de Cine Documental Alcances: Mención Especial do Xurado. \nOurense Film Festival (OUFF 29): Mellor dirección.  \nAnother Way Film Festival: Premio do Público á Mellor Película (sección Impacto). \nFestival Internacional de Cine en Guadalajara: Premio de Cine Socioambiental – Mención Honorífica. \n\n\n\nSinopse:\n\n«Cheiras iso?» A cámara entra nos montes de Galicia e do norte de Portugal entre murmurios. Para tecer os sinais que deixa a vida salvaxe hai que agudizar os sentidos.\n\nEstas imaxes afástanse da representación de pureza virxinal asociada ás paisaxes naturais do noroeste da Península Ibérica. Son conscientes do intenso modelado da acción humana.\n\nSer unha criatura salvaxe aquí é ser salvaxe asediado. SALVAXE\, SALVAXE rastrexa imaxes e ausencias do lobo ibérico xunto a un equipo de investigación universitario. Atravesa unha historia relacional cargada de mitoloxía popular\, sometemento e exterminio e enfróntase a unha historia audiovisual feita de imaxes-simulacro do natural salvaxe.\n\n\n\n\nSALVAXE\, SALVAXE busca resignificar as imaxes da natureza e cuestionar a relación entre humanos e non humanos. Un exercicio fílmico que se achega ao silvestre sen suplantalo\, co desexo de descubrir a súa existencia e sen necesidade de representalo\, revelando tanto as imaxes de ausencia como as de encontros (con lobos). \nSALVAXE\, SALVAXE é un anti-documental de natureza: nel aparecen lobos que devolven a mirada á cámara aterrorizados e humanos que saben ouvear. Todas as criaturas deixamos rastros neste baile coidadoso de rastrexadores rastrexados.
URL:https://vivalugo.es/evento/documental-salvaxe-salvaxe/
LOCATION:Casa do Saber\, Praza Pío XII\, 3\, Lugo\, Lugo\, 27001
CATEGORIES:Cine
ATTACH;FMTTYPE=image/jpeg:https://vivalugo.es/wp-content/uploads/2025/10/sesions-filmoteca-outubro-2025.jpg
END:VEVENT
BEGIN:VEVENT
DTSTART;TZID=Europe/Madrid:20251029T193000
DTEND;TZID=Europe/Madrid:20251029T193000
DTSTAMP:20260419T193756
CREATED:20251028T195205Z
LAST-MODIFIED:20251028T195205Z
UID:96157-1761766200-1761766200@vivalugo.es
SUMMARY:Presentación do libro "Esencia en cuerpo y alma"
DESCRIPTION:Presentación do libro «Esencia en cuerpo y alma» \nMércores 29 de outubro de 2025 \n19:30 horas \nLibrería La Voz de la Verdad\, Lugo
URL:https://vivalugo.es/evento/presentacion-do-libro-esencia-en-cuerpo-y-alma/
LOCATION:La Voz de la Verdad\, Rúa Bispo Aguirre\, 17\, LUGO\, Lugo\, 27002\, Spain
CATEGORIES:Presentaciones
ATTACH;FMTTYPE=image/jpeg:https://vivalugo.es/wp-content/uploads/2025/10/presentacion-libro-esencia.jpg
END:VEVENT
END:VCALENDAR