BEGIN:VCALENDAR
VERSION:2.0
PRODID:-//VivaLugo - ECPv6.15.13.1//NONSGML v1.0//EN
CALSCALE:GREGORIAN
METHOD:PUBLISH
X-ORIGINAL-URL:https://vivalugo.es
X-WR-CALDESC:Eventos para VivaLugo
REFRESH-INTERVAL;VALUE=DURATION:PT1H
X-Robots-Tag:noindex
X-PUBLISHED-TTL:PT1H
BEGIN:VTIMEZONE
TZID:Europe/Madrid
BEGIN:DAYLIGHT
TZOFFSETFROM:+0100
TZOFFSETTO:+0200
TZNAME:CEST
DTSTART:20240331T010000
END:DAYLIGHT
BEGIN:STANDARD
TZOFFSETFROM:+0200
TZOFFSETTO:+0100
TZNAME:CET
DTSTART:20241027T010000
END:STANDARD
BEGIN:DAYLIGHT
TZOFFSETFROM:+0100
TZOFFSETTO:+0200
TZNAME:CEST
DTSTART:20250330T010000
END:DAYLIGHT
BEGIN:STANDARD
TZOFFSETFROM:+0200
TZOFFSETTO:+0100
TZNAME:CET
DTSTART:20251026T010000
END:STANDARD
BEGIN:DAYLIGHT
TZOFFSETFROM:+0100
TZOFFSETTO:+0200
TZNAME:CEST
DTSTART:20260329T010000
END:DAYLIGHT
BEGIN:STANDARD
TZOFFSETFROM:+0200
TZOFFSETTO:+0100
TZNAME:CET
DTSTART:20261025T010000
END:STANDARD
END:VTIMEZONE
BEGIN:VEVENT
DTSTART;TZID=Europe/Madrid:20251104T193000
DTEND;TZID=Europe/Madrid:20251104T193000
DTSTAMP:20260419T193643
CREATED:20251103T155412Z
LAST-MODIFIED:20251103T155412Z
UID:96351-1762284600-1762284600@vivalugo.es
SUMMARY:Proxección do filme "Antes de Nós" e coloquio coa súa directora Ángeles Huertas
DESCRIPTION:O Pazo de San Marcos acolle o 4 de novembro\, ás 19:30 horas a proxección da película «Antes de Nós»\, que afonda na figura de Castelao a partir de vivencias íntimas relacionadas\ncoa súa dedicación á medicina ou o falecemento do seu fillo e reflexiona sobre a trascendencia destes acontecementos vitais na súa dimensión política e artística. \nA sesión completarase cun coloquio coa súa directora\, Ángeles Huertas\, que falará do proceso de creación do filme\, a longametraxe de ficción máis ambiciosa das realizadas até o momento  sobre unha das figuras máis relevantes para a Galicia contemporánea. \nA deputada de Cultura Iria Castro  convidou a asistir ao acto co que\, explicou\, «ademais de contribuírmos á difusión do filme\, pretendemos achegar ao público ao seu proceso creativo a través dunha conversa coa directora». \nA responsable provincial avanzou que «a actividade abre un ciclo de proxeccións pola provincia que se desenvolverá nos dous vindeiros meses\, con pases en Samos\, Castroverde\, Palas de Rei\, Chantada\, Quiroga\, Pantón\, Becerreá\, Barreiros e Riotorto» \nO ciclo\,  que se enmarca na colaboración da Vicepresidencia da Deputación de Lugo na produción do filme\, amplía a súa difusión alén dos festivais e salas de cine nas que se proxectou tras a súa estrea o pasado 23 de maio. \nÁngeles Huertas \nFormada na Met Film School de Londres\, Ángeles Huertas (Gijón\, 1974) debuta na longametraxe co documental creativo «Esquece Monelos» (2017)\, onde un río soterrado e esquecido convértese no fío condutor para abordar os meandros personais e políticos da memoria. \n«Esquece Monelos» obtivo a Mención Especial do Xurado en Documenta Madrid\, tres premios Mestre Mateo e estivo nominado aos Premios Feroz 2018. \nNa Seminci de 2022 estrea a súa primeira película de ficción\, «O corpo aberto»\, adaptación dun relato gótico de Xosé Luís Méndez Ferrín sobre o ilusorio dos límites que nos definen. \nA película foi merecedora de 12 premios Mestre Mateo na edición do 2023\, incluíndo mellor película\, dirección e guion.
URL:https://vivalugo.es/evento/proxeccion-do-filme-antes-de-nos-e-coloquio-coa-sua-directora-angeles-huertas/
LOCATION:Pazo de San Marcos – Deputación de Lugo\, Rúa San Marcos\, 8\, lugo\, Lugo\, 27001
CATEGORIES:Cine
ATTACH;FMTTYPE=image/jpeg:https://vivalugo.es/wp-content/uploads/2025/11/proxeccion-filme-antes-de-nos.jpg
END:VEVENT
END:VCALENDAR