BEGIN:VCALENDAR
VERSION:2.0
PRODID:-//VivaLugo - ECPv6.15.13.1//NONSGML v1.0//EN
CALSCALE:GREGORIAN
METHOD:PUBLISH
X-WR-CALNAME:VivaLugo
X-ORIGINAL-URL:https://vivalugo.es
X-WR-CALDESC:Eventos para VivaLugo
REFRESH-INTERVAL;VALUE=DURATION:PT1H
X-Robots-Tag:noindex
X-PUBLISHED-TTL:PT1H
BEGIN:VTIMEZONE
TZID:Europe/Madrid
BEGIN:DAYLIGHT
TZOFFSETFROM:+0100
TZOFFSETTO:+0200
TZNAME:CEST
DTSTART:20240331T010000
END:DAYLIGHT
BEGIN:STANDARD
TZOFFSETFROM:+0200
TZOFFSETTO:+0100
TZNAME:CET
DTSTART:20241027T010000
END:STANDARD
BEGIN:DAYLIGHT
TZOFFSETFROM:+0100
TZOFFSETTO:+0200
TZNAME:CEST
DTSTART:20250330T010000
END:DAYLIGHT
BEGIN:STANDARD
TZOFFSETFROM:+0200
TZOFFSETTO:+0100
TZNAME:CET
DTSTART:20251026T010000
END:STANDARD
BEGIN:DAYLIGHT
TZOFFSETFROM:+0100
TZOFFSETTO:+0200
TZNAME:CEST
DTSTART:20260329T010000
END:DAYLIGHT
BEGIN:STANDARD
TZOFFSETFROM:+0200
TZOFFSETTO:+0100
TZNAME:CET
DTSTART:20261025T010000
END:STANDARD
END:VTIMEZONE
BEGIN:VEVENT
DTSTART;TZID=Europe/Madrid:20251105T170000
DTEND;TZID=Europe/Madrid:20251106T200000
DTSTAMP:20260419T193632
CREATED:20251104T163251Z
LAST-MODIFIED:20251104T163251Z
UID:96445-1762362000-1762459200@vivalugo.es
SUMMARY:Mercadiño de segunda man de Bico de Grao
DESCRIPTION:Mercadiño de segunda man de Bico de Grao \nOs días 5 e 6 de novembro de 17 a 20h. \n«Xa coñecedes todas a dinámica: Intercambiar (aquí non hai moeda de ningunha clase) para fomentar o desapego material e darlle unha segunda (ou miles) de vidas ás cousas que algún día nos deron servizo pero que xa non. \nLembra o máis importante! O que traias ten que estar limpo\, en bo estado\, ser útil (ou funcionar se é o caso) e non ser produtos alimenticios.»
URL:https://vivalugo.es/evento/mercadino-de-segunda-man-de-bico-de-grao/
LOCATION:Bico de Grao S. Coop. Galega\, Ronda das Fontiñas\, 226 baixo\, Lugo
CATEGORIES:Varios
ATTACH;FMTTYPE=image/jpeg:https://vivalugo.es/wp-content/uploads/2025/11/mercadino-segunda-man.jpg
END:VEVENT
BEGIN:VEVENT
DTSTART;TZID=Europe/Madrid:20251105T180000
DTEND;TZID=Europe/Madrid:20251105T180000
DTSTAMP:20260419T193633
CREATED:20251103T161131Z
LAST-MODIFIED:20251104T160449Z
UID:96356-1762365600-1762365600@vivalugo.es
SUMMARY:Mostras abertas de danza "A noite do cuco" e "NI FU NI FA"
DESCRIPTION:O programa de residencias Atopémonos Bailando\, coordinado por Colectivo Glovo en colaboración coa Área de Cultura\, Turismo e Promoción da Lingua do Concello de Lugo\, presenta esta semana tres mostras abertas no Museo MIHL de Lugo: \n➡ Martes 5 de novembro · 18:00 h \n\nJandross — A noite do cuco\nUnha figura que acompaña mentres o corpo permanece: celebra a vida\, entreabre as portas do alén e encarna as contradicións que nos tecen.\nJessica Castellón & Boris Orihuela — Ni Fu Ni Fa\nPeza en proceso que cruza o tradicional e o contemporáneo\, conectando danzas urbanas e flamenco para escavar na memoria persoal e colectiva.\n\n➡ Xoves 7 de novembro · 18:00 h \n\nIXA — 52-BLAU\nCase unha oda á adaptación: un corpo que sobrevive ao naufraxio nun océano de estímulos e información\, buscando saír á tona.\n\nEntrada de balde con reserva previa: 604 002 295. \n\n\n\n\n\n 
URL:https://vivalugo.es/evento/mostras-abertas-de-danza-a-noite-do-cuco-e-ni-fu-ni-fa/
LOCATION:MIHL\, Av Infanta Elena\, s/n\, Lugo
CATEGORIES:Artes escénicas
ATTACH;FMTTYPE=image/jpeg:https://vivalugo.es/wp-content/uploads/2025/11/mostra-a-noite-do-cuco.jpg
END:VEVENT
BEGIN:VEVENT
DTSTART;TZID=Europe/Madrid:20251105T190000
DTEND;TZID=Europe/Madrid:20251105T190000
DTSTAMP:20260419T193633
CREATED:20251104T153250Z
LAST-MODIFIED:20251104T153250Z
UID:96405-1762369200-1762369200@vivalugo.es
SUMMARY:Mesa redonda "Migración e dereito ao traballo digno"
DESCRIPTION:Mesa redonda «Migración e dereito ao traballo digno» \n05/11/2025 \n19:00 horas \nO Vello Cárcere de Lugo
URL:https://vivalugo.es/evento/mesa-redonda-migracion-e-dereito-ao-traballo-digno/
LOCATION:O Vello Cárcere\, Av. Alcalde Anxo López Pérez\, 10\, Lugo\, Lugo\, 27002\, Spain
CATEGORIES:Conferencias
ATTACH;FMTTYPE=image/jpeg:https://vivalugo.es/wp-content/uploads/2025/11/mesa-redonda-migracion.jpeg
END:VEVENT
BEGIN:VEVENT
DTSTART;TZID=Europe/Madrid:20251105T190000
DTEND;TZID=Europe/Madrid:20251105T190000
DTSTAMP:20260419T193633
CREATED:20251104T165048Z
LAST-MODIFIED:20251104T165048Z
UID:96459-1762369200-1762369200@vivalugo.es
SUMMARY:Presentación do libro "Lembrando a Cacharro Pardo"
DESCRIPTION:Presentación do libro «Lembrando a Cacharro Pardo» \n05 de novembro de 2025 \n19:00 horas \nSalón de Actos Facultade de Veterinaria\, Lugo \nEntrada libre.
URL:https://vivalugo.es/evento/presentacion-do-libro-lembrando-a-cacharro-pardo/
LOCATION:Facultad de Veterinaria\, Rúa Carballo\, 0\, lugo\, Lugo\, 27001\, Spain
CATEGORIES:Presentaciones
ATTACH;FMTTYPE=image/jpeg:https://vivalugo.es/wp-content/uploads/2025/11/presentacion-libro-lembrando-paco-cacharro.jpg
END:VEVENT
BEGIN:VEVENT
DTSTART;TZID=Europe/Madrid:20251105T193000
DTEND;TZID=Europe/Madrid:20251105T193000
DTSTAMP:20260419T193633
CREATED:20251104T155019Z
LAST-MODIFIED:20251104T161155Z
UID:96414-1762371000-1762371000@vivalugo.es
SUMMARY:Cine "El hombre elefante"
DESCRIPTION:O Club Cultural Valle-Inclán pecha as “Sesións de Filmoteca” do ano cunha homenaxe a David Lynch\, falecido en este 2025. Será un pequeno ciclo de dúas películas en VOSE. \nDía 5 de novembro: El hombre elefante\, de David Lynch. USA\, 1980 – 125 min. \nDía 12 de novembro: Una historia verdadera\, de David Lynch. USA\, 1999 – 111 min. \n“Sesións de Filmoteca” desenvólvese en colaboración coa Filmoteca de Galicia e segundo acordo asinado pola AGADIC e a Federación de Cineclubes de Galicia. \nProxeccións no Salón de Actos da Casa do Saber\, en sesión de 19:30 horas. \nEntrada libre e de balde para socios do Valle-Inclán e comunidade universitaria. Resto do público cota proporcional de socio. \nIniciada a proxección non se permitirá o acceso á sala. \n\n\nEl hombre elefante\n\n\n\n\n\n\n\n\n\n\nMér\, 05/11/2025 – 19:30\n\n\nSalón de Actos da Casa do Saber\n\n\nDirector: David Lynch\n\n\nUSA\n\n\n1980\n\n\nDrama | Biográfico. Enfermidade. Discapacidade. Século XIX. Película de culto\n\n\n125 min\n\n\n\nGuión: David Lynch\, Eric Bergren\, Christopher De Vore (Biografía: Joseph Merrick)\n\n\nMúsica: John Morris\n\n\nIntérpretes: John Hurt\, Anthony Hopkins\, Anne Bancroft\, John Gielgud\n\n\n\n\n\nSinopse: Tras a surrealista Cabeza borradora\, Lynch adapta na súa segunda longa a biografía de Joseph Merrick\, home con deformacións corporais moi acusadas que a finais do século XIX se viu obrigado a traballar no mundo da farándula ata que un benfeitor que o acolleu nos seus últimos anos de vida logrou que recibise tratamento e puidese dedicarse por un tempo breve á escritura.\n\nPelícula delicada e contida\, é unha rara avis na filmografía do seu autor\, habitualmente asociado a narrativas máis disruptivas e sensoriais. Gran papel de John Hurt como o “home elefante”.\n\n\nVOSE. \n\n\n\nPremios\n\n\n1981: Premios César: Mellor película estranxeira \n1980: 8 Nominacións ao Oscar\, incluíndo Película e Director \n1980: Globos de Ouro: 4 nominacións\, incluíndo Mellor película – Drama \n1980: Premios BAFTA: Mellor película\, Actor (Hurt) e Dirección artística. 7 nominacións \n1980: Sindicato de Directores (DGA): Nominada a Mellor director \n1980: Sindicato de Guionistas (WGA): Nominada a Mellor guión adaptado – drama
URL:https://vivalugo.es/evento/cine-el-hombre-elefante/
LOCATION:Casa do Saber\, Praza Pío XII\, 3\, Lugo\, Lugo\, 27001
CATEGORIES:Cine
ATTACH;FMTTYPE=image/jpeg:https://vivalugo.es/wp-content/uploads/2025/11/cine-david-lynch.jpg
END:VEVENT
BEGIN:VEVENT
DTSTART;TZID=Europe/Madrid:20251105T200000
DTEND;TZID=Europe/Madrid:20251105T200000
DTSTAMP:20260419T193633
CREATED:20251028T182450Z
LAST-MODIFIED:20251028T182450Z
UID:96098-1762372800-1762372800@vivalugo.es
SUMMARY:Presentación del libro “Comerás flores” de Lucía Solla Sobral
DESCRIPTION:Presentación del libro “Comerás flores” de Lucía Solla Sobral \nEl próximo miércoles 5 de noviembre a las 20:00h en Lectocosmos \nLucía Solla Sobral presentará su libro en conversación con la periodista Carmen G. Magdaleno. \nLa novela\, editada por Libros del Asteroide\, realiza una disección de los mecanismos del maltrato psicológico a través de la historia de Marina\, una joven cuyo padre acaba de fallecer\, embarcada en una relación con un hombre veinte años mayor que él. \nLa dificultad del duelo\, lo complejo del amor\, las relaciones de poder\, la construcción de la propia identidad o la importancia de la amistad como refugio son algunos de los temas que dan forma a la novela. \nA pesar de ser su obra debut\, la autora se desenvuelve con una madurez inusitada en la escritura\, compaginando un registro lírico con otro más crudo y visceral\, y con una mezcla de técnica y sensibilidad que le auguran un importante futuro en las letras españolas.
URL:https://vivalugo.es/evento/presentacion-del-libro-comeras-flores-de-lucia-solla-sobral/
LOCATION:Lectocosmos\, Praza do Campo Castelo\, 19\, Lugo\, 27003
CATEGORIES:Presentaciones
ATTACH;FMTTYPE=image/png:https://vivalugo.es/wp-content/uploads/2025/10/presentacion-libro-comeras-flores.png
END:VEVENT
BEGIN:VEVENT
DTSTART;TZID=Europe/Madrid:20251105T200000
DTEND;TZID=Europe/Madrid:20251105T200000
DTSTAMP:20260419T193633
CREATED:20251029T194246Z
LAST-MODIFIED:20251029T194246Z
UID:96202-1762372800-1762372800@vivalugo.es
SUMMARY:Festival de Jazz de Lugo - Josep Manel Vega e Xove Orquestra Terra Nova
DESCRIPTION:Festival de Jazz de Lugo – Josep Manel Vega e Xove Orquestra Terra Nova\n\n\nMércores 5 de Novembro\n20:00 H – Conservatorio Profesional de Música Xoán Montes\nEntrada de balde ata completar aforo\n\n\nA almofada cálida e suave dunha orquestra clásica acolle as improvisacións sempre vizosas dun ensemble jazz.\n\nO ensemble será o magnífico trío barcelonés integrado por Juan Pablo Balcázar —baixista eléctrico\, contrabaixista e compositor con máis de dez discos gravados como líder e moitos outros como sideman que actuou nunha infinidade de salas e festivais—\, Genís Bagés —batería e artista sonoro de longa traxectoria nacional e internacional cuxa linguaxe musical consegue diversifica-lo elemento rítmico e que ten compartido escenario con Marco Mezquida\, David Mengual\, David Soler e Arecio Smith— e o propio Josep-Manel á guitarra\n\nWeb oficial del Festival de Jazz de Lugo
URL:https://vivalugo.es/evento/festival-de-jazz-de-lugo-josep-manel-vega-e-xove-orquestra-terra-nova/
LOCATION:CMUS Xoán Montes\, Xosé Castiñeira 5\, LUGO\, Lugo\, 27002\, Spain
ATTACH;FMTTYPE=image/jpeg:https://vivalugo.es/wp-content/uploads/2025/10/Programa-XXXV-Festival-Jazz-Lugo_2025-14.jpg
END:VEVENT
BEGIN:VEVENT
DTSTART;TZID=Europe/Madrid:20251105T203000
DTEND;TZID=Europe/Madrid:20251105T203000
DTSTAMP:20260419T193633
CREATED:20251103T155700Z
LAST-MODIFIED:20251103T155700Z
UID:96354-1762374600-1762374600@vivalugo.es
SUMMARY:Exposición do Maratón Fotográfico 2025 e entrega de premios
DESCRIPTION:Exposición do Maratón Fotográfico 2025 e entrega de premios \n05 de novembro de 2025 \n20:30 horas \nBiblioteca Intercentros Campus de Lugo
URL:https://vivalugo.es/evento/exposicion-do-maraton-fotografico-2025-e-entrega-de-premios/
LOCATION:Biblioteca Intercentros do Campus de Lugo\, Rúa Bernardino Pardo Ouro\, s/n\, LUGO\, Lugo\, 27002\, Spain
CATEGORIES:Expos
ATTACH;FMTTYPE=image/jpeg:https://vivalugo.es/wp-content/uploads/2025/10/lugo_cultural_maraton_fotografico_2025.jpg
END:VEVENT
END:VCALENDAR