BEGIN:VCALENDAR
VERSION:2.0
PRODID:-//VivaLugo - ECPv6.15.13.1//NONSGML v1.0//EN
CALSCALE:GREGORIAN
METHOD:PUBLISH
X-ORIGINAL-URL:https://vivalugo.es
X-WR-CALDESC:Eventos para VivaLugo
REFRESH-INTERVAL;VALUE=DURATION:PT1H
X-Robots-Tag:noindex
X-PUBLISHED-TTL:PT1H
BEGIN:VTIMEZONE
TZID:Europe/Madrid
BEGIN:DAYLIGHT
TZOFFSETFROM:+0100
TZOFFSETTO:+0200
TZNAME:CEST
DTSTART:20240331T010000
END:DAYLIGHT
BEGIN:STANDARD
TZOFFSETFROM:+0200
TZOFFSETTO:+0100
TZNAME:CET
DTSTART:20241027T010000
END:STANDARD
BEGIN:DAYLIGHT
TZOFFSETFROM:+0100
TZOFFSETTO:+0200
TZNAME:CEST
DTSTART:20250330T010000
END:DAYLIGHT
BEGIN:STANDARD
TZOFFSETFROM:+0200
TZOFFSETTO:+0100
TZNAME:CET
DTSTART:20251026T010000
END:STANDARD
BEGIN:DAYLIGHT
TZOFFSETFROM:+0100
TZOFFSETTO:+0200
TZNAME:CEST
DTSTART:20260329T010000
END:DAYLIGHT
BEGIN:STANDARD
TZOFFSETFROM:+0200
TZOFFSETTO:+0100
TZNAME:CET
DTSTART:20261025T010000
END:STANDARD
END:VTIMEZONE
BEGIN:VEVENT
DTSTART;TZID=Europe/Madrid:20251105T170000
DTEND;TZID=Europe/Madrid:20251106T200000
DTSTAMP:20260419T193755
CREATED:20251104T163251Z
LAST-MODIFIED:20251104T163251Z
UID:96445-1762362000-1762459200@vivalugo.es
SUMMARY:Mercadiño de segunda man de Bico de Grao
DESCRIPTION:Mercadiño de segunda man de Bico de Grao \nOs días 5 e 6 de novembro de 17 a 20h. \n«Xa coñecedes todas a dinámica: Intercambiar (aquí non hai moeda de ningunha clase) para fomentar o desapego material e darlle unha segunda (ou miles) de vidas ás cousas que algún día nos deron servizo pero que xa non. \nLembra o máis importante! O que traias ten que estar limpo\, en bo estado\, ser útil (ou funcionar se é o caso) e non ser produtos alimenticios.»
URL:https://vivalugo.es/evento/mercadino-de-segunda-man-de-bico-de-grao/
LOCATION:Bico de Grao S. Coop. Galega\, Ronda das Fontiñas\, 226 baixo\, Lugo
CATEGORIES:Varios
ATTACH;FMTTYPE=image/jpeg:https://vivalugo.es/wp-content/uploads/2025/11/mercadino-segunda-man.jpg
END:VEVENT
BEGIN:VEVENT
DTSTART;TZID=Europe/Madrid:20251106T180000
DTEND;TZID=Europe/Madrid:20251106T180000
DTSTAMP:20260419T193755
CREATED:20251028T195709Z
LAST-MODIFIED:20251028T195709Z
UID:96160-1762452000-1762452000@vivalugo.es
SUMMARY:Espectáculo teatral para bebés "Tilintilonia"
DESCRIPTION:Espectáculo teatral para bebés «Tilintilonia» \nO BAÚL DA TÍA TOLA \nXoves\, 6 de novembro de 2025 18:00 hs. \n\nLugar: MIHL\, Museo Interactivo da Historia de Lugo\nIdade recomendada: A partir de 1 a 3 anos \nSinopse: \nEspectáculo teatral para bebés. \nTilintilonia é un pequeno planeta habitado por Tilín e Tilón\, onde xogaremos a explorar as diferentes texturas que existen nel e o que estas nos suxiren\, mentres descubrimos cores\, obxectos\, emocións e sensacións \nENTRADAS DE BALDE EN entradaslugo.es  \nProgramación cultural do segundo semestre no Auditorio Municipal Gustavo Freire
URL:https://vivalugo.es/evento/espectaculo-teatral-para-bebes-tilintilonia/
LOCATION:MIHL\, Av Infanta Elena\, s/n\, Lugo
CATEGORIES:Artes escénicas
ATTACH;FMTTYPE=image/jpeg:https://vivalugo.es/wp-content/uploads/2025/10/animacion-lectura-2025-02.jpg
END:VEVENT
BEGIN:VEVENT
DTSTART;TZID=Europe/Madrid:20251106T183000
DTEND;TZID=Europe/Madrid:20251106T183000
DTSTAMP:20260419T193755
CREATED:20251105T164950Z
LAST-MODIFIED:20251105T164950Z
UID:96491-1762453800-1762453800@vivalugo.es
SUMMARY:Monicreques "A Teteira de Kabul"
DESCRIPTION:Monicreques «A Teteira de Kabul» \n06 de novembro de 2025 – 18:30 horas – Centro de Convivencia de Fingoi \nTEATRO DE OBXECTOS E MONICREQUES  /  +6 ANOS /  45 MIN \nA Teteira de Kabul fala sobre o valor da paz. A súa protagonista\, Mina\, é unha nena afgá que ten que abandonar o seu fogar como consecuencia da guerra. Ela e a súa familia emprenden unha longa viaxe na que a pesar das duras condicións irá descubrindo a beleza do tránsito grazas ás historias que lle conta súa nai e que ela garda nunha teteira. \nEsta nova proposta de Xarope Tulú\, en coprodución coa ONGD Asemblea de Cooperación pola Paz\, está baseada no conto homónimo de Carolina Pujadas e fala das vivencias das persoas que se ven na obriga de abandonar o seu fogar. A súa protagonista está inspirado na vida da escritora afgá Nadia Ghulam. A poética dos monicreques permite viaxar a outros lugares e contar a historia desde unha perspectiva construtiva e alentadora. \nA peza foi finalista a mellor proposta de monicreques nos Premios María Casares 2024.
URL:https://vivalugo.es/evento/monicreques-a-teteira-de-kabul/
LOCATION:Centro de Convivencia Fingoi\, Rúa Aviación Española\, 22\, Lugo\, 27002
CATEGORIES:Artes escénicas
ATTACH;FMTTYPE=image/jpeg:https://vivalugo.es/wp-content/uploads/2025/11/monicreques-a-teteira-de-kabul.jpg
END:VEVENT
BEGIN:VEVENT
DTSTART;TZID=Europe/Madrid:20251106T190000
DTEND;TZID=Europe/Madrid:20251106T190000
DTSTAMP:20260419T193755
CREATED:20251105T164541Z
LAST-MODIFIED:20251105T164541Z
UID:96489-1762455600-1762455600@vivalugo.es
SUMMARY:Visita guiada á exposición «Nicolás Muller en Galicia»
DESCRIPTION:Visita guiada á exposición «Nicolás Muller en Galicia» \n6 de novembro de 2025\, ás 19.00 h\, Sede de Afundación en Lugo \nGratuita \nReserva de entradas en Ataquilla.com
URL:https://vivalugo.es/evento/visita-guiada-a-exposicion-nicolas-muller-en-galicia/
LOCATION:Afundación\, Praza Maior\, 16\, Lugo\, Lugo\, 27001\, Spain
CATEGORIES:Varios
END:VEVENT
BEGIN:VEVENT
DTSTART;TZID=Europe/Madrid:20251106T200000
DTEND;TZID=Europe/Madrid:20251106T200000
DTSTAMP:20260419T193755
CREATED:20251105T182656Z
LAST-MODIFIED:20251105T182656Z
UID:96494-1762459200-1762459200@vivalugo.es
SUMMARY:Presentación do novo libro de Adrián Méndez
DESCRIPTION:Presentación do novo libro de Adrián Méndez \n«O violín que trae o vento» \nXoves 06 de novembro – 20:00 horas – Capela de Santa María\, Lugo
URL:https://vivalugo.es/evento/presentacion-do-novo-libro-de-adrian-mendez/
LOCATION:Capela de Santa María\, Ronda da Muralla\, 140\, Lugo\, Lugo\, 27004
CATEGORIES:Presentaciones
ATTACH;FMTTYPE=image/jpeg:https://vivalugo.es/wp-content/uploads/2025/11/presentacion-libro-adrian-mendez.jpg
END:VEVENT
BEGIN:VEVENT
DTSTART;TZID=Europe/Madrid:20251106T203000
DTEND;TZID=Europe/Madrid:20251106T203000
DTSTAMP:20260419T193755
CREATED:20251028T195948Z
LAST-MODIFIED:20251028T195948Z
UID:96162-1762461000-1762461000@vivalugo.es
SUMMARY:Teatro "Oh\, mammi blue!"
DESCRIPTION:Teatro «Oh\, mammi blue!» \nCinema Sticado \n\n\n\n\nXoves\, 6 de novembro de 2025 20:30 hs. \n\n\n\n\n\nLugar: Auditorio Municipal Gustavo Freire\nCategoría: Teatro Adultas\nIdade recomendada: A partir dos 16 anos \nSinopse: \nOh\, mammi blue! comeza coas primeiras horas dun parto\, as últimas dun embarazo e a sensación de que algo vai saír mal. \nA  través dunha serie de incidentes e erros cos que a protagonista se compromete ata o final\, asistiremos a un desenlace inesperado que cambiará a súa vida\, e a dos que a rodean\, para sempre. \nA través dunha posta en escena innovadora e visualmente impactante\, a peza achéganos un testemuño único e luminoso sobre a perda\, o trauma\, o amor e a supervivencia. \nOh\, mammi blue! é unha obra irreverente\, máxica\, profunda e lúcida. Un monólogo tráxico cargado de humor que desafiará as expectativas do espectador. Un relato fascinante no que se destapan tabús de xeito audaz e onde quedan reflectidas as dúbidas\, a beleza\, o terror e a culpa que acompañan a experiencia da maternidade. \nUnha obra cun dispositivo narrativo singularísimo que non deixará indiferente ao público. \nENTRADAS: \nAdquisición de entradas a través do portal web entradaslugo.es e na Oficina de Turismo ata 3 horas antes do comezo de cada función; e no auditorio\, o día da función\, desde unha hora e media antes do comezo do espectáculo. \nProgramación cultural do segundo semestre no Auditorio Municipal Gustavo Freire
URL:https://vivalugo.es/evento/teatro-oh-mammi-blue/
LOCATION:​Auditorio Municipal Gustavo Freire\, Parque da Milagrosa\, Avda. da Coruña\, s/n\, Lugo\, Lugo\, 27003\, Spain
CATEGORIES:Artes escénicas
ATTACH;FMTTYPE=image/jpeg:https://vivalugo.es/wp-content/uploads/2025/10/programacion-gustavo-freire-adultos-5.jpg
END:VEVENT
BEGIN:VEVENT
DTSTART;TZID=Europe/Madrid:20251106T203000
DTEND;TZID=Europe/Madrid:20251106T203000
DTSTAMP:20260419T193755
CREATED:20251029T195010Z
LAST-MODIFIED:20251029T195010Z
UID:96205-1762461000-1762461000@vivalugo.es
SUMMARY:Festival de Jazz de Lugo - Vincent Peirani
DESCRIPTION:Festival de Jazz de Lugo – Vincent Peirani\n\n\nXoves 6 de Novembro\n20:30 H – Círculo das Artes\n\n\nNumerosos premios internacionais.\n\nHai dez anos renovou por completo a linguaxe do acordeón e hoxe segue a renovala grazas a unha visión desinhibida e cosmopolita da música e ao seu sentido da combinación e da cor harmónica\, instrumental e tímbrica que lle permiten achegar ese toque máxico\, raro e precioso a todo o que fai.\n\nMoito carisma\, un enfoque único da arte e habilidades creativas excepcionais cativan o ouvinte de inmediato.\n\nPresenta o seu novo disco Living Being IV: Time Reflections\n\n\n\nVincent Peiranie: acordeòn\nEmile Parisien: saxo\nTony Paeleman: teclados\nJulien Herné: baixo\nYoann Serra: batería\n\n\n\nENTRADAS: Venda de entradas na caseta do festival ou en Notikumi\n\nCaseta do Festival: aberta dende o 31 de outubro en horario de 12:30 a 14:00 e de 19:00 a 20:30. Está na praza Maior\, fronte ao Círculo das Artes.\n\nWeb oficial del Festival de Jazz de Lugo
URL:https://vivalugo.es/evento/festival-de-jazz-de-lugo-vincent-peirani/
LOCATION:Círculo das Artes\, Praza Maior\, 23\, Lugo\, Lugo\, 27001\, Spain
CATEGORIES:Conciertos
ATTACH;FMTTYPE=image/jpeg:https://vivalugo.es/wp-content/uploads/2025/10/Programa-XXXV-Festival-Jazz-Lugo_2025-4.jpg
END:VEVENT
BEGIN:VEVENT
DTSTART;TZID=Europe/Madrid:20251106T223000
DTEND;TZID=Europe/Madrid:20251106T223000
DTSTAMP:20260419T193755
CREATED:20251029T203019Z
LAST-MODIFIED:20251029T203019Z
UID:96246-1762468200-1762468200@vivalugo.es
SUMMARY:Festival de Jazz de Lugo - Arturo Pueyo Quartet
DESCRIPTION:Festival de Jazz de Lugo – Arturo Pueyo Quartet \nXoves 6 de Novembro\n22:30 H – Club Clavicémbalo\n\n\nArturo Pueyo: clarinete\nSeir Caneda: piano\nToño Miguel: contrabaixo\nRodrigo Ballesteros: batería\n\nENTRADAS: Venda de entradas na mesma sala ou anticipada en Woutick\n\nWeb oficial del Festival de Jazz de Lugo
URL:https://vivalugo.es/evento/festival-de-jazz-de-lugo-arturo-pueyo-quartet/
LOCATION:Club Clavicémbalo\, Rúa dos Paxariños\, 23\, Lugo\, Lugo\, 27002\, Spain
CATEGORIES:Conciertos
ATTACH;FMTTYPE=image/jpeg:https://vivalugo.es/wp-content/uploads/2025/10/Programa-XXXV-Festival-Jazz-Lugo_2025-14.jpg
END:VEVENT
END:VCALENDAR