BEGIN:VCALENDAR
VERSION:2.0
PRODID:-//VivaLugo - ECPv6.15.13.1//NONSGML v1.0//EN
CALSCALE:GREGORIAN
METHOD:PUBLISH
X-WR-CALNAME:VivaLugo
X-ORIGINAL-URL:https://vivalugo.es
X-WR-CALDESC:Eventos para VivaLugo
REFRESH-INTERVAL;VALUE=DURATION:PT1H
X-Robots-Tag:noindex
X-PUBLISHED-TTL:PT1H
BEGIN:VTIMEZONE
TZID:Europe/Madrid
BEGIN:DAYLIGHT
TZOFFSETFROM:+0100
TZOFFSETTO:+0200
TZNAME:CEST
DTSTART:20240331T010000
END:DAYLIGHT
BEGIN:STANDARD
TZOFFSETFROM:+0200
TZOFFSETTO:+0100
TZNAME:CET
DTSTART:20241027T010000
END:STANDARD
BEGIN:DAYLIGHT
TZOFFSETFROM:+0100
TZOFFSETTO:+0200
TZNAME:CEST
DTSTART:20250330T010000
END:DAYLIGHT
BEGIN:STANDARD
TZOFFSETFROM:+0200
TZOFFSETTO:+0100
TZNAME:CET
DTSTART:20251026T010000
END:STANDARD
BEGIN:DAYLIGHT
TZOFFSETFROM:+0100
TZOFFSETTO:+0200
TZNAME:CEST
DTSTART:20260329T010000
END:DAYLIGHT
BEGIN:STANDARD
TZOFFSETFROM:+0200
TZOFFSETTO:+0100
TZNAME:CET
DTSTART:20261025T010000
END:STANDARD
END:VTIMEZONE
BEGIN:VEVENT
DTSTART;TZID=Europe/Madrid:20251107T170000
DTEND;TZID=Europe/Madrid:20251107T170000
DTSTAMP:20260419T193633
CREATED:20251104T165529Z
LAST-MODIFIED:20251104T165529Z
UID:96462-1762534800-1762534800@vivalugo.es
SUMMARY:Magosto na Semente - Novembro 2025
DESCRIPTION:Magosto na Semente – Novembro 2025 \n07 de novembro de 2025 \nA partir das 17:00 horas \n 
URL:https://vivalugo.es/evento/magosto-na-semente-novembro-2025/
LOCATION:Semente Lugo\, Pista de Barbaín\,\, Lugo\, 27140
CATEGORIES:Varios
ATTACH;FMTTYPE=image/jpeg:https://vivalugo.es/wp-content/uploads/2025/11/magosto-na-semente.jpg
END:VEVENT
BEGIN:VEVENT
DTSTART;TZID=Europe/Madrid:20251107T170000
DTEND;TZID=Europe/Madrid:20251107T190000
DTSTAMP:20260419T193633
CREATED:20251103T161951Z
LAST-MODIFIED:20251103T161951Z
UID:96363-1762534800-1762542000@vivalugo.es
SUMMARY:Obradoiro "Explora a ciencia"
DESCRIPTION:Obradoiro «Explora a ciencia»\n07 de Novembro 2025\, 17:00 – 19:00 \nBiblioteca Pública de Lugo \nA cargo de Ciencia Kids. \nObradoiro que promove a cultura científica a través de experimentos dinámicos e demostracións interactivas. \nBusca estimular a curiosidade e o pensamento crítico\, presentando a ciencia como unha ferramenta fundamental para comprender o noso entorno dun xeito divertido. \nUnha viaxe para mentes curiosas e corazóns curiosos. \nPara nenos/as de 6 a 12 anos. \nDuración: 60 minutos \nDuas quendas: (15 prazas por quenda) \n\nPrimeira quenda: ás 17:00\nSegunda quenda: ás 18:00 h.\n\nLudoteca \nInscrición previa desde o luns anterior na sala infantil ou no teléfono 982828329
URL:https://vivalugo.es/evento/obradoiro-explora-a-ciencia/
LOCATION:Biblioteca Provincial de Lugo\, Avda Ramón Ferreiro\, Lugo
CATEGORIES:Cursos
END:VEVENT
BEGIN:VEVENT
DTSTART;TZID=Europe/Madrid:20251107T180000
DTEND;TZID=Europe/Madrid:20251107T180000
DTSTAMP:20260419T193633
CREATED:20251104T160818Z
LAST-MODIFIED:20251104T160818Z
UID:96426-1762538400-1762538400@vivalugo.es
SUMMARY:Mostra aberta de danza "52-BLAU"
DESCRIPTION:O programa de residencias Atopémonos Bailando\, coordinado por Colectivo Glovo en colaboración coa Área de Cultura\, Turismo e Promoción da Lingua do Concello de Lugo\, presenta esta semana tres mostras abertas no Museo MIHL de Lugo: \n➡ Martes 5 de novembro · 18:00 h \n\nJandross — A noite do cuco\nUnha figura que acompaña mentres o corpo permanece: celebra a vida\, entreabre as portas do alén e encarna as contradicións que nos tecen.\nJessica Castellón & Boris Orihuela — Ni Fu Ni Fa\nPeza en proceso que cruza o tradicional e o contemporáneo\, conectando danzas urbanas e flamenco para escavar na memoria persoal e colectiva.\n\n➡ Xoves 7 de novembro · 18:00 h \n\nIXA — 52-BLAU\nCase unha oda á adaptación: un corpo que sobrevive ao naufraxio nun océano de estímulos e información\, buscando saír á tona.\n\nEntrada de balde con reserva previa: 604 002 295.
URL:https://vivalugo.es/evento/mostra-aberta-de-danza-52-blau/
LOCATION:MIHL\, Av Infanta Elena\, s/n\, Lugo
CATEGORIES:Artes escénicas
ATTACH;FMTTYPE=image/jpeg:https://vivalugo.es/wp-content/uploads/2025/11/mostra-aberta-52-blau.jpg
END:VEVENT
BEGIN:VEVENT
DTSTART;TZID=Europe/Madrid:20251107T190000
DTEND;TZID=Europe/Madrid:20251107T190000
DTSTAMP:20260419T193633
CREATED:20251103T154441Z
LAST-MODIFIED:20251106T181652Z
UID:96346-1762542000-1762542000@vivalugo.es
SUMMARY:Inauguración do proxecto "As que contan. A tradición na muller rural galega"
DESCRIPTION:Inauguración do proxecto «As que contan. A tradición na muller rural galega» \n07 de novembro de 2025 \nMuseo provincial de Lugo \n19:00h.
URL:https://vivalugo.es/evento/inauguracion-do-proxecto-as-que-contan-a-tradicion-na-muller-rural-galega/
LOCATION:Museo Provincial de Lugo\, Praza da Soidade\, s/n\, Lugo\, 27001
CATEGORIES:Expos
ATTACH;FMTTYPE=image/jpeg:https://vivalugo.es/wp-content/uploads/2025/11/as-que-contan.jpg
END:VEVENT
BEGIN:VEVENT
DTSTART;TZID=Europe/Madrid:20251107T193000
DTEND;TZID=Europe/Madrid:20251107T193000
DTSTAMP:20260419T193633
CREATED:20251104T161536Z
LAST-MODIFIED:20251104T161536Z
UID:96430-1762543800-1762543800@vivalugo.es
SUMMARY:Palestra sobre Palestina
DESCRIPTION:Esta sexta-feira dia 7 de novembro às 19h30 no centro social Madia Leva\, umha palestra sobre a situaçom de Palestina.\n\nNa mesma intervirá o ativista da causa Palestina Amir Ismail. Médico em Ferrol\, nascido em Gaza.\n\nTambém intervirám Inácio Martinez e Joám Lopes ativistas da causa Palestina e participantes na Marcha a Gaza.
URL:https://vivalugo.es/evento/palestra-sobre-palestina/
LOCATION:Madia Leva\, Serra de Ancares 18\, Lugo
CATEGORIES:Conferencias
ATTACH;FMTTYPE=image/jpeg:https://vivalugo.es/wp-content/uploads/2025/11/palestra-sobre-palestina.jpg
END:VEVENT
BEGIN:VEVENT
DTSTART;TZID=Europe/Madrid:20251107T193000
DTEND;TZID=Europe/Madrid:20251107T193000
DTSTAMP:20260419T193633
CREATED:20251104T164536Z
LAST-MODIFIED:20251104T164536Z
UID:96456-1762543800-1762543800@vivalugo.es
SUMMARY:Proxección do filme "Reboiras"
DESCRIPTION:Proxección do filme «Reboiras» \nVenres 07 de novembro de 2025 \n19:30 horas – O Vello Cárcere de Lugo \nColoquio con Marisa Canto \nEntrada de balde
URL:https://vivalugo.es/evento/proxeccion-do-filme-reboiras/
LOCATION:O Vello Cárcere\, Av. Alcalde Anxo López Pérez\, 10\, Lugo\, Lugo\, 27002\, Spain
CATEGORIES:Cine
ATTACH;FMTTYPE=image/jpeg:https://vivalugo.es/wp-content/uploads/2025/11/proxeccion-filme-reboiras.jpg
END:VEVENT
BEGIN:VEVENT
DTSTART;TZID=Europe/Madrid:20251107T203000
DTEND;TZID=Europe/Madrid:20251107T203000
DTSTAMP:20260419T193633
CREATED:20251029T214130Z
LAST-MODIFIED:20251029T214130Z
UID:96264-1762547400-1762547400@vivalugo.es
SUMMARY:Festival de Jazz de Lugo - Victor Wooten & The Wooten Brothers
DESCRIPTION:Festival de Jazz de Lugo – Victor Wooten & The Wooten Brothers \nVenres 7 de Novembro\n20:30 H Auditorio Fuxan os Ventos\n\nOs Wooten son coñecidos colectivamente como un dos grupos de irmáns máis talentosos e dinámicos que o mundo teña escoitado.\n\nVictor Wooten\, en cinco ocasións gañador dun Grammy\, é un dos mellores baixistas vivos do presente e\, a miúdo comparado con Jaco Pastorius\, integra a lista de clasificación da revista Rolling Stone dos dez mellores de tódolos tempos.\n\nJoseph Wooten é tecladista e vocalista da Steve Miller Band. Joseph tamén é compositor e arranxador nomeado para os Grammy e destacou por excepcional como vocalista desde neno. Colaborou con figuras como Whitney Houston\, Kashif\, Kenny G e George Clinton.\n\nRoy Futureman Wooten\, cinco veces gañador dun Grammy\, é coñecido pola mestría na batería en particular e na percusión en xeral. Famoso\, así mesmo\, polas súas frenéticas e inimitables actuacións.\n\nO estilo característico da guitarra de Regi Wooten\, que definen acordes\, slaps\, tapping e rasgados sen freo\, valeulle sona mundial e comparacións con Jimi Hendrix\, Frank Zappa e Chuck Berry. Coñecido mundialmente como o Mestre.\n\nENTRADAS\n\nAdquisición de entradas a través do portal web entradaslugo.es e na Oficina de Turismo ata 3 horas antes do comezo de cada función; e no auditorio\, o día da función\, desde unha hora e media antes do comezo do espectáculo. \nWeb oficial do Festival de Jazz de Lugo
URL:https://vivalugo.es/evento/festival-de-jazz-de-lugo-victor-wooten-the-wooten-brothers/
LOCATION:Auditorio Municipal Fuxan os Ventos\, Rúa Madanela\, LUGO\, Lugo\, 27002\, Spain
CATEGORIES:Conciertos
ATTACH;FMTTYPE=image/jpeg:https://vivalugo.es/wp-content/uploads/2025/10/Programa-XXXV-Festival-Jazz-Lugo_2025-5.jpg
END:VEVENT
BEGIN:VEVENT
DTSTART;TZID=Europe/Madrid:20251107T220000
DTEND;TZID=Europe/Madrid:20251107T220000
DTSTAMP:20260419T193633
CREATED:20251106T182159Z
LAST-MODIFIED:20251106T182159Z
UID:96510-1762552800-1762552800@vivalugo.es
SUMMARY:Concierto de Burning
DESCRIPTION:Concierto de Burning\n[ ROCK & ROLL ] \nVIERNES 07.NOV.2025\n22:00 H. Sala Jagger
URL:https://vivalugo.es/evento/concierto-de-burning/
LOCATION:Sala Jagger\, Rua da Cruz 20\, Lugo\, Lugo\, 27001
CATEGORIES:Conciertos
ATTACH;FMTTYPE=image/jpeg:https://vivalugo.es/wp-content/uploads/2025/11/concierto-de-burning.jpg
END:VEVENT
BEGIN:VEVENT
DTSTART;TZID=Europe/Madrid:20251107T230000
DTEND;TZID=Europe/Madrid:20251107T230000
DTSTAMP:20260419T193633
CREATED:20251029T203540Z
LAST-MODIFIED:20251029T203540Z
UID:96248-1762556400-1762556400@vivalugo.es
SUMMARY:Festival de Jazz de Lugo - Pocket Corner e Astrid Jones & The Blue Flaps
DESCRIPTION:Festival de Jazz de Lugo – Pocket Corner e Astrid Jones & The Blue Flaps\n\nPocket Corner\nVenres 7 de Novembro\n22:45 H – Club Clavicémbalo\n\n\n\nDidrik Ingvaldsen: trompeta\nGlenn Brun Henriksen: saxo alto\nKjetil Jerve: teclados\nStåle Birkeland: batería\n\nDidrik Ingvaldsen é nome principal da vangarda jazzística europea e o free jazz. \nIngvaldsen fundou\, no 1986\, Pocket Corner\, a formación na que depositou máis desvelos e que mellor representa a esencia da súa concepción musical. \n\n\nAstrid Jones & The Blue Flaps.\nVenres 7 de Novembro\n23:50 H – Club Clavicémbalo\n\n\nO seu son proporciona unha vivencia irrepetible en directo na que emoción e groove encarnan personaxes principais; un percorrido a ceo descuberto ente o soul\, o jazz\, o reggae\, o funk e os ritmos africanos\n\n\nAstrid Jones: voz\nCarlos Bratt: guitarra\nCarlos Soria: baixo\nArnaldo Lescay: batería\nErnesto Millán: saxo e teclados\n\n\nENTRADAS: Venda de entradas na mesma sala ou anticipada en Woutick\n\nWeb oficial del Festival de Jazz de Lugo
URL:https://vivalugo.es/evento/festival-de-jazz-de-lugo-pocket-corner-e-astrid-jones-the-blue-flaps/
LOCATION:Club Clavicémbalo\, Rúa dos Paxariños\, 23\, Lugo\, Lugo\, 27002\, Spain
ATTACH;FMTTYPE=image/jpeg:https://vivalugo.es/wp-content/uploads/2025/10/Programa-XXXV-Festival-Jazz-Lugo_2025-15.jpg
END:VEVENT
END:VCALENDAR