BEGIN:VCALENDAR
VERSION:2.0
PRODID:-//VivaLugo - ECPv6.15.13.1//NONSGML v1.0//EN
CALSCALE:GREGORIAN
METHOD:PUBLISH
X-ORIGINAL-URL:https://vivalugo.es
X-WR-CALDESC:Eventos para VivaLugo
REFRESH-INTERVAL;VALUE=DURATION:PT1H
X-Robots-Tag:noindex
X-PUBLISHED-TTL:PT1H
BEGIN:VTIMEZONE
TZID:Europe/Madrid
BEGIN:DAYLIGHT
TZOFFSETFROM:+0100
TZOFFSETTO:+0200
TZNAME:CEST
DTSTART:20240331T010000
END:DAYLIGHT
BEGIN:STANDARD
TZOFFSETFROM:+0200
TZOFFSETTO:+0100
TZNAME:CET
DTSTART:20241027T010000
END:STANDARD
BEGIN:DAYLIGHT
TZOFFSETFROM:+0100
TZOFFSETTO:+0200
TZNAME:CEST
DTSTART:20250330T010000
END:DAYLIGHT
BEGIN:STANDARD
TZOFFSETFROM:+0200
TZOFFSETTO:+0100
TZNAME:CET
DTSTART:20251026T010000
END:STANDARD
BEGIN:DAYLIGHT
TZOFFSETFROM:+0100
TZOFFSETTO:+0200
TZNAME:CEST
DTSTART:20260329T010000
END:DAYLIGHT
BEGIN:STANDARD
TZOFFSETFROM:+0200
TZOFFSETTO:+0100
TZNAME:CET
DTSTART:20261025T010000
END:STANDARD
END:VTIMEZONE
BEGIN:VEVENT
DTSTART;VALUE=DATE:20251108
DTEND;VALUE=DATE:20251109
DTSTAMP:20260419T193755
CREATED:20251104T153652Z
LAST-MODIFIED:20251104T153723Z
UID:96409-1762560000-1762646399@vivalugo.es
SUMMARY:Contacontos miúdos “Biscoito de castañas”
DESCRIPTION:Contacontos miúdos “Biscoito de castañas” \n08/11/2025 \n11:00 e 12:30 en O Vello Cárcere de Lugo \nNunha tarde de outono cheo de misterio e agarimo familiar\, chega este conto de Lucía Mojón. \nCoa axuda da familia da protagonista desta historia\, ven descubrir o misterio da Cova da Pena Grande. Conseguirán atopar a misteriosa cova? Que papel terán as castañas neste misterio? Acompáñanos a descubrir tódolos segredos! \nO tempo restante\, os participantes poderán ler\, debuxar ou xogar no Espazo de Lecer. \nPúblico: nados entre 2017 e 2022 inclusive. \nAforo: 15 persoas. \n*Recoméndase inscrición previa a partir do luns 3 de novembro (inclusive) \n O Vello Cárcere de Lugo – Programación semanal
URL:https://vivalugo.es/evento/contacontos-miudos-biscoito-de-castanas/
LOCATION:O Vello Cárcere\, Av. Alcalde Anxo López Pérez\, 10\, Lugo\, Lugo\, 27002\, Spain
CATEGORIES:Artes escénicas
END:VEVENT
BEGIN:VEVENT
DTSTART;VALUE=DATE:20251108
DTEND;VALUE=DATE:20251109
DTSTAMP:20260419T193755
CREATED:20251104T160155Z
LAST-MODIFIED:20251104T160232Z
UID:96421-1762560000-1762646399@vivalugo.es
SUMMARY:Curso de iniciación á micoloxía
DESCRIPTION:Curso de iniciación á micoloxía \nSábado\, día 8\, no Edificio Impulso Verde e nos bosques próximos á cidade. \nO obxectivo do curso pasa polo estudio dos fungos e aspectos relacionados coa nutrición\, clasificación sobre os que son comestibles\, cultivo\, identificación e características dos cogomelos. \nEstes serán algúns dos temas que se abordarán na parte teórica\, que se desenvolverá no edificio Impulso Verde\, a partir das 10.00 horas\, para desde as 11.30 iniciar a parte práctica\, que se desenvolverá durante outras dúas horas por bosques próximos á cidade. \nA iniciativa do Concello de Lugo\, realizada en colaboración coa Sociedade Micolóxica Lucus\, é gratuíta\, aínda que precisa de inscrición previa no 010 ata cubrir as 35 prazas dispoñibles. \nDe feito\, a parte teórica\, cunha proxección audiovisual nas instalacións do Impulso Verde\, será impartida por docentes da citada agrupación\, espertos ademais en todo o que rodea á Reserva da Biosfera de Terras do Miño\, como zona principal sobre a que se desenvolverá este curso.   \nNa parte práctica\, con saída ao campo\, estudiarase a identificación dos cogomelos no seu propio hábitat\, con explicacións e aplicacións de técnicas axeitadas e sostibles de recolleita. Ademais\, se tratará a normativa vixente sobre aproveitamentos micolóxicos\, así como dos valores naturais e medio ambientais de Lugo. \nSociedade Micolóxica Lucus\nA Sociedade Micolóxica Lucus\, fundada en 2001\, é unha asociación sen ánimo de lucro\, cultural\, naturalista e micolóxica\, que desenvolve cada ano un extenso programa de actividades nestes eidos\, ademais de organizar diversos eventos por toda a provincia de Lugo\, para divulgar contidos relacionados coa micoloxía\, a natureza e o medio ambiente\, en colaboración permanente coas diversas administracións públicas. \nDesde o ano 2012 pasa a formar parte do Órgano de Participación da Reserva da Biosfera Terras do Miño\, polo que o seu coñecemento sobre esta contorna de especial riqueza natural é moi amplo\, algo que será aproveitado polas persoas que asistan a esta nova iniciativa.
URL:https://vivalugo.es/evento/curso-de-iniciacion-a-micoloxia/
LOCATION:Lugo
CATEGORIES:Cursos
ATTACH;FMTTYPE=image/jpeg:https://vivalugo.es/wp-content/uploads/2025/11/curso-iniciacion-micoloxia.jpg
END:VEVENT
BEGIN:VEVENT
DTSTART;TZID=Europe/Madrid:20251108T110000
DTEND;TZID=Europe/Madrid:20251108T110000
DTSTAMP:20260419T193755
CREATED:20251104T170108Z
LAST-MODIFIED:20251104T170316Z
UID:96465-1762599600-1762599600@vivalugo.es
SUMMARY:Guido Guía - Segredos do Mera
DESCRIPTION:Guido Guía – Segredos do Mera\nSábado 8 de novembro de 2025 \nA actividade comezará ás 11 da mañá na Ponte Romana\, o prezo será de 8 € por persoa (desconto do 50% para menores de 18 anos\, e gratuidade para menores de 2) e as inscricións poden facerse a través do correo electrónico guidoguiaturismo@gmail.com. \nFinaliza ás 14:00 horas \n15 de novembro: Enigmas lucenses \n22 de novembro: O primeiro Camiño \n13 de decembro: O nacemento do Rato \n20 de decembro: O val do Miño \nGuido Guía propón 10 paseos guiados polo Lugo menos coñecido no X aniversario do seu proxecto
URL:https://vivalugo.es/evento/guido-guia-segredos-do-mera/
LOCATION:Lugo
CATEGORIES:Varios
ATTACH;FMTTYPE=image/jpeg:https://vivalugo.es/wp-content/uploads/2025/11/guido-guia-segredos-mera.jpg
END:VEVENT
BEGIN:VEVENT
DTSTART;TZID=Europe/Madrid:20251108T113000
DTEND;TZID=Europe/Madrid:20251108T113000
DTSTAMP:20260419T193755
CREATED:20251029T162644Z
LAST-MODIFIED:20251107T155211Z
UID:96173-1762601400-1762601400@vivalugo.es
SUMMARY:Obradoiro ‘Unha autopsia arqueolóxica: o que os ósos do pasado nos contan’
DESCRIPTION:Obradoiro ‘Unha autopsia arqueolóxica: o que os ósos do pasado nos contan’ \nCon motivo da festividade de Defuntos\, o Museo Universitario Domus do Mitreo da USC organiza para o sábado 8 de novembro un obradoiro para toda a familia no que se descubrirá como os ósos humanos arqueolóxicos nos axudan a entender a vida e a saúde das persoas en tempos pasados. \nO obradoiro ‘Unha autopsia arqueolóxica: o que os ósos do pasado nos contan’\, que impartirá o profesor de Prehistoria da USC Edgar Camarós\, será ás 11.30 horas e terá unha duración aproximada dunha hora. \nA través de casos fascinantes como as trepanacións e outras cirurxías antigas\, neste obradoiro didáctico explorarase a historia da medicina e aprenderase como eran as enfermidades e coidados no pasado. \nTal e como explica a directora do Museo\, Dolores Dopico\, trátase dunha actividade divulgativa e accesible para todos os públicos\, “ideal para quen sente curiosidade pola ciencia\, a arqueoloxía e a investigación da Historia”. \nO obradoiro está recomendado a partir de 8 anos e ten prazas limitadas. Quen desexe asistir debe chamar ao teléfono 610 323 926 de martes a sábado de 11.00 a 14.00 e de 17.00 a 20.00 horas ou escribir a museomitreo.lugo@fundacionusc.gal.
URL:https://vivalugo.es/evento/obradoiro-unha-autopsia-arqueoloxica-o-que-os-osos-do-pasado-nos-contan/
LOCATION:Domus do Mitreo\, Praza Pío XII\, 3\, Lugo\, 27001
CATEGORIES:Varios
ATTACH;FMTTYPE=image/jpeg:https://vivalugo.es/wp-content/uploads/2025/10/obradoiro-unha-autopsia.jpg
END:VEVENT
BEGIN:VEVENT
DTSTART;TZID=Europe/Madrid:20251108T120000
DTEND;TZID=Europe/Madrid:20251108T120000
DTSTAMP:20260419T193755
CREATED:20251106T181328Z
LAST-MODIFIED:20251106T181328Z
UID:96502-1762603200-1762603200@vivalugo.es
SUMMARY:Contacontos “O ladrón de follas”
DESCRIPTION:Contacontos “O ladrón de follas” \nSábado 08 de novembro de 2025 \n12:00 horas \nLibrería Soños de Papel\, Lugo \nA partir de 3 anos \nReserva de prazas na libraría\, por instagram ou no teléfono: 646- 629-319
URL:https://vivalugo.es/evento/contacontos-o-ladron-de-follas/
LOCATION:Librería Soños de Papel\, Calle María Castaña\, Esq. Augas Ferreas\, Lugo\, 27002
CATEGORIES:Artes escénicas
ATTACH;FMTTYPE=image/jpeg:https://vivalugo.es/wp-content/uploads/2025/11/contacontos-o-ladron-de-follas.jpg
END:VEVENT
BEGIN:VEVENT
DTSTART;TZID=Europe/Madrid:20251108T173000
DTEND;TZID=Europe/Madrid:20251108T173000
DTSTAMP:20260419T193755
CREATED:20251103T153309Z
LAST-MODIFIED:20251106T181505Z
UID:96332-1762623000-1762623000@vivalugo.es
SUMMARY:Xornada de autodefensa laboral
DESCRIPTION:En A Hedreira o sábado 8\, 17:30 h: Xornada de autodefensa laboral. Reflexións sobre o traballo e ferramentas\, consellos\, prácticas e recursos para as traballadoras. \n– Pasado\, presente e futuro do movemento obreiro \n– A inspección de traballo como recurso para o traballador \n– Crítica e ética sobre o traballo \n– A xurisdicción xudicial como garantía dos dereitos conquistados \nEntrada de balde. \nA Hedreira Lugo – Programación de Novembro 2025 \n 
URL:https://vivalugo.es/evento/xornada-de-autodefensa-laboral/
LOCATION:A Hedreira\, Rua Catasol\, 17\, Lugo\, 27002
CATEGORIES:Conferencias
ATTACH;FMTTYPE=image/jpeg:https://vivalugo.es/wp-content/uploads/2025/11/xornada-autodefensa-laboral.jpg
END:VEVENT
BEGIN:VEVENT
DTSTART;TZID=Europe/Madrid:20251108T193000
DTEND;TZID=Europe/Madrid:20251108T193000
DTSTAMP:20260419T193755
CREATED:20251104T155656Z
LAST-MODIFIED:20251104T155656Z
UID:96418-1762630200-1762630200@vivalugo.es
SUMMARY:Presentación del libro "Una familia ejemplar" de Nidia Beltramo
DESCRIPTION:Presentación del libro «Una familia ejemplar» de Nidia Beltramo \nEl sábado 8 de noviembre a las 19:30 en la CASA DE ASOCIACIONES MARÍA MARIÑO (Rúa Monte Faro 2\, Lugo) \nLa escritora argentina residente en la provincia de León estará acompañada por Merry González y la música del cantautor argentino Carlos Attadía\, en lo que promete ser una velada amena coronada por una cata de vino para los asistentes. \nLa entrada es libre hasta completar aforo. \nUNA FAMILIA EJEMPLAR fue seleccionada entre las diez mejores en el 71 Premio de Novela Ateneo de Valladolid. \nLa novela cuenta la historia de una familia aristocrática\, descendiente de prócer histórico y ancestros acaudalados\, que adoptan a la hija natural de la sirvienta cuando la mala madre la abandona. \nLa niña crece en un ambiente de privilegio y se convierte en una joven educada\, agradecida de su suerte. Esa es la imagen que proyectan al mundo pero\, ¿qué hay de cierto? \nA través de las voces de los protagonistas\, el lector va descubriendo verdades insospechadas y comprometedoras enmarcadas en la historia reciente de Argentina. \nUNA FAMILIA EJEMPLAR es una historia que explora la complejidad de las relaciones familiares\, la fachada de armonía que pocas veces coincide con la realidad\, y el amor y desamor como eje y motor de toda existencia.
URL:https://vivalugo.es/evento/presentacion-del-libro-una-familia-ejemplar-de-nidia-beltramo/
LOCATION:Lugo
CATEGORIES:Presentaciones
ATTACH;FMTTYPE=image/jpeg:https://vivalugo.es/wp-content/uploads/2025/11/presentacion-libro-familia-ejemplar.jpeg
END:VEVENT
BEGIN:VEVENT
DTSTART;TZID=Europe/Madrid:20251108T200000
DTEND;TZID=Europe/Madrid:20251108T200000
DTSTAMP:20260419T193755
CREATED:20251104T161754Z
LAST-MODIFIED:20251104T161754Z
UID:96433-1762632000-1762632000@vivalugo.es
SUMMARY:Concerto de Panosedán
DESCRIPTION:O sábado dia 8 de novembro às 20h00 no centro social Madia Leva concerto do grupo Panosedán para apresentar em directo o trabalho discográfico Rosas e cravosPanosedán atua em formato trio\, integrado polas vozes de Pilocha e Lis Latas (o nosso mestre de baile) acompanhadas do acordeom de Pablo Gómez. \nAgora\, o grupo incorporou a Ara Martínez ao contrabaixo\, a Carlos Vázquez «Maní»na percussom e a Xan Durán na mandolina e mandolina portuguesa\, dando lugar a umha formaçom de seis músicos.Sábado 8 de novembro20:00 horas.Entrada de balde
URL:https://vivalugo.es/evento/concerto-de-panosedan/
LOCATION:Madia Leva\, Serra de Ancares 18\, Lugo
CATEGORIES:Conciertos
ATTACH;FMTTYPE=image/jpeg:https://vivalugo.es/wp-content/uploads/2025/11/concerto-panosedan.jpg
END:VEVENT
BEGIN:VEVENT
DTSTART;TZID=Europe/Madrid:20251108T203000
DTEND;TZID=Europe/Madrid:20251108T203000
DTSTAMP:20260419T193755
CREATED:20251029T195341Z
LAST-MODIFIED:20251029T195341Z
UID:96208-1762633800-1762633800@vivalugo.es
SUMMARY:Festival de Jazz de Lugo - Harold López Nussa
DESCRIPTION:Festival de Jazz de Lugo – Harold López Nussa\n\n\nSábado 8 de Novembro\n20:30 H – Círculo das Artes\n\n\nInnovación e virtuosismo\, Nueva Timba\, último disco do pianista cubano Harold López-Nussa e segundo que lle edita Blue Note Records tras Timba a la Americana no 2023\, xunta á vangarda do jazz múltiples épocas da historia musical cubana e acada incribles\, accesibles e inspiradores resultados.\n\nHíbrido entre directo e estudio\, foi gravado no club Le Duc des Lombards\, unha institución do jazz en París\, e posteriormente remodelado e mellorado en posprodución co dobre obxectivo de documenta-la emocionante destreza de López-Nussa como intérprete en directo e aproveita-la pureza de son e a preciosidade conceptual que se logran no estudio.\n\nA banda\, cun núcleo de talento inigualable —o irmán de Harold\, Ruy Adrian López-Nussa\, na batería\, Luques Curtis no baixo e o excelente Grégoire Maret na harmónica—\, perfílase visión definitiva do futuro jazz latino\n\nENTRADAS: Venda de entradas na caseta do festival ou en Notikumi\n\nCaseta do Festival: aberta dende o 31 de outubro en horario de 12:30 a 14:00 e de 19:00 a 20:30. Está na praza Maior\, fronte ao Círculo das Artes.
URL:https://vivalugo.es/evento/festival-de-jazz-de-lugo-harold-lopez-nussa/
LOCATION:Círculo das Artes\, Praza Maior\, 23\, Lugo\, Lugo\, 27001\, Spain
CATEGORIES:Conciertos
ATTACH;FMTTYPE=image/jpeg:https://vivalugo.es/wp-content/uploads/2025/10/Programa-XXXV-Festival-Jazz-Lugo_2025-6.jpg
END:VEVENT
BEGIN:VEVENT
DTSTART;TZID=Europe/Madrid:20251108T223000
DTEND;TZID=Europe/Madrid:20251108T223000
DTSTAMP:20260419T193755
CREATED:20251029T211715Z
LAST-MODIFIED:20251029T211715Z
UID:96252-1762641000-1762641000@vivalugo.es
SUMMARY:Festival de Jazz de Lugo - Wealman e Gilipojazz
DESCRIPTION:Festival de Jazz de Lugo – Wealman e Gilipojazz\n\n\nWealman\nSábado 8 de Novembro\n22:30 H – Club Clavicémbalo\n\n\nO agora cuarteto segue a deleitarnos co seu eclecticismo que se move entre o rock\, o funk e a música electrónica e no que o jazz fai sendeiro a través da improvisación nas pezas orixinais do seu batería e compositor Ro Muñoz.\n\n\nGonzo Piña: baixo\nSergio Guzmán: guitarra\nToño Otero: saxo\nRo Muñoz: bateria.\n\nGilipojazz\nSábado 8 de Novembro\n23:45 H – Club Clavicémbalo\n\n\nO power trío madrileño vén de lanza-lo seu segundo disco\, Progresa Adecuadamante; máis contundente\, máis Gilipo se posible. Sobe de nota e parece non ter límites.\n\nCocíñannos jazz punk\, cun oitenta e sete coma vinte e nove por cento de música instrumental —porcentaxe de panadeiro—\, combinado con outros estilos e xéneros\, sexan funk\, rock progresivo\, metal\, sexan trazos de música clásica.\n\nENTRADAS: Venda de entradas na mesma sala ou anticipada en Woutick\n\nWeb oficial del Festival de Jazz de Lugo
URL:https://vivalugo.es/evento/festival-de-jazz-de-lugo-wealman-e-gilipojazz/
LOCATION:Club Clavicémbalo\, Rúa dos Paxariños\, 23\, Lugo\, Lugo\, 27002\, Spain
CATEGORIES:Conciertos
ATTACH;FMTTYPE=image/jpeg:https://vivalugo.es/wp-content/uploads/2025/10/Programa-XXXV-Festival-Jazz-Lugo_2025-16.jpg
END:VEVENT
BEGIN:VEVENT
DTSTART;TZID=Europe/Madrid:20251108T223000
DTEND;TZID=Europe/Madrid:20251108T223000
DTSTAMP:20260419T193755
CREATED:20251106T181951Z
LAST-MODIFIED:20251106T181951Z
UID:96507-1762641000-1762641000@vivalugo.es
SUMMARY:Concierto de Mr Kilombo
DESCRIPTION:Concierto de Mr Kilombo \n[ FUSIÓN INDIE\, POP\, REGGAE ] \nSÁBADO 08.NOV.2025\n22:30 H. Sala Jagger Lugo
URL:https://vivalugo.es/evento/concierto-de-mr-kilombo/
LOCATION:Sala Jagger\, Rua da Cruz 20\, Lugo\, Lugo\, 27001
CATEGORIES:Conciertos
ATTACH;FMTTYPE=image/jpeg:https://vivalugo.es/wp-content/uploads/2025/11/concierto-mr-kilombo.jpg
END:VEVENT
END:VCALENDAR