BEGIN:VCALENDAR
VERSION:2.0
PRODID:-//VivaLugo - ECPv6.15.13.1//NONSGML v1.0//EN
CALSCALE:GREGORIAN
METHOD:PUBLISH
X-ORIGINAL-URL:https://vivalugo.es
X-WR-CALDESC:Eventos para VivaLugo
REFRESH-INTERVAL;VALUE=DURATION:PT1H
X-Robots-Tag:noindex
X-PUBLISHED-TTL:PT1H
BEGIN:VTIMEZONE
TZID:Europe/Madrid
BEGIN:DAYLIGHT
TZOFFSETFROM:+0100
TZOFFSETTO:+0200
TZNAME:CEST
DTSTART:20240331T010000
END:DAYLIGHT
BEGIN:STANDARD
TZOFFSETFROM:+0200
TZOFFSETTO:+0100
TZNAME:CET
DTSTART:20241027T010000
END:STANDARD
BEGIN:DAYLIGHT
TZOFFSETFROM:+0100
TZOFFSETTO:+0200
TZNAME:CEST
DTSTART:20250330T010000
END:DAYLIGHT
BEGIN:STANDARD
TZOFFSETFROM:+0200
TZOFFSETTO:+0100
TZNAME:CET
DTSTART:20251026T010000
END:STANDARD
BEGIN:DAYLIGHT
TZOFFSETFROM:+0100
TZOFFSETTO:+0200
TZNAME:CEST
DTSTART:20260329T010000
END:DAYLIGHT
BEGIN:STANDARD
TZOFFSETFROM:+0200
TZOFFSETTO:+0100
TZNAME:CET
DTSTART:20261025T010000
END:STANDARD
END:VTIMEZONE
BEGIN:VEVENT
DTSTART;TZID=Europe/Madrid:20251109T110000
DTEND;TZID=Europe/Madrid:20251109T110000
DTSTAMP:20260419T193805
CREATED:20251103T153435Z
LAST-MODIFIED:20251106T182705Z
UID:96334-1762686000-1762686000@vivalugo.es
SUMMARY:Xornada '50 anos da Marcha Verde sobre o Sáhara Occidental'
DESCRIPTION:En A Hedreira\, domingo 9\, 11:00 h: Xornada ’50 anos da Marcha Verde sobre o Sáhara Occidental’. Palestras sobre o contexto xeopolítico histórico e situación actual\, proxección do documental ‘Ocupación SA’ e xantar saharauí. \nA Hedreira Lugo – Programación de Novembro 2025
URL:https://vivalugo.es/evento/xornada-50-anos-da-marcha-verde-sobre-o-sahara-occidental/
LOCATION:A Hedreira\, Rua Catasol\, 17\, Lugo\, 27002
CATEGORIES:Conferencias
ATTACH;FMTTYPE=image/jpeg:https://vivalugo.es/wp-content/uploads/2025/11/xornada-50-anos-marcha-verde.jpg
END:VEVENT
BEGIN:VEVENT
DTSTART;TZID=Europe/Madrid:20251109T183000
DTEND;TZID=Europe/Madrid:20251109T183000
DTSTAMP:20260419T193805
CREATED:20251028T200257Z
LAST-MODIFIED:20251106T180140Z
UID:96164-1762713000-1762713000@vivalugo.es
SUMMARY:Familiar "Copiar"
DESCRIPTION:Familiar «Copiar» \nAnimal Religion \n\n\n\n\nDomingo\, 9 de novembro de 2025 18:30 hs. \n\nLugar: Auditorio Municipal Gustavo Freire\n\n\n\n\nCategoría: Teatro Familiar\nIdade recomendada: A partir dos 6 anos \nENTRADAS \nAdquisición de entradas a través do portal web entradaslugo.es e na Oficina de Turismo ata 3 horas antes do comezo de cada función; e no auditorio\, o día da función\, desde unha hora e media antes do comezo do espectáculo. \nProgramación cultural do segundo semestre no Auditorio Municipal Gustavo Freire
URL:https://vivalugo.es/evento/familiar-copiar/
LOCATION:​Auditorio Municipal Gustavo Freire\, Parque da Milagrosa\, Avda. da Coruña\, s/n\, Lugo\, Lugo\, 27003\, Spain
CATEGORIES:Artes escénicas
ATTACH;FMTTYPE=image/jpeg:https://vivalugo.es/wp-content/uploads/2025/10/programacion-gustavo-freire-familiar-5.jpg
END:VEVENT
BEGIN:VEVENT
DTSTART;TZID=Europe/Madrid:20251109T190000
DTEND;TZID=Europe/Madrid:20251109T190000
DTSTAMP:20260419T193805
CREATED:20251106T214908Z
LAST-MODIFIED:20251106T214908Z
UID:96526-1762714800-1762714800@vivalugo.es
SUMMARY:Domingos de comedia - Miguel Sincero
DESCRIPTION:Domingos de comedia – Miguel Sincero. \n09 de noviembre de 2025 – 19:00 horas – Sweet Lugo \nHumorista gallego afincado en Madrid\, con un estilo directo\, irónico y muy personal. Miguel Sincero destaca por su retranca\, su capacidad para observar la vida moderna y convertirla en comedia\, y su talento para conectar con el público desde el primer minuto.
URL:https://vivalugo.es/evento/domingos-de-comedia-miguel-sincero/
LOCATION:Sweet Lugo\, Avelino Pousa Antelo 8\, Recatelo (Parque de Rosalía de Castro)\, Lugo
CATEGORIES:Artes escénicas
ATTACH;FMTTYPE=image/png:https://vivalugo.es/wp-content/uploads/2025/11/domingos-de-comedia-miguel-sincero.png
END:VEVENT
BEGIN:VEVENT
DTSTART;TZID=Europe/Madrid:20251109T193000
DTEND;TZID=Europe/Madrid:20251109T193000
DTSTAMP:20260419T193805
CREATED:20251029T195911Z
LAST-MODIFIED:20251029T195911Z
UID:96211-1762716600-1762716600@vivalugo.es
SUMMARY:Festival de Jazz de Lugo - Fred Hersch Trio
DESCRIPTION:Festival de Jazz de Lugo – Fred Hersch Trio\n\n\nDomingo 9 de Novembro\n19:30 H – Círculo das Artes\n\n\nFred Hersch é un referente no mundo do piano de jazz\, tanto polo seu traballo como compositor\, improvisador e colaborador moi solicitado\, como por actuacións.\n\nFoi dezasete veces nomeado para os Grammy e recibiu numerosos premios e eloxios.\n\nCualificado como «o pianista máis sorprendentemente innovador do jazz da última década» por Vanity Fair\, «unha elegante forza de invención musical» por LA Times e «unha lenda vivinte» por The New Yorker.\n\nENTRADAS: Venda de entradas na caseta do festival ou en Notikumi\n\nCaseta do Festival: aberta dende o 31 de outubro en horario de 12:30 a 14:00 e de 19:00 a 20:30. Está na praza Maior\, fronte ao Círculo das Artes.
URL:https://vivalugo.es/evento/festival-de-jazz-de-lugo-fred-hersch-trio/
LOCATION:Círculo das Artes\, Praza Maior\, 23\, Lugo\, Lugo\, 27001\, Spain
CATEGORIES:Conciertos
ATTACH;FMTTYPE=image/jpeg:https://vivalugo.es/wp-content/uploads/2025/10/Programa-XXXV-Festival-Jazz-Lugo_2025-7.jpg
END:VEVENT
END:VCALENDAR