BEGIN:VCALENDAR
VERSION:2.0
PRODID:-//VivaLugo - ECPv6.15.13.1//NONSGML v1.0//EN
CALSCALE:GREGORIAN
METHOD:PUBLISH
X-WR-CALNAME:VivaLugo
X-ORIGINAL-URL:https://vivalugo.es
X-WR-CALDESC:Eventos para VivaLugo
REFRESH-INTERVAL;VALUE=DURATION:PT1H
X-Robots-Tag:noindex
X-PUBLISHED-TTL:PT1H
BEGIN:VTIMEZONE
TZID:Europe/Madrid
BEGIN:DAYLIGHT
TZOFFSETFROM:+0100
TZOFFSETTO:+0200
TZNAME:CEST
DTSTART:20240331T010000
END:DAYLIGHT
BEGIN:STANDARD
TZOFFSETFROM:+0200
TZOFFSETTO:+0100
TZNAME:CET
DTSTART:20241027T010000
END:STANDARD
BEGIN:DAYLIGHT
TZOFFSETFROM:+0100
TZOFFSETTO:+0200
TZNAME:CEST
DTSTART:20250330T010000
END:DAYLIGHT
BEGIN:STANDARD
TZOFFSETFROM:+0200
TZOFFSETTO:+0100
TZNAME:CET
DTSTART:20251026T010000
END:STANDARD
BEGIN:DAYLIGHT
TZOFFSETFROM:+0100
TZOFFSETTO:+0200
TZNAME:CEST
DTSTART:20260329T010000
END:DAYLIGHT
BEGIN:STANDARD
TZOFFSETFROM:+0200
TZOFFSETTO:+0100
TZNAME:CET
DTSTART:20261025T010000
END:STANDARD
END:VTIMEZONE
BEGIN:VEVENT
DTSTART;TZID=Europe/Madrid:20251110T193000
DTEND;TZID=Europe/Madrid:20251110T193000
DTSTAMP:20260419T193633
CREATED:20251104T154547Z
LAST-MODIFIED:20251104T154547Z
UID:96412-1762803000-1762803000@vivalugo.es
SUMMARY:Cine "Yo no soy Madame Bovary"
DESCRIPTION:Cine «Yo no soy Madame Bovary» \nLun\, 10/11/2025 – 19:30 – Salón de Actos do Centro Cultural O Vello Cárcere – Entrada de balde \nCiclo de Cine Chinés \n\n\n\n\nDirector: Feng Xiaogang\n\n\nChina. 2016\n\n\nComedia. Drama. 133 min\n\n\n\n\nSinopse:\n\nLi Xuelian monta un falso divorcio para obter un segundo apartamento\, pero o seu marido volve casar inesperadamente. Despois de recorrer ao xulgado sen éxito\, Li emprende un absurdo periplo de dez anos.\n\n\n\nPremios\n\n   2016: Festival de San Sebastián: Mellor película e actriz (Fan Bingbing) \n2016: Festival de Toronto: Premio FIPRESCI (sección «Special Presentations») \n\n\n\n\n\n\n\n\n\n\n\n\n\n\n\n 
URL:https://vivalugo.es/evento/cine-yo-no-soy-madame-bovary/
LOCATION:O Vello Cárcere\, Av. Alcalde Anxo López Pérez\, 10\, Lugo\, Lugo\, 27002\, Spain
CATEGORIES:Cine
ATTACH;FMTTYPE=image/jpeg:https://vivalugo.es/wp-content/uploads/2025/10/ciclo-cine-chines.jpg
END:VEVENT
END:VCALENDAR