BEGIN:VCALENDAR
VERSION:2.0
PRODID:-//VivaLugo - ECPv6.15.13.1//NONSGML v1.0//EN
CALSCALE:GREGORIAN
METHOD:PUBLISH
X-WR-CALNAME:VivaLugo
X-ORIGINAL-URL:https://vivalugo.es
X-WR-CALDESC:Eventos para VivaLugo
REFRESH-INTERVAL;VALUE=DURATION:PT1H
X-Robots-Tag:noindex
X-PUBLISHED-TTL:PT1H
BEGIN:VTIMEZONE
TZID:Europe/Madrid
BEGIN:DAYLIGHT
TZOFFSETFROM:+0100
TZOFFSETTO:+0200
TZNAME:CEST
DTSTART:20240331T010000
END:DAYLIGHT
BEGIN:STANDARD
TZOFFSETFROM:+0200
TZOFFSETTO:+0100
TZNAME:CET
DTSTART:20241027T010000
END:STANDARD
BEGIN:DAYLIGHT
TZOFFSETFROM:+0100
TZOFFSETTO:+0200
TZNAME:CEST
DTSTART:20250330T010000
END:DAYLIGHT
BEGIN:STANDARD
TZOFFSETFROM:+0200
TZOFFSETTO:+0100
TZNAME:CET
DTSTART:20251026T010000
END:STANDARD
BEGIN:DAYLIGHT
TZOFFSETFROM:+0100
TZOFFSETTO:+0200
TZNAME:CEST
DTSTART:20260329T010000
END:DAYLIGHT
BEGIN:STANDARD
TZOFFSETFROM:+0200
TZOFFSETTO:+0100
TZNAME:CET
DTSTART:20261025T010000
END:STANDARD
END:VTIMEZONE
BEGIN:VEVENT
DTSTART;TZID=Europe/Madrid:20251113T183000
DTEND;TZID=Europe/Madrid:20251113T183000
DTSTAMP:20260419T193643
CREATED:20251106T215130Z
LAST-MODIFIED:20251106T215437Z
UID:96529-1763058600-1763058600@vivalugo.es
SUMMARY:Presentación do libro "Mulleres que viven xuntas"
DESCRIPTION:Presentación do libro «Mulleres que viven xuntas» \nDe Abril Camino \n13 de novembro de 2025 \n18:30 horas \nLibrería Soños de Papel\, Lugo
URL:https://vivalugo.es/evento/presentacion-do-libro-mulleres-que-viven-xuntas/
LOCATION:Librería Soños de Papel\, Calle María Castaña\, Esq. Augas Ferreas\, Lugo\, 27002
CATEGORIES:Presentaciones
ATTACH;FMTTYPE=image/jpeg:https://vivalugo.es/wp-content/uploads/2025/11/presentacion-libro-mulleres-viven-xuntas.jpg
END:VEVENT
BEGIN:VEVENT
DTSTART;TZID=Europe/Madrid:20251113T183000
DTEND;TZID=Europe/Madrid:20251113T183000
DTSTAMP:20260419T193643
CREATED:20251113T114519Z
LAST-MODIFIED:20251113T114519Z
UID:96693-1763058600-1763058600@vivalugo.es
SUMMARY:LugoPoética 2025 con Manuel Regal e Xosé Antón Miguélez
DESCRIPTION:LugoPoética 2025 con Manuel Regal e Xosé Antón Miguélez\n\nO mércores 13 de novembro ás 18:30 horas na sede da UNED Lugo ou online.\n\n\n\nAmbos os autores\, con fondas raíces na provincia de Lugo\, representan dúas voces singulares da poesía galega contemporánea\, marcadas polo compromiso espiritual\, humano e rural.\n\n\n\nManuel Regal Ledo (Chantada\, 1947)\n\nLicenciado en teoloxía bíblica pola Universidade de Deusto\, foi monxe en Samos\, párroco en Abadín e educador-terapeuta de drogodependentes en Proxecto Home.\n\nActualmente é delegado de Pastoral Rural na diocese de Mondoñedo-Ferrol.\n\nA súa obra poética reflicte o vínculo entre a fe\, o mundo rural e a natureza\, ámbitos que conforman o núcleo do seu universo literario.\n\nXosé Antón Miguélez (Lugo\, 1946)\n\nTamén ligado á Mariña lucense\, é crego en Lourenzá e Abadín.\n\nA súa traxectoria poética está profundamente vencellada á espiritualidade e á liturxia galega\, con medio cento de himnos publicados no Diurnal da Liturxia das Horas en galego.\n\nEntre as súas obras máis destacadas figuran Os ríos pasan cheos de Deus (2007) e Oda a Xesús Cristo. Credo e Camiño (2020).\n\n\n\nEste novo encontro de LugoPoética 2025 continúa o percorrido do ciclo por voces que integran poesía\, pensamento e identidade\, consolidando a proposta como un referente cultural que une creación literaria e territorio.\n\n\n\nO ciclo LugoPoética 2025 está organizado por Egeria en colaboración coa UNED Lugo e a Xunta de Galicia.\n\n\n\nhttps://lugopoetica.gal
URL:https://vivalugo.es/evento/lugopoetica-2025-con-manuel-regal-e-xose-anton-miguelez/
LOCATION:UNED LUGO\, Tolda de Castela Nº4B\, Lugo\, 27169
CATEGORIES:Artes escénicas
ATTACH;FMTTYPE=image/jpeg:https://vivalugo.es/wp-content/uploads/2025/11/lugopoetica-2025-manuel-regal.jpg
END:VEVENT
BEGIN:VEVENT
DTSTART;TZID=Europe/Madrid:20251113T203000
DTEND;TZID=Europe/Madrid:20251113T203000
DTSTAMP:20260419T193643
CREATED:20251028T200601Z
LAST-MODIFIED:20251028T200601Z
UID:96166-1763065800-1763065800@vivalugo.es
SUMMARY:Teatro - Un tal Romeo
DESCRIPTION:Teatro – Un tal Romeo \nA Ramboia \nXoves\, 13 de novembro de 2025 20:30 hs. \n\nLugar: Auditorio Municipal Gustavo Freire\nCategoría: Teatro Adultas\nIdade recomendada: A partir dos 14 anos \nSinopse: \nApoiado por unha tremoia escénica viva\, un actor prepárase para interpretar o papel de Romeo. Repasa pasaxes da obra shakespeariana\, asiste a un casting e a continuación destrúe a golpes o balcón de Xulieta. \nXunto a un TRAMOLLISTA\, o INTÉRPRETE redefine o seu concepto de amor caduco e infeccioso que o incapacita para a vida e o teatro. \nRepasa a concatenación de primeiras veces que experimenta Romeo; casar\, perder a virxinidade\, matar a alguén\, ser desterrado e quitarse a vida\, na procura de respostas a unha problemática propia que resoa na súa cabeza: \nNON TES PERFIL DE ROMEO.\nXAMÁIS SERÁS PROTAGONISTA.\nO AMOR É SECUNDARIO.\nO ROMANTICISMO ESTÁ MORTO.\nA TÚA CARREIRA TAMÉN. \nUnha ironía metateatral de contrastes e tensión rítmica entre ondas coreográficas.\nQue difícil é querer\, que difícil é quererse. \nENTRADAS \nAdquisición de entradas a través do portal web entradaslugo.es e na Oficina de Turismo ata 3 horas antes do comezo de cada función; e no auditorio\, o día da función\, desde unha hora e media antes do comezo do espectáculo. \nProgramación cultural do segundo semestre no Auditorio Municipal Gustavo Freire
URL:https://vivalugo.es/evento/teatro-un-tal-romeo/
LOCATION:​Auditorio Municipal Gustavo Freire\, Parque da Milagrosa\, Avda. da Coruña\, s/n\, Lugo\, Lugo\, 27003\, Spain
CATEGORIES:Artes escénicas
ATTACH;FMTTYPE=image/jpeg:https://vivalugo.es/wp-content/uploads/2025/10/programacion-gustavo-freire-adultos-6.jpg
END:VEVENT
BEGIN:VEVENT
DTSTART;TZID=Europe/Madrid:20251113T203000
DTEND;TZID=Europe/Madrid:20251113T203000
DTSTAMP:20260419T193643
CREATED:20251029T215119Z
LAST-MODIFIED:20251029T215119Z
UID:96270-1763065800-1763065800@vivalugo.es
SUMMARY:Festival de Jazz de Lugo - March Mallow
DESCRIPTION:Festival de Jazz de Lugo – March Mallow \nXoves 13 de Novembro\n20:30 H Círculo das Artes – Entrada de balde\n\nMarch Mallow é unha oportunidade para reaviva-la emoción dunha época espléndida nas cancións de blues e jazz.\n\nIntrodúcenos de pleno nun dos períodos pertencentes aos anos 50 con maior creatividade canto a historia estética do jazz americano.\n\nNo escenario\, a atmosfera é satinada\, o son moi próximo e o grupo devólveno-la emoción dos concertos neoiorquinos nos primeiros tempos do Birdland en Manhattan e o Teatro Apollo en Harlem.\n\n\nAstrid Veigne: voz\nEric Doboka: guitarra\nChristian D’Asfel: piano\nThomas Plès: contrabaixo\nThomas Leverger: saxo\n\n\nWeb oficial do Festival de Jazz de Lugo
URL:https://vivalugo.es/evento/festival-de-jazz-de-lugo-march-mallow/
LOCATION:Círculo das Artes\, Praza Maior\, 23\, Lugo\, Lugo\, 27001\, Spain
CATEGORIES:Conciertos
ATTACH;FMTTYPE=image/jpeg:https://vivalugo.es/wp-content/uploads/2025/10/Programa-XXXV-Festival-Jazz-Lugo_2025-10.jpg
END:VEVENT
BEGIN:VEVENT
DTSTART;TZID=Europe/Madrid:20251113T223000
DTEND;TZID=Europe/Madrid:20251113T223000
DTSTAMP:20260419T193643
CREATED:20251029T212508Z
LAST-MODIFIED:20251029T212508Z
UID:96258-1763073000-1763073000@vivalugo.es
SUMMARY:Festival de Jazz de Lugo - Deborah Carter Quartet
DESCRIPTION:Festival de Jazz de Lugo – Deborah Carter Quartet \nXoves 13 de Novembro\n22:30 H Club Clavicémbalo\n\n\n\nDeborah Carter\, voz\nMark Zandveld\, baixo\nAlberto Medina\, piano\nDavid Xirgu\, batería\n\n\n\nENTRADAS: Venda de entradas na mesma sala ou anticipada en Woutick \n\nWeb oficial del Festival de Jazz de Lugo
URL:https://vivalugo.es/evento/festival-de-jazz-de-lugo-deborah-carter-quartet/
LOCATION:Club Clavicémbalo\, Rúa dos Paxariños\, 23\, Lugo\, Lugo\, 27002\, Spain
CATEGORIES:Conciertos
ATTACH;FMTTYPE=image/jpeg:https://vivalugo.es/wp-content/uploads/2025/10/Programa-XXXV-Festival-Jazz-Lugo_2025-18.jpg
END:VEVENT
END:VCALENDAR