BEGIN:VCALENDAR
VERSION:2.0
PRODID:-//VivaLugo - ECPv6.15.13.1//NONSGML v1.0//EN
CALSCALE:GREGORIAN
METHOD:PUBLISH
X-WR-CALNAME:VivaLugo
X-ORIGINAL-URL:https://vivalugo.es
X-WR-CALDESC:Eventos para VivaLugo
REFRESH-INTERVAL;VALUE=DURATION:PT1H
X-Robots-Tag:noindex
X-PUBLISHED-TTL:PT1H
BEGIN:VTIMEZONE
TZID:Europe/Madrid
BEGIN:DAYLIGHT
TZOFFSETFROM:+0100
TZOFFSETTO:+0200
TZNAME:CEST
DTSTART:20240331T010000
END:DAYLIGHT
BEGIN:STANDARD
TZOFFSETFROM:+0200
TZOFFSETTO:+0100
TZNAME:CET
DTSTART:20241027T010000
END:STANDARD
BEGIN:DAYLIGHT
TZOFFSETFROM:+0100
TZOFFSETTO:+0200
TZNAME:CEST
DTSTART:20250330T010000
END:DAYLIGHT
BEGIN:STANDARD
TZOFFSETFROM:+0200
TZOFFSETTO:+0100
TZNAME:CET
DTSTART:20251026T010000
END:STANDARD
BEGIN:DAYLIGHT
TZOFFSETFROM:+0100
TZOFFSETTO:+0200
TZNAME:CEST
DTSTART:20260329T010000
END:DAYLIGHT
BEGIN:STANDARD
TZOFFSETFROM:+0200
TZOFFSETTO:+0100
TZNAME:CET
DTSTART:20261025T010000
END:STANDARD
END:VTIMEZONE
BEGIN:VEVENT
DTSTART;TZID=Europe/Madrid:20251114T170000
DTEND;TZID=Europe/Madrid:20251114T190000
DTSTAMP:20260419T193633
CREATED:20251103T162158Z
LAST-MODIFIED:20251103T162158Z
UID:96365-1763139600-1763146800@vivalugo.es
SUMMARY:Taller de arquitectura e xeometría aplicada "Palitroques"
DESCRIPTION:Taller de arquitectura e xeometría aplicada «Palitroques»\n14 de Novembro 2025\, 17:00 – 19:00 \nBiblioteca Pública de Lugo \n\n\nA cargo de Víctor González García-Echave \n\n\n\n\nPalitroques é un taller de arquitectura e xeometría aplicada\, desenvolvido a partir dun recurso didáctico que se basea nun sistema construtivo de barras e unións para a montaxe de figuras e estruturas. \nXorde da necesidade de levar ás práctica materias tan teóricas e abstractas como a xeometría\, as matemáticas e a física. Este recurso didáctico\, desenvolvido a partir da arquitectura\, axudaranos a comprender de forma fácil e entretida os fundamentos destas materias. \nDesenvólvese de forma práctica como un obradoiro de arquitectura e xeometría aplicada. O obradoiro desenvólvese nun formato de xogo en equipo\, no cal deberanse superar diversos retos nun tempo determinado\, o mesmo que nunha Xincana Construtiva. \nPara nenos/as de 6 a 12 anos \nDuración: 60 minutos \nDuas quendas (15 prazas por quenda) \n\nPrimeria quenda: ás 17:00\nSegunda quenda: ás 18:00\n\nNo exterior e vestíbulo da biblioteca \nInscrición previa desde o luns anterior na sala infantil ou no teléfono 982828329
URL:https://vivalugo.es/evento/taller-de-arquitectura-e-xeometria-aplicada-palitroques/
LOCATION:Biblioteca Provincial de Lugo\, Avda Ramón Ferreiro\, Lugo
CATEGORIES:Cursos
END:VEVENT
BEGIN:VEVENT
DTSTART;TZID=Europe/Madrid:20251114T190000
DTEND;TZID=Europe/Madrid:20251114T190000
DTSTAMP:20260419T193633
CREATED:20250930T144026Z
LAST-MODIFIED:20250930T144026Z
UID:94629-1763146800-1763146800@vivalugo.es
SUMMARY:Derradeira visita guiada á mostra de Antía Carreira
DESCRIPTION:Derradeira visita guiada á mostra de Antía Carreira \nEn Leira \n14/11 ás 19:00 horas \nTamén mediante cita previa en leirahaus@gmail.com \nDentro do ciclo de residencias comisariado por Visión Periférica \nArtigo con máis información en VivaLugo: Nova mostra de Antía Carreira en Leira.
URL:https://vivalugo.es/evento/derradeira-visita-guiada-a-mostra-de-antia-carreira/
LOCATION:Leira Haus\, Praza do Campo 1 bis\, Lugo\, 27001
CATEGORIES:Expos
ATTACH;FMTTYPE=image/jpeg:https://vivalugo.es/wp-content/uploads/2025/09/antia-carreira-residencia-artistica.jpg
END:VEVENT
BEGIN:VEVENT
DTSTART;TZID=Europe/Madrid:20251114T190000
DTEND;TZID=Europe/Madrid:20251114T190000
DTSTAMP:20260419T193633
CREATED:20251103T153607Z
LAST-MODIFIED:20251113T114103Z
UID:96336-1763146800-1763146800@vivalugo.es
SUMMARY:Magosto organizado pola Rede Asociativa de Lugo
DESCRIPTION:Venres 14\, 19:00 h: Magosto organizado pola Rede Asociativa de Lugo da que A Hedreira forma parte\, na praza da rúa dos Paxariños (diante do bar A Fouce). \nA Hedreira Lugo – Programación de Novembro 2025
URL:https://vivalugo.es/evento/magosto-organizado-pola-rede-asociativa-de-lugo/
LOCATION:Lugo
CATEGORIES:Varios
ATTACH;FMTTYPE=image/jpeg:https://vivalugo.es/wp-content/uploads/2025/11/magosto-asociativo-novembro-2025.jpg
END:VEVENT
BEGIN:VEVENT
DTSTART;TZID=Europe/Madrid:20251114T203000
DTEND;TZID=Europe/Madrid:20251114T203000
DTSTAMP:20260419T193633
CREATED:20251029T200837Z
LAST-MODIFIED:20251029T200837Z
UID:96217-1763152200-1763152200@vivalugo.es
SUMMARY:Festival de Jazz de Lugo - Jazzmeia Horn
DESCRIPTION:Festival de Jazz de Lugo – Jazzmeia Horn\n\n\nVenres 14 de Novembro\n20:30 H – Círculo das Arte\n\n\nA dimensión do seu rexistro vocal e semellante dominio técnico trouxeron de inmediato á mente de moitos o recordo de Ella Fitzgerald\, sobre todo pola práctica do scat.\n\nVencedora no 2015 da Thelonious Monk Institute of Jazz International Vocals Competition.\n\n\nJazzmeia Horn: voz\nSantiago Vázquez Viñas: piano\nGéraud Portal: contrabaixo\nEnrico Morello: batería\n\n\nENTRADAS: Venda de entradas na caseta do festival ou en Notikumi\n\nCaseta do Festival: aberta dende o 31 de outubro en horario de 12:30 a 14:00 e de 19:00 a 20:30. Está na praza Maior\, fronte ao Círculo das Artes.
URL:https://vivalugo.es/evento/festival-de-jazz-de-lugo-jazzmeia-horn/
LOCATION:Círculo das Artes\, Praza Maior\, 23\, Lugo\, Lugo\, 27001\, Spain
ATTACH;FMTTYPE=image/jpeg:https://vivalugo.es/wp-content/uploads/2025/10/Programa-XXXV-Festival-Jazz-Lugo_2025-11.jpg
END:VEVENT
BEGIN:VEVENT
DTSTART;TZID=Europe/Madrid:20251114T203000
DTEND;TZID=Europe/Madrid:20251114T203000
DTSTAMP:20260419T193633
CREATED:20251113T115120Z
LAST-MODIFIED:20251113T115120Z
UID:96699-1763152200-1763152200@vivalugo.es
SUMMARY:Cata musical
DESCRIPTION:Cata musical \nVenres 14 de novembro de 2025 – 20:30 horas no FaCeLa Bar \nCon Isa de Vinissi e Juanjo Figueroa
URL:https://vivalugo.es/evento/cata-musical/
LOCATION:FACELA BAR\, Rúa Tinería 7-9\, Lugo
CATEGORIES:Varios
ATTACH;FMTTYPE=image/jpeg:https://vivalugo.es/wp-content/uploads/2025/11/cata-musical.jpg
END:VEVENT
BEGIN:VEVENT
DTSTART;TZID=Europe/Madrid:20251114T210000
DTEND;TZID=Europe/Madrid:20251114T210000
DTSTAMP:20260419T193633
CREATED:20250815T160013Z
LAST-MODIFIED:20250815T160013Z
UID:93263-1763154000-1763154000@vivalugo.es
SUMMARY:Concerto de Los Secretos
DESCRIPTION:Concerto de Los Secretos \nAuditorio Municipal Gustavo Freire de Lugo \n\nVenres 14 de Novembro de 2025 ás 21:00 horas \nEntradas: Ataquilla
URL:https://vivalugo.es/evento/concerto-de-los-secretos/
LOCATION:​Auditorio Municipal Gustavo Freire\, Parque da Milagrosa\, Avda. da Coruña\, s/n\, Lugo\, Lugo\, 27003\, Spain
CATEGORIES:Conciertos
ATTACH;FMTTYPE=image/jpeg:https://vivalugo.es/wp-content/uploads/2025/08/concerto-de-los-secretos.jpg
END:VEVENT
BEGIN:VEVENT
DTSTART;TZID=Europe/Madrid:20251114T223000
DTEND;TZID=Europe/Madrid:20251114T223000
DTSTAMP:20260419T193633
CREATED:20251029T213125Z
LAST-MODIFIED:20251029T213125Z
UID:96260-1763159400-1763159400@vivalugo.es
SUMMARY:Festival de Jazz de Lugo - Álex Conde Trío e Seada Quartet
DESCRIPTION:Festival de Jazz de Lugo – Álex Conde Trío e Seada Quartet \nÁlex Conde Trío\nVenres 14 de Novembro\n22:30 H Club Clavicémbalo\n\nTalento en auxe da escena musical actual\, tras un extenso período de formación e desenvolvemento en EEUU\, volve a España para continua-la súa carreira profesional e dar a coñece-lo seu traballo.\n\nFundou o Piano Flamenco Institute de Nova York\, único dedicado ao estudo desta disciplina.\n\nO importante labor de Conde na defensa\, conservación e divulgación do patrimonio nacional continúao Álex Conde Flamenco Jazz\, que aposta pola recuperación\, revitalización e transmisión da cultura musical española.\n\nA última banda liderada por Álex Conde revisa e recupera a Falla\, Albéniz e Turina. Interpreta pezas que pertencen ao repertorio clásico español como «La danza del fuego»\, «El albaicín»\, «El puerto»\, «La nana de Sevilla» e «La andaluza» cun achegamento desde a improvisación e mantendo\, no respecto á obra orixinal\, a esencia da mesma.\n\n\nÁlex Conde: piano\nMíkel Alvarez: contabaixo\nMichael Olivera: batería\n\nSeada Quartet\nVenres 14 de Novembro\n23:45 H Club Clavicémbalo\n\n\nGrupo integrado por algúns dos mozos máis prometedores da escena jazz galega:\n\n\nLois Rivera\, saxos\nMiguel Piñeiro\, contrabaixo\nMartín Otero\, piano\nEsteban Lavigne\, batería\n\n\nSeada actuou en diferentes clubs de jazz de Galicia\, así como en festivais do talle de XXVI JazzBer e 47º Festival Internacional de Jazz de Getxo (Seada queda entre os catro finalistas do Concurso de Grupos no que participaban máis de cen formacións de toda Europa). \n\n\nENTRADAS: Venda de entradas na mesma sala ou anticipada en Woutick\n\nWeb oficial del Festival de Jazz de Lugo
URL:https://vivalugo.es/evento/festival-de-jazz-de-lugo-alex-conde-trio-e-seada-quartet/
LOCATION:Club Clavicémbalo\, Rúa dos Paxariños\, 23\, Lugo\, Lugo\, 27002\, Spain
CATEGORIES:Conciertos
ATTACH;FMTTYPE=image/jpeg:https://vivalugo.es/wp-content/uploads/2025/10/Programa-XXXV-Festival-Jazz-Lugo_2025-19.jpg
END:VEVENT
BEGIN:VEVENT
DTSTART;TZID=Europe/Madrid:20251114T223000
DTEND;TZID=Europe/Madrid:20251114T223000
DTSTAMP:20260419T193633
CREATED:20251111T182035Z
LAST-MODIFIED:20251111T182035Z
UID:96678-1763159400-1763159400@vivalugo.es
SUMMARY:Concierto - Los Mejillones Tigre
DESCRIPTION:Concierto – Los Mejillones Tigre \nRITMOS TROPICALES Y ROCANROLEROS \nVIERNES 14.NOV.2025\n22:30 H. \nSala Jagger Lugo
URL:https://vivalugo.es/evento/concierto-los-mejillones-tigre/
LOCATION:Sala Jagger\, Rua da Cruz 20\, Lugo\, Lugo\, 27001
CATEGORIES:Conciertos
ATTACH;FMTTYPE=image/png:https://vivalugo.es/wp-content/uploads/2025/11/concierto-los-mejillones-tigre.png
END:VEVENT
END:VCALENDAR