BEGIN:VCALENDAR
VERSION:2.0
PRODID:-//VivaLugo - ECPv6.15.13.1//NONSGML v1.0//EN
CALSCALE:GREGORIAN
METHOD:PUBLISH
X-ORIGINAL-URL:https://vivalugo.es
X-WR-CALDESC:Eventos para VivaLugo
REFRESH-INTERVAL;VALUE=DURATION:PT1H
X-Robots-Tag:noindex
X-PUBLISHED-TTL:PT1H
BEGIN:VTIMEZONE
TZID:Europe/Madrid
BEGIN:DAYLIGHT
TZOFFSETFROM:+0100
TZOFFSETTO:+0200
TZNAME:CEST
DTSTART:20240331T010000
END:DAYLIGHT
BEGIN:STANDARD
TZOFFSETFROM:+0200
TZOFFSETTO:+0100
TZNAME:CET
DTSTART:20241027T010000
END:STANDARD
BEGIN:DAYLIGHT
TZOFFSETFROM:+0100
TZOFFSETTO:+0200
TZNAME:CEST
DTSTART:20250330T010000
END:DAYLIGHT
BEGIN:STANDARD
TZOFFSETFROM:+0200
TZOFFSETTO:+0100
TZNAME:CET
DTSTART:20251026T010000
END:STANDARD
BEGIN:DAYLIGHT
TZOFFSETFROM:+0100
TZOFFSETTO:+0200
TZNAME:CEST
DTSTART:20260329T010000
END:DAYLIGHT
BEGIN:STANDARD
TZOFFSETFROM:+0200
TZOFFSETTO:+0100
TZNAME:CET
DTSTART:20261025T010000
END:STANDARD
END:VTIMEZONE
BEGIN:VEVENT
DTSTART;VALUE=DATE:20251115
DTEND;VALUE=DATE:20251116
DTSTAMP:20260419T193805
CREATED:20251111T180835Z
LAST-MODIFIED:20251111T180835Z
UID:96667-1763164800-1763251199@vivalugo.es
SUMMARY:Contacontos miúdos “A banda que ninguén coñece”
DESCRIPTION:Contacontos miúdos “A banda que ninguén coñece” \n15/11/2025 \n11:00 e 12:30 \nO Vello Cárcere de Lugo \nPolo Día Internacional do Músico\, que se celebrará o 22 de novembro\, leremos o conto de Nadia Budde. Nesta historia\, a través de rimas e xogos de palabras\, coñeceremos a uns personaxes moi pintorescos que forman unha banda de música. Anótaste á foliada? \nO tempo restante\, os participantes poderán ler\, debuxar ou xogar no Espazo de Lecer. \nPúblico: nados entre 2017 e 2022 inclusive. \nAforo: 15 persoas. \n*Recoméndase inscrición previa.
URL:https://vivalugo.es/evento/contacontos-miudos-a-banda-que-ninguen-conece/
LOCATION:O Vello Cárcere\, Av. Alcalde Anxo López Pérez\, 10\, Lugo\, Lugo\, 27002\, Spain
END:VEVENT
BEGIN:VEVENT
DTSTART;TZID=Europe/Madrid:20251115T110000
DTEND;TZID=Europe/Madrid:20251115T110000
DTSTAMP:20260419T193805
CREATED:20251104T170518Z
LAST-MODIFIED:20251104T170518Z
UID:96468-1763204400-1763204400@vivalugo.es
SUMMARY:Guido Guía - Enigmas lucenses
DESCRIPTION:Guido Guía – Enigmas lucenses\nSábado 15 de novembro de 2025 \nA actividade comezará ás 11 da mañá\, o prezo será de 8 € por persoa (desconto do 50% para menores de 18 anos\, e gratuidade para menores de 2) e as inscricións poden facerse a través do correo electrónico guidoguiaturismo@gmail.com. \nFinaliza ás 14:00 horas \n22 de novembro: O primeiro Camiño \n13 de decembro: O nacemento do Rato \n20 de decembro: O val do Miño \nGuido Guía propón 10 paseos guiados polo Lugo menos coñecido no X aniversario do seu proxecto
URL:https://vivalugo.es/evento/guido-guia-enigmas-lucenses/
LOCATION:Lugo
CATEGORIES:Varios
ATTACH;FMTTYPE=image/png:https://vivalugo.es/wp-content/uploads/2025/07/guido-guia-lugo.png
END:VEVENT
BEGIN:VEVENT
DTSTART;TZID=Europe/Madrid:20251115T123000
DTEND;TZID=Europe/Madrid:20251115T123000
DTSTAMP:20260419T193805
CREATED:20251113T121309Z
LAST-MODIFIED:20251113T121309Z
UID:96714-1763209800-1763209800@vivalugo.es
SUMMARY:Nova visita guiada á exposición " Paseando cariñosas alimañas"
DESCRIPTION:Nova visita guiada á exposición » Paseando cariñosas alimañas» Paco Pestana \nSábado 15 de novembro as 12:30 horas en O Vello Cárcere
URL:https://vivalugo.es/evento/nova-visita-guiada-a-exposicion-paseando-carinosas-alimanas/
LOCATION:O Vello Cárcere\, Av. Alcalde Anxo López Pérez\, 10\, Lugo\, Lugo\, 27002\, Spain
CATEGORIES:Expos
END:VEVENT
BEGIN:VEVENT
DTSTART;TZID=Europe/Madrid:20251115T130000
DTEND;TZID=Europe/Madrid:20251115T130000
DTSTAMP:20260419T193805
CREATED:20251113T113917Z
LAST-MODIFIED:20251113T113931Z
UID:96689-1763211600-1763211600@vivalugo.es
SUMMARY:Concerto Manu Kasoaparte e Fran Zélop
DESCRIPTION:Concerto Manu Kasoaparte e Fran Zélop \nSábado 15 de novembro de 2025 \n13:00 horas \nC.S. Mádia Leva
URL:https://vivalugo.es/evento/concerto-manu-kasoaparte-e-fran-zelop/
LOCATION:Madia Leva\, Serra de Ancares 18\, Lugo
CATEGORIES:Conciertos
ATTACH;FMTTYPE=image/jpeg:https://vivalugo.es/wp-content/uploads/2025/11/concerto-manu-kasoaparte-fran-zelop.jpg
END:VEVENT
BEGIN:VEVENT
DTSTART;TZID=Europe/Madrid:20251115T170000
DTEND;TZID=Europe/Madrid:20251115T170000
DTSTAMP:20260419T193805
CREATED:20251114T172910Z
LAST-MODIFIED:20251114T172910Z
UID:96740-1763226000-1763226000@vivalugo.es
SUMMARY:Musical "Un mundo de fantasía"
DESCRIPTION:Musical «Un mundo de fantasía» \nSAB\, 15 NOV\, 17:00\nAUDITORIO MUNICIPAL GUSTAVO FREIRE \nUn musical estrenado en la Gran Vía de Madrid que actualmente gira a nivel nacional. Una propuesta interactiva donde el público se convierte en protagonista al decidir a través de su móvil el desarrollo del espectáculo pudiendo elegir sus canciones favoritas. \nCon voces en riguroso directo y una puesta audiovisual vibrante une a través de un hilo conductor\, las canciones más memorables e icónicas de las películas de DISNEY de los últimos 40 años. Aladdín\, El Rey León\, La Bella y la Bestia\, Frozen\, La Sirenita\, Encanto…serán algunos de las protagonistas de la función. \nCabe destacar la cuidada selección de vestuario realizada por VÍCTOR PAEZ\, director ejecutivo de la obra y la exquisita interpretación de Jairo Sánchez\, Alba Navarro\, Alba Bereijo y Álvaro Prieto.
URL:https://vivalugo.es/evento/musical-un-mundo-de-fantasia/
LOCATION:​Auditorio Municipal Gustavo Freire\, Parque da Milagrosa\, Avda. da Coruña\, s/n\, Lugo\, Lugo\, 27003\, Spain
CATEGORIES:Artes escénicas
ATTACH;FMTTYPE=image/jpeg:https://vivalugo.es/wp-content/uploads/2025/11/musical-un-mundo-fantasia.jpg
END:VEVENT
BEGIN:VEVENT
DTSTART;TZID=Europe/Madrid:20251115T173000
DTEND;TZID=Europe/Madrid:20251115T173000
DTSTAMP:20260419T193805
CREATED:20251113T113342Z
LAST-MODIFIED:20251113T113719Z
UID:96686-1763227800-1763227800@vivalugo.es
SUMMARY:Teatro - "Achado Do Castro"
DESCRIPTION:Teatro – «Achado Do Castro» de Pinchacarneiros\, o sábado 15 de novembro\, no centro de convivencia de Fingoi\, Rúa Aviación Española\, ás 17.30h.
URL:https://vivalugo.es/evento/teatro-achado-do-castro/
LOCATION:Centro de Convivencia Fingoi\, Rúa Aviación Española\, 22\, Lugo\, 27002
CATEGORIES:Artes escénicas
ATTACH;FMTTYPE=image/jpeg:https://vivalugo.es/wp-content/uploads/2025/11/teato-achado-do-castro.jpg
END:VEVENT
BEGIN:VEVENT
DTSTART;TZID=Europe/Madrid:20251115T200000
DTEND;TZID=Europe/Madrid:20251115T200000
DTSTAMP:20260419T193805
CREATED:20251113T113051Z
LAST-MODIFIED:20251113T113051Z
UID:96683-1763236800-1763236800@vivalugo.es
SUMMARY:A Gran Festa dos 80 e 90
DESCRIPTION:Data: 15 de novembroLugar: Pazo de FeirasHora: A partir das 20:00h (apertura de portas ás 19:00h) \nDurante unha noite única\, o público poderá gozar de 4 horas ininterrupidas cos grandes éxitos que marcaron toda unha xeración\, con DJ en directo\, espectáculos visuais e unha ambientación retro que transformará o recinto nunha pista de baile chea de ritmo\, luces de neón e recordos. \nO evento contará cun repertorio musical que incluirá dende os himnos pop e rock dos 80 ata os grandes temas dance dos 90. \nAdemais\, haberá zonas de descanso\, food trucks e un espazo especial para fotos con decoración temática.
URL:https://vivalugo.es/evento/a-gran-festa-dos-80-e-90/
LOCATION:Pazo de Feiras e Congresos\, Lugo\, Spain
CATEGORIES:Conciertos
ATTACH;FMTTYPE=image/jpeg:https://vivalugo.es/wp-content/uploads/2025/11/a-gran-festa-80-90.jpg
END:VEVENT
BEGIN:VEVENT
DTSTART;TZID=Europe/Madrid:20251115T203000
DTEND;TZID=Europe/Madrid:20251115T203000
DTSTAMP:20260419T193805
CREATED:20251029T201236Z
LAST-MODIFIED:20251029T201236Z
UID:96221-1763238600-1763238600@vivalugo.es
SUMMARY:Festival de Jazz de Lugo - Los Hot Chocolates
DESCRIPTION:Festival de Jazz de Lugo – Los Hot Chocolates\n\n\nSábado 15 de Novembro\n20:30 H – Círculo das Artes\n\n\nBig band especializada nos swing\, hot jazz\, dixieland e blues xurdidos no decurso dos marabillosos anos 20 do século pasado en Nova Orleáns\, para\, dun salto\, poñerse en Chicago\, despois en Nova York e finalmente no resto do mundo.\n\nAs creacións de grandes mestres (Louis Armstrong\, Fletcher Henderson\, Duke Ellington\, Paul Whiteman\, Jelly Roll Morton\, a Original Dixieland Jass Band\, Sidney Bechet\, Bix Beiderbecke e King Oliver) soan de novo interpretadas desde un punto de vista propio e orixinal mantendo a esencia de cada estilo\n\nENTRADAS: Venda de entradas na caseta do festival ou en Notikumi\n\nCaseta do Festival: aberta dende o 31 de outubro en horario de 12:30 a 14:00 e de 19:00 a 20:30. Está na praza Maior\, fronte ao Círculo das Artes.
URL:https://vivalugo.es/evento/festival-de-jazz-de-lugo-los-hot-chocolates/
LOCATION:Círculo das Artes\, Praza Maior\, 23\, Lugo\, Lugo\, 27001\, Spain
ATTACH;FMTTYPE=image/jpeg:https://vivalugo.es/wp-content/uploads/2025/10/Programa-XXXV-Festival-Jazz-Lugo_2025-12.jpg
END:VEVENT
BEGIN:VEVENT
DTSTART;TZID=Europe/Madrid:20251115T223000
DTEND;TZID=Europe/Madrid:20251115T223000
DTSTAMP:20260419T193805
CREATED:20251029T213546Z
LAST-MODIFIED:20251029T213546Z
UID:96262-1763245800-1763245800@vivalugo.es
SUMMARY:Festival de Jazz de Lugo - Roberto Nieva Quartet e Kike López Septeto
DESCRIPTION:Festival de Jazz de Lugo – Roberto Nieva Quartet e Kike López Septeto\n\n\nRoberto Nieva Quartet\nSábado 15 de Novembro\n22:30 H Club Clavicémbalo\n\n\n\nRoberto Nieva: saxo\nXan Campo: piano\nThiago Alves de Oliveira: contrabaixo\nRodrigo Ballesteros: batería\n\nNo 2021\, Roberto Nieva\, é seleccionado entre candidatos de todo o mundo para formar parte do Focusyear\, un prestixioso programa de posgrado que se desenvolve no Jazz Campus de Basilea\, Suíza. No marco deste programa\, ofreceu un total de dezaseis concertos con estrelas internacionais \n\nKike López Septeto \nSábado 15 de Novembro \n23:45 H Club Clavicémbalo\n\nGrupo formado por sete músicos de ampla experiencia e versatilidade liderados por Kike López\, autor das composicións de creación propia da formación\, así como duns arranxos que dotan de frescura algúns clásicos\, para traelos ao presente dun xeito moi libre e dinámico\, a través dun vibrante jazz fusión. Ritmos latinos\, flamenco ou mesmo un funk poderoso que muda en bebop de xeito audaz serán ingredientes da velada sempre entretecidos pola liberdade creativa e o bo gusto.\n\n\nKike López: saxo alto e frauta\nSuso Moure: trompeta\nBruno Valle: trombón\nMarco Mendoza: batería\nCarlos Martinez: baixo eléctrico\nMike Spinelli: guitarra\nLuis Monsalve: piano\n\n\nENTRADAS: Venda de entradas na mesma sala ou anticipada en Woutick\n\nWeb oficial del Festival de Jazz de Lugo
URL:https://vivalugo.es/evento/festival-de-jazz-de-lugo-roberto-nieva-quartet-e-kike-lopez-septeto/
LOCATION:Club Clavicémbalo\, Rúa dos Paxariños\, 23\, Lugo\, Lugo\, 27002\, Spain
CATEGORIES:Conciertos
ATTACH;FMTTYPE=image/jpeg:https://vivalugo.es/wp-content/uploads/2025/10/Programa-XXXV-Festival-Jazz-Lugo_2025-19.jpg
END:VEVENT
END:VCALENDAR