BEGIN:VCALENDAR
VERSION:2.0
PRODID:-//VivaLugo - ECPv6.15.13.1//NONSGML v1.0//EN
CALSCALE:GREGORIAN
METHOD:PUBLISH
X-WR-CALNAME:VivaLugo
X-ORIGINAL-URL:https://vivalugo.es
X-WR-CALDESC:Eventos para VivaLugo
REFRESH-INTERVAL;VALUE=DURATION:PT1H
X-Robots-Tag:noindex
X-PUBLISHED-TTL:PT1H
BEGIN:VTIMEZONE
TZID:Europe/Madrid
BEGIN:DAYLIGHT
TZOFFSETFROM:+0100
TZOFFSETTO:+0200
TZNAME:CEST
DTSTART:20240331T010000
END:DAYLIGHT
BEGIN:STANDARD
TZOFFSETFROM:+0200
TZOFFSETTO:+0100
TZNAME:CET
DTSTART:20241027T010000
END:STANDARD
BEGIN:DAYLIGHT
TZOFFSETFROM:+0100
TZOFFSETTO:+0200
TZNAME:CEST
DTSTART:20250330T010000
END:DAYLIGHT
BEGIN:STANDARD
TZOFFSETFROM:+0200
TZOFFSETTO:+0100
TZNAME:CET
DTSTART:20251026T010000
END:STANDARD
BEGIN:DAYLIGHT
TZOFFSETFROM:+0100
TZOFFSETTO:+0200
TZNAME:CEST
DTSTART:20260329T010000
END:DAYLIGHT
BEGIN:STANDARD
TZOFFSETFROM:+0200
TZOFFSETTO:+0100
TZNAME:CET
DTSTART:20261025T010000
END:STANDARD
END:VTIMEZONE
BEGIN:VEVENT
DTSTART;TZID=Europe/Madrid:20251116T100000
DTEND;TZID=Europe/Madrid:20251116T100000
DTSTAMP:20260419T193645
CREATED:20251111T175651Z
LAST-MODIFIED:20251111T175651Z
UID:96629-1763287200-1763287200@vivalugo.es
SUMMARY:XVIII Jornada Renal
DESCRIPTION:XVIII Jornada Renal \n16 de noviembre a las 10 en el salón de actos del Hospital Lucus Augusti.
URL:https://vivalugo.es/evento/xviii-jornada-renal/
LOCATION:Lugo
CATEGORIES:Conferencias
ATTACH;FMTTYPE=image/png:https://vivalugo.es/wp-content/uploads/2025/11/jornada-renal.png
END:VEVENT
BEGIN:VEVENT
DTSTART;TZID=Europe/Madrid:20251116T110000
DTEND;TZID=Europe/Madrid:20251116T110000
DTSTAMP:20260419T193645
CREATED:20251114T173228Z
LAST-MODIFIED:20251114T173228Z
UID:96743-1763290800-1763290800@vivalugo.es
SUMMARY:Xornada de intercambio de artigos cervexeiros
DESCRIPTION:Xornada de intercambio de artigos cervexeiros \n16 de novembro de 2025 \n11:00 horas Mercado Municipal Quiroga Ballesteros \nEntrada de balde
URL:https://vivalugo.es/evento/xornada-de-intercambio-de-artigos-cervexeiros/
LOCATION:Lugo
CATEGORIES:Varios
ATTACH;FMTTYPE=image/jpeg:https://vivalugo.es/wp-content/uploads/2025/11/xornada-intercambio.jpg
END:VEVENT
BEGIN:VEVENT
DTSTART;TZID=Europe/Madrid:20251116T120000
DTEND;TZID=Europe/Madrid:20251116T120000
DTSTAMP:20260419T193645
CREATED:20251103T154730Z
LAST-MODIFIED:20251103T154730Z
UID:96348-1763294400-1763294400@vivalugo.es
SUMMARY:Visita guiada á expo "A indumentaria galega nas obras costumbristas"
DESCRIPTION:O sábado\, 16 de novembro\, ás 12:00 h\, o Museo Provincial de Lugo ofrece unha visita guiada á exposición “O Vestiario das Almas Pintadas. A indumentaria galega nos cadros costumistas”. \nA visita será dirixida por David Quiñones\, membro da Asociación Etnográfica Sete Espadelas e un dos comisarios da mostra. \nEsta exposición\, organizada pola Rede Museística Provincial da Deputación de Lugo\, é unha experiencia que pon en diálogo 45 manequíns (con máis de 600 pezas de roupa antiga e reproducións fieis) xunto ás obras de arte e esculturas costumistas que as inspiraron. \nDurante o percorrido\, da man dun dos seus responsables\, os asistentes poderán mergullarse nas escenas da vida cotiá representadas nos cadros e coñecer os detalles do traballo de investigación e reprodución. \nA visita permitirá apreciar ao detalle o vestiario\, a ourivería e os obxectos etnográficos dos nosos antepasados\, entendendo a fondo esta “posta en escena” que recupera do esquecemento figuras da nosa memoria popular. \nInscrición e Prazas\nPara garantir a calidade da visita\, ofrécense 25 prazas. As persoas interesadas deben inscribirse enviando un correo electrónico a concertacionsrmp@gmail.com. \nAs prazas cubriranse por rigorosa orde de inscrición. \nNo caso de que a demanda supere a oferta\, habilitarase unha segunda quenda de visita ás 11:00 h do mesmo día.
URL:https://vivalugo.es/evento/visita-guiada-a-expo-a-indumentaria-galega-nas-obras-costumbristas/
LOCATION:Museo Provincial de Lugo\, Praza da Soidade\, s/n\, Lugo\, 27001
CATEGORIES:Expos
END:VEVENT
BEGIN:VEVENT
DTSTART;TZID=Europe/Madrid:20251116T180000
DTEND;TZID=Europe/Madrid:20251116T180000
DTSTAMP:20260419T193645
CREATED:20251113T114759Z
LAST-MODIFIED:20251113T114759Z
UID:96696-1763316000-1763316000@vivalugo.es
SUMMARY:Presentación do libro Ta Spol Be
DESCRIPTION:Presentación do libro Ta Spol Be \nEste domingo 16 en A Hedreira ás 18:00 horas\, presentación do libro Ta Spol Be («Abrindo Camiño»). \nUn proxecto educativo nos Altos de Chiapas con poboación rebelde zapatista.Con Carlos López (coordinador do libro) e Moisés Nadal (historiador\, UB).
URL:https://vivalugo.es/evento/presentacion-do-libro-ta-spol-be/
LOCATION:A Hedreira\, Rua Catasol\, 17\, Lugo\, 27002
CATEGORIES:Presentaciones
ATTACH;FMTTYPE=image/jpeg:https://vivalugo.es/wp-content/uploads/2025/11/presentacion-libro-ta-spol-be.jpg
END:VEVENT
BEGIN:VEVENT
DTSTART;TZID=Europe/Madrid:20251116T183000
DTEND;TZID=Europe/Madrid:20251116T183000
DTSTAMP:20260419T193645
CREATED:20251106T201355Z
LAST-MODIFIED:20251106T201355Z
UID:96514-1763317800-1763317800@vivalugo.es
SUMMARY:Familiar - Fala\, fala\, falangueira
DESCRIPTION:Familiar – Fala\, fala\, falangueira\nMatrioshka Teatro \nDomingo\, 16 de novembro de 2025 18:30 hs. \n\nLugar: Auditorio Municipal Gustavo Freire\nCategoría: Teatro Familiar\nIdade recomendada: A partir dos 7 anos \nSinopse: \nO mundo das palabras amosado por dúas actrices que exploran como foron transmitidas de xeración en xeración\, de Matrioshka a Matrioshka\, que se moven entre a luz da memoria e do esquecemento\, unhas usadas dende hai séculos\, outras xa esquecidas\, e outras recén estreadas\, configurando momentos de diversión e reflexión\, creando combinacións que abren as portas da curiosidade sobre a historia da nosa lingua entre o público. \nFala fala falangueira é un espectáculo que nace do amor e respecto pola nosa lingua galega. \nENTRADAS \nAdquisición de entradas a través do portal web entradaslugo.es e na Oficina de Turismo ata 3 horas antes do comezo de cada función; e no auditorio\, o día da función\, desde unha hora e media antes do comezo do espectáculo.
URL:https://vivalugo.es/evento/familiar-fala-fala-falangueira/
LOCATION:​Auditorio Municipal Gustavo Freire\, Parque da Milagrosa\, Avda. da Coruña\, s/n\, Lugo\, Lugo\, 27003\, Spain
CATEGORIES:Artes escénicas
ATTACH;FMTTYPE=image/jpeg:https://vivalugo.es/wp-content/uploads/2025/10/programacion-gustavo-freire-familiar-6.jpg
END:VEVENT
BEGIN:VEVENT
DTSTART;TZID=Europe/Madrid:20251116T190000
DTEND;TZID=Europe/Madrid:20251116T190000
DTSTAMP:20260419T193645
CREATED:20251114T173607Z
LAST-MODIFIED:20251114T173607Z
UID:96746-1763319600-1763319600@vivalugo.es
SUMMARY:Domingo de comedia con Javi Meroño
DESCRIPTION:Domingo de comedia con Javi Meroño \nDomingo 16 de noviembre – Comienzo del monólogo: 19:00 h – Apertura de puertas: 18:30\nSweet Lugo – Avelino Pousa Antelo 8\, Recatelo ( Parque de Rosalia de Castro ) \nActor\, guionista y monologuista con más de 18 años de experiencia\, Javi Meroño es pura energía sobre el escenario. Su humor es fresco\, cercano y canalla\, mezclando monólogo\, improvisación y situaciones cotidianas que arrancan carcajadas sin descanso.
URL:https://vivalugo.es/evento/domingo-de-comedia-con-javi-merono/
LOCATION:Sweet Lugo\, Avelino Pousa Antelo 8\, Recatelo (Parque de Rosalía de Castro)\, Lugo
CATEGORIES:Artes escénicas
ATTACH;FMTTYPE=image/png:https://vivalugo.es/wp-content/uploads/2025/11/domingo-comedia-javi-merono.png
END:VEVENT
END:VCALENDAR