BEGIN:VCALENDAR
VERSION:2.0
PRODID:-//VivaLugo - ECPv6.15.13.1//NONSGML v1.0//EN
CALSCALE:GREGORIAN
METHOD:PUBLISH
X-WR-CALNAME:VivaLugo
X-ORIGINAL-URL:https://vivalugo.es
X-WR-CALDESC:Eventos para VivaLugo
REFRESH-INTERVAL;VALUE=DURATION:PT1H
X-Robots-Tag:noindex
X-PUBLISHED-TTL:PT1H
BEGIN:VTIMEZONE
TZID:Europe/Madrid
BEGIN:DAYLIGHT
TZOFFSETFROM:+0100
TZOFFSETTO:+0200
TZNAME:CEST
DTSTART:20240331T010000
END:DAYLIGHT
BEGIN:STANDARD
TZOFFSETFROM:+0200
TZOFFSETTO:+0100
TZNAME:CET
DTSTART:20241027T010000
END:STANDARD
BEGIN:DAYLIGHT
TZOFFSETFROM:+0100
TZOFFSETTO:+0200
TZNAME:CEST
DTSTART:20250330T010000
END:DAYLIGHT
BEGIN:STANDARD
TZOFFSETFROM:+0200
TZOFFSETTO:+0100
TZNAME:CET
DTSTART:20251026T010000
END:STANDARD
BEGIN:DAYLIGHT
TZOFFSETFROM:+0100
TZOFFSETTO:+0200
TZNAME:CEST
DTSTART:20260329T010000
END:DAYLIGHT
BEGIN:STANDARD
TZOFFSETFROM:+0200
TZOFFSETTO:+0100
TZNAME:CET
DTSTART:20261025T010000
END:STANDARD
END:VTIMEZONE
BEGIN:VEVENT
DTSTART;TZID=Europe/Madrid:20251117T190000
DTEND;TZID=Europe/Madrid:20251127T190000
DTSTAMP:20260419T193645
CREATED:20251113T121839Z
LAST-MODIFIED:20251113T121839Z
UID:96716-1763406000-1764270000@vivalugo.es
SUMMARY:Xornadas sobre o sector forestal galego
DESCRIPTION:“XXXVI Xornadas Luis Asorey”\, centradas nesta edición na situación actual e os retos aos que se enfronta o sector forestal galego. \nDesenvolveranse do 17 ao 27 de novembro no salón de actos da Deputación de Lugo (rúa San Marcos\, 8)\, en horario de 19:00 a 21:00 horas. \nA inscrición neste ciclo\, no que tamén se pode participar de xeito online\, é gratuíta.
URL:https://vivalugo.es/evento/xornadas-sobre-o-sector-forestal-galego/
LOCATION:Pazo de San Marcos – Deputación de Lugo\, Rúa San Marcos\, 8\, lugo\, Lugo\, 27001
CATEGORIES:Conferencias
ATTACH;FMTTYPE=image/jpeg:https://vivalugo.es/wp-content/uploads/2025/11/xornadas-sector-forestal-galego.jpg
END:VEVENT
BEGIN:VEVENT
DTSTART;TZID=Europe/Madrid:20251119T190000
DTEND;TZID=Europe/Madrid:20251119T190000
DTSTAMP:20260419T193645
CREATED:20251118T123853Z
LAST-MODIFIED:20251118T123853Z
UID:96785-1763578800-1763578800@vivalugo.es
SUMMARY:Presentación do libro '66' de Xavier Queipo
DESCRIPTION:Presentación do libro ’66’ de Xavier Queipo \n\nMércores\, 19 de novembro\n19:00h\nLibrería Trama\n\nO autor estará acompañado polo autor Abraham Pérez.
URL:https://vivalugo.es/evento/presentacion-do-libro-66-de-xavier-queipo/
LOCATION:Librería Trama\, Avenida A Coruña\, 21\, Lugo\, 27003
CATEGORIES:Presentaciones
ATTACH;FMTTYPE=image/jpeg:https://vivalugo.es/wp-content/uploads/2025/11/presentacion-libro-66-xavier.jpg
END:VEVENT
BEGIN:VEVENT
DTSTART;TZID=Europe/Madrid:20251119T190000
DTEND;TZID=Europe/Madrid:20251119T190000
DTSTAMP:20260419T193645
CREATED:20251118T124917Z
LAST-MODIFIED:20251118T124917Z
UID:96793-1763578800-1763578800@vivalugo.es
SUMMARY:Conferencia "Historia recente de Cuba"
DESCRIPTION:Conferencia «Historia recente de Cuba» \nMércores 19/11 ás 19:00 horas en O Vello Cárcere. Entrada gratuíta.
URL:https://vivalugo.es/evento/conferencia-historia-recente-de-cuba/
LOCATION:O Vello Cárcere\, Av. Alcalde Anxo López Pérez\, 10\, Lugo\, Lugo\, 27002\, Spain
CATEGORIES:Conferencias
ATTACH;FMTTYPE=image/jpeg:https://vivalugo.es/wp-content/uploads/2025/11/conferencia-historia-recente-cuba.jpg
END:VEVENT
BEGIN:VEVENT
DTSTART;TZID=Europe/Madrid:20251119T200000
DTEND;TZID=Europe/Madrid:20251119T200000
DTSTAMP:20260419T193645
CREATED:20251111T180050Z
LAST-MODIFIED:20251111T180050Z
UID:96633-1763582400-1763582400@vivalugo.es
SUMMARY:Concerto de James Rhodes
DESCRIPTION:Concerto de James Rhodes \n19 de novembro\, ás 20:00 horas\, no auditorio Fuxan os Ventos\, como parte do programa conmemorativo polo 25 aniversario da declaración da Muralla de Lugo como Patrimonio da Humanidade pola UNESCO. \nEntradas a través da web entradaslugo.es
URL:https://vivalugo.es/evento/concerto-de-james-rhodes/
LOCATION:Auditorio Municipal Fuxan os Ventos\, Rúa Madanela\, LUGO\, Lugo\, 27002\, Spain
CATEGORIES:Conciertos
ATTACH;FMTTYPE=image/jpeg:https://vivalugo.es/wp-content/uploads/2025/11/concerto-james-rhodes.jpg
END:VEVENT
BEGIN:VEVENT
DTSTART;TZID=Europe/Madrid:20251119T210000
DTEND;TZID=Europe/Madrid:20251119T210000
DTSTAMP:20260419T193645
CREATED:20251118T124611Z
LAST-MODIFIED:20251118T124611Z
UID:96790-1763586000-1763586000@vivalugo.es
SUMMARY:Jam Session no Club Clavicémbalo
DESCRIPTION:Jam Session no Club Clavicémbalo \nMércores 19 de novembro de 2025 \n21:00 horas \nEntrada libre \n«Participa co teu instrumento ou simplemente ven a disfrutar do talento en directo.» Promove: Fábrica de Sons Escola de Música.
URL:https://vivalugo.es/evento/jam-session-no-club-clavicembalo/
LOCATION:Club Clavicémbalo\, Rúa dos Paxariños\, 23\, Lugo\, Lugo\, 27002\, Spain
CATEGORIES:Conciertos
ATTACH;FMTTYPE=image/jpeg:https://vivalugo.es/wp-content/uploads/2025/11/jam-session-club-clavicembalo.jpg
END:VEVENT
END:VCALENDAR