BEGIN:VCALENDAR
VERSION:2.0
PRODID:-//VivaLugo - ECPv6.15.13.1//NONSGML v1.0//EN
CALSCALE:GREGORIAN
METHOD:PUBLISH
X-WR-CALNAME:VivaLugo
X-ORIGINAL-URL:https://vivalugo.es
X-WR-CALDESC:Eventos para VivaLugo
REFRESH-INTERVAL;VALUE=DURATION:PT1H
X-Robots-Tag:noindex
X-PUBLISHED-TTL:PT1H
BEGIN:VTIMEZONE
TZID:Europe/Madrid
BEGIN:DAYLIGHT
TZOFFSETFROM:+0100
TZOFFSETTO:+0200
TZNAME:CEST
DTSTART:20240331T010000
END:DAYLIGHT
BEGIN:STANDARD
TZOFFSETFROM:+0200
TZOFFSETTO:+0100
TZNAME:CET
DTSTART:20241027T010000
END:STANDARD
BEGIN:DAYLIGHT
TZOFFSETFROM:+0100
TZOFFSETTO:+0200
TZNAME:CEST
DTSTART:20250330T010000
END:DAYLIGHT
BEGIN:STANDARD
TZOFFSETFROM:+0200
TZOFFSETTO:+0100
TZNAME:CET
DTSTART:20251026T010000
END:STANDARD
BEGIN:DAYLIGHT
TZOFFSETFROM:+0100
TZOFFSETTO:+0200
TZNAME:CEST
DTSTART:20260329T010000
END:DAYLIGHT
BEGIN:STANDARD
TZOFFSETFROM:+0200
TZOFFSETTO:+0100
TZNAME:CET
DTSTART:20261025T010000
END:STANDARD
END:VTIMEZONE
BEGIN:VEVENT
DTSTART;TZID=Europe/Madrid:20251117T190000
DTEND;TZID=Europe/Madrid:20251127T190000
DTSTAMP:20260419T193643
CREATED:20251113T121839Z
LAST-MODIFIED:20251113T121839Z
UID:96716-1763406000-1764270000@vivalugo.es
SUMMARY:Xornadas sobre o sector forestal galego
DESCRIPTION:“XXXVI Xornadas Luis Asorey”\, centradas nesta edición na situación actual e os retos aos que se enfronta o sector forestal galego. \nDesenvolveranse do 17 ao 27 de novembro no salón de actos da Deputación de Lugo (rúa San Marcos\, 8)\, en horario de 19:00 a 21:00 horas. \nA inscrición neste ciclo\, no que tamén se pode participar de xeito online\, é gratuíta.
URL:https://vivalugo.es/evento/xornadas-sobre-o-sector-forestal-galego/
LOCATION:Pazo de San Marcos – Deputación de Lugo\, Rúa San Marcos\, 8\, lugo\, Lugo\, 27001
CATEGORIES:Conferencias
ATTACH;FMTTYPE=image/jpeg:https://vivalugo.es/wp-content/uploads/2025/11/xornadas-sector-forestal-galego.jpg
END:VEVENT
BEGIN:VEVENT
DTSTART;VALUE=DATE:20251122
DTEND;VALUE=DATE:20251123
DTSTAMP:20260419T193643
CREATED:20251120T121626Z
LAST-MODIFIED:20251120T121626Z
UID:96916-1763769600-1763855999@vivalugo.es
SUMMARY:Jornada - X Aniversario de la declaración UNESCO de los Caminos del Norte y la Catedral de Lugo
DESCRIPTION:Jornada – X Aniversario de la declaración UNESCO de los Caminos del Norte y la Catedral de Lugo \nSábado 22 de noviembre de 2025 \n 
URL:https://vivalugo.es/evento/jornada-x-aniversario-de-la-declaracion-unesco-de-los-caminos-del-norte-y-la-catedral-de-lugo/
LOCATION:Lugo
CATEGORIES:Varios
ATTACH;FMTTYPE=image/jpeg:https://vivalugo.es/wp-content/uploads/2025/11/jornada-x-aniversario.jpg
END:VEVENT
BEGIN:VEVENT
DTSTART;VALUE=DATE:20251122
DTEND;VALUE=DATE:20251124
DTSTAMP:20260419T193643
CREATED:20251121T155518Z
LAST-MODIFIED:20251121T155518Z
UID:96948-1763769600-1763942399@vivalugo.es
SUMMARY:Baúl da Maxia co mago Rafa e a ilusionista Lore Lavand
DESCRIPTION:O mago Rafa e a ilusionista Lore Lavand abren o sábado na Praza do Ferrol o seu Baúl da Maxia\, con pases de mañá e tarde íntimos\, visuais\, sorprendentes e para todos os públicos. \nPrograma e pases \nPraza do Ferrol. Día 22 (sábado)\nLore Lavand\n12:00\, 12:30\, 13:00 e 13:30\nMago Rafa\n17:00\, 17:30\, 18:00\, 18:30\, 19:00 e 19:30 \nPraza do Ferrol. Día 23 (domingo)\nMago Rafa\n12:00\, 12:30\, 13:00 e 13:30\nLore Lavand\n17:00\, 17:30\, 18:00\,18:30\, 19:00 e 19:30 \nPorta de Campo Castelo. Día 29 (sábado)\nLore Lavand\n12:00\, 12:30\, 13:00 e 13:30\nMago Rafa\n17:00\, 17:30\, 18:00 e 18:30 \nPorta de Campo Castelo. Día 30 (domingo)\nMago Rafa\n11:30\, 12:00\, 12:30 e 13:00\nLore Lavand\n17:00\, 17:30\, 18:00 e 18:30
URL:https://vivalugo.es/evento/baul-da-maxia-co-mago-rafa-e-a-ilusionista-lore-lavand/
LOCATION:Lugo
CATEGORIES:Artes escénicas
ATTACH;FMTTYPE=image/jpeg:https://vivalugo.es/wp-content/uploads/2025/11/baul-da-maxia.jpg
END:VEVENT
BEGIN:VEVENT
DTSTART;TZID=Europe/Madrid:20251122T110000
DTEND;TZID=Europe/Madrid:20251122T110000
DTSTAMP:20260419T193643
CREATED:20251104T170634Z
LAST-MODIFIED:20251104T170634Z
UID:96470-1763809200-1763809200@vivalugo.es
SUMMARY:Guido Guía - O primeiro Camiño
DESCRIPTION:Guido Guía – O primeiro Camiño\nSábado 22 de novembro de 2025 \nA actividade comezará ás 11 da mañá\, o prezo será de 8 € por persoa (desconto do 50% para menores de 18 anos\, e gratuidade para menores de 2) e as inscricións poden facerse a través do correo electrónico guidoguiaturismo@gmail.com. \nFinaliza ás 14:00 horas \n13 de decembro: O nacemento do Rato \n20 de decembro: O val do Miño \nGuido Guía propón 10 paseos guiados polo Lugo menos coñecido no X aniversario do seu proxecto
URL:https://vivalugo.es/evento/guido-guia-o-primeiro-camino/
LOCATION:Lugo
CATEGORIES:Varios
ATTACH;FMTTYPE=image/png:https://vivalugo.es/wp-content/uploads/2025/07/guido-guia-lugo.png
END:VEVENT
BEGIN:VEVENT
DTSTART;TZID=Europe/Madrid:20251122T110000
DTEND;TZID=Europe/Madrid:20251122T140000
DTSTAMP:20260419T193643
CREATED:20251121T161114Z
LAST-MODIFIED:20251121T161114Z
UID:96953-1763809200-1763820000@vivalugo.es
SUMMARY:Teatro en cada porta da Muralla de Lugo
DESCRIPTION:Un total de nove compañías e grupos teatrais de Lugo participarán nun percorrido teatralizado\, coa muralla de telón de fondo\, para representar unha pequena obra en cada unha das portas do monumento. \nA ruta teatral comezará o sábado 22 ás 11.00 da mañá\, na porta Falsa\, coa actuación do grupo Hospital Teatro. \nVinte minutos despois\, será o turno para a compañía Achádego Teatro\, que representará a súa obra na porta de San Fernando. \nO percorrido teatral continurá seguindo a Muralla\, polo que a seginte parada será na porta de Bispo Odoario\, ás 12.00 horas\, coa actuación da compañía Solitaria do Dr.Monifate. \nUns vinte minutos despois a escea trasladarase á Porta Miñá\, cunha nova representación\, neste caso a cargo de Ubu Teatro. \nÁs 12.45 está prevista a actuación de Bátega Teatro\, na Porta de Santiago\, que dará paso a representación a cargo da compañía Pinchacarneiro\, na porta de Bispo Aguirre\, a partir das 13.00 horas. \nAs representacións teatrais se trasladarás\, ás 13.20 horas\, ata a seguinte porta\, a de Campo Castelo para acoller a actuación das e dos integrantes de Teatro do Miolo. \nA Mosqueira será o escenario escollido pola agrupación Palimoquiños Teatro para actuar a partir das 13.45 horas\, mentres que ás 14.00\, a Asociación Cultural Ousadía será a encargada de actuar en derradeiro lugar\, na porta de San Pedro\, e poñer así o punto final a este percorrido teatral. \nDe mónologos a performance\n11.00 – Porta Falsa: representación breve da obra “O achado do Castro”\, na que dous ladróns da época romana argallan derrocar ó Emperador\, a cargo do Grupo de Teatro do Hospital de Lugo\, será a encargada da abrir esta ruta teatral. \n11.20 – Porta San Fernando: representación da montaxe de microteatro “Profundando nas cousas da vida”\, baseada en relatos de Castelao\, a cargo de Achádego. \n12.00 – Porta Bispo Odoario: “A Muralla Arte Contemporaneo”\, conta a historia dun home malo\, que na súa busca do mal atopou dous elementos que lle permiten desenvolver facer o mal: a verdade e a arte contemporánea. Nunha disertación vai ser quen de incluir a peza A Muralla de Lugo de autoría colectiva no mercado da arte contemporánea. A representación corre a cargo da Compañía Solitaria do Dr. Monifate. \n12.20 – Porta Miñá: coa actuación do grupo Ubu Teatro e a súa representación titulada “Contos de mañá”. \n12.45- Porta Santiago o grupo Bátega Teatro propón unha función\, que baixo o título de “Estraperlistas”\, trata sobre o estraperlo e as portas da Muralla. \n13.00 – Porta Bispo Aguirre: representación castrexa a cargo do grupo Pinchacarneiro. \n13.20 – Porta Campo Castelo: “Pum\, pum. Quen é?” é o título da representación que levará a cabo o grupo Teatro do Miolo e Cía\, no que unha particular muller agarda; un inesperado interlocutor fai acto de presenza e cóntase así a historia dun encontro que desafía o tempo. \n13.45 – A Mosqueira: “Non me esquezas“ e o título dunha performance sobre os acontecementos que tiveron lugar en Lugo dende a abdicación de Alfonso XIII e a proclamación da Repúbica na nosa cidade\, lembrando a Rafael de Vega ou Juana Capdevielle\, a cargo do grupo Palimoquiños Teatro. \nPorta de San Pedro\, ás 14.00 horas: representación da peza ”Lendas da muralla de Lugo” a cargo do grupo Teatro Ousadía.
URL:https://vivalugo.es/evento/teatro-en-cada-porta-da-muralla-de-lugo/
LOCATION:Lugo
CATEGORIES:Artes escénicas
ATTACH;FMTTYPE=image/jpeg:https://vivalugo.es/wp-content/uploads/2025/11/teatro-muralla-de-lugo.jpg
END:VEVENT
BEGIN:VEVENT
DTSTART;TZID=Europe/Madrid:20251122T120000
DTEND;TZID=Europe/Madrid:20251122T120000
DTSTAMP:20260419T193643
CREATED:20251120T121953Z
LAST-MODIFIED:20251120T121953Z
UID:96919-1763812800-1763812800@vivalugo.es
SUMMARY:Lançamento do livro "Histórias da Galiza Natural"
DESCRIPTION:«O dia 22 de novembro às 12h00 temos o lançamento do livro da @atraveseditora Histórias da Galiza Natural com a presença da autor João Aveledo. No Mádia Leva»
URL:https://vivalugo.es/evento/lancamento-do-livro-historias-da-galiza-natural/
LOCATION:Madia Leva\, Serra de Ancares 18\, Lugo
CATEGORIES:Presentaciones
ATTACH;FMTTYPE=image/jpeg:https://vivalugo.es/wp-content/uploads/2025/11/libro-as-historias-da-galiza-natural.jpg
END:VEVENT
BEGIN:VEVENT
DTSTART;TZID=Europe/Madrid:20251122T120000
DTEND;TZID=Europe/Madrid:20251122T120000
DTSTAMP:20260419T193643
CREATED:20251121T161740Z
LAST-MODIFIED:20251121T161740Z
UID:96956-1763812800-1763812800@vivalugo.es
SUMMARY:Contacontos e presentación do libro 'Entre rías'\, de Celia Veiga
DESCRIPTION:Contacontos e presentación do libro ‘Entre rías’\, de Celia Veiga \n\nSábado\, 22 de novembro\n12:00h\nLibrería Trama\n\n‘Entre rías’ é un conto infantil que fala dos valores da amizade\, a solidariedade e o traballo en equipo. \nUnha historia ideal para nenos e nenas que están descubrindo o poder da colaboración. \nO sábado\, a autora Celia Veiga fará un contacontos a partir do libro. \nEdita: editorial Gusanillo
URL:https://vivalugo.es/evento/contacontos-e-presentacion-do-libro-entre-rias-de-celia-veiga/
LOCATION:Librería Trama\, Avenida A Coruña\, 21\, Lugo\, 27003
CATEGORIES:Artes escénicas
ATTACH;FMTTYPE=image/jpeg:https://vivalugo.es/wp-content/uploads/2025/11/contacontos-libro-entre-rias.jpg
END:VEVENT
BEGIN:VEVENT
DTSTART;TZID=Europe/Madrid:20251122T123000
DTEND;TZID=Europe/Madrid:20251122T123000
DTSTAMP:20260419T193643
CREATED:20251119T170500Z
LAST-MODIFIED:20251119T170500Z
UID:96877-1763814600-1763814600@vivalugo.es
SUMMARY:Presentación do libro "Historia fin de Siglo"
DESCRIPTION:Presentación do libro «Historia fin de Siglo» \n12:30 horas \n22/11/2025 \nO Vello Cárcere de Lugo
URL:https://vivalugo.es/evento/presentacion-do-libro-historia-fin-de-siglo/
LOCATION:O Vello Cárcere\, Av. Alcalde Anxo López Pérez\, 10\, Lugo\, Lugo\, 27002\, Spain
CATEGORIES:Presentaciones
ATTACH;FMTTYPE=image/jpeg:https://vivalugo.es/wp-content/uploads/2025/11/presentacion-libro-historia-fin-de-siglo.jpg
END:VEVENT
BEGIN:VEVENT
DTSTART;TZID=Europe/Madrid:20251122T183000
DTEND;TZID=Europe/Madrid:20251122T183000
DTSTAMP:20260419T193643
CREATED:20251118T191631Z
LAST-MODIFIED:20251118T191631Z
UID:96836-1763836200-1763836200@vivalugo.es
SUMMARY:Club de Lectura de Lugo - "La habitación alemana"
DESCRIPTION:Club de Lectura de Lugo – «La habitación alemana» \n22 de novembro ás 18:30 h en O Vello Cárcere de Lugo \n«Un encontro para compartir impresións\, descubrir novas lecturas e gozar da literatura en boa compañía. Se che interesa\, escribe a clubdelecturalugo@gmail.com para participar»
URL:https://vivalugo.es/evento/club-de-lectura-de-lugo-la-habitacion-alemana/
LOCATION:O Vello Cárcere\, Av. Alcalde Anxo López Pérez\, 10\, Lugo\, Lugo\, 27002\, Spain
CATEGORIES:Artes escénicas
ATTACH;FMTTYPE=image/jpeg:https://vivalugo.es/wp-content/uploads/2025/11/club-lectura-lugo-la-habitacion-alemana.jpg
END:VEVENT
BEGIN:VEVENT
DTSTART;TZID=Europe/Madrid:20251122T193000
DTEND;TZID=Europe/Madrid:20251122T193000
DTSTAMP:20260419T193643
CREATED:20251120T121232Z
LAST-MODIFIED:20251120T121232Z
UID:96913-1763839800-1763839800@vivalugo.es
SUMMARY:Concerto "A reconfortante vixencia da música antiga"
DESCRIPTION:Concerto «A reconfortante vixencia da música antiga» \n22 de novembro de 2025 – Igrexa de S. Pedro às 19:30h \nFestividade de Santa Cecília e 33º Aniversário de Solo Voces \nSolo Voces e Antiquorum (Ferrol)
URL:https://vivalugo.es/evento/concerto-a-reconfortante-vixencia-da-musica-antiga/
LOCATION:Lugo
CATEGORIES:Conciertos
ATTACH;FMTTYPE=image/jpeg:https://vivalugo.es/wp-content/uploads/2025/11/concerto-vixencia-musica-antiga.jpg
END:VEVENT
BEGIN:VEVENT
DTSTART;TZID=Europe/Madrid:20251122T200000
DTEND;TZID=Europe/Madrid:20251122T200000
DTSTAMP:20260419T193643
CREATED:20251103T153941Z
LAST-MODIFIED:20251103T153941Z
UID:96340-1763841600-1763841600@vivalugo.es
SUMMARY:Concerto de Lorahacepam en A Hedreira Lugo
DESCRIPTION:Concerto de Lorahacepam en A Hedreira Lugo \nSábado 22\, 20:00 h: Conclusión da xornada de presentación da CMS que incluirá o concerto e petisqueo vegano. \nA Hedreira Lugo – Programación de Novembro 2025
URL:https://vivalugo.es/evento/concerto-de-lorahacepam-en-a-hedreira-lugo/
LOCATION:A Hedreira\, Rua Catasol\, 17\, Lugo\, 27002
CATEGORIES:Conciertos
ATTACH;FMTTYPE=image/jpeg:https://vivalugo.es/wp-content/uploads/2025/11/a-hedreira-lugo-novembro-2025.jpg
END:VEVENT
BEGIN:VEVENT
DTSTART;TZID=Europe/Madrid:20251122T203000
DTEND;TZID=Europe/Madrid:20251122T203000
DTSTAMP:20260419T193643
CREATED:20251017T101443Z
LAST-MODIFIED:20251020T193604Z
UID:95731-1763843400-1763843400@vivalugo.es
SUMMARY:Danza - Pezas curtas
DESCRIPTION:Danza – Pezas curtas \nIdi Begi + Contido + Proserpina + Portrait \n\n\n\n\nMércores\, 22 de outubro de 2025 20:30 hs. \nAuditorio Municipal Gustavo Freire \n\n\n\n\nIdade recomendada: Todos os públicos \nIdi Begi (Proyecto Larrua) \nNo País Vasco\, o Idi-Probak consiste en utilizar bois para arrastrar pedras. \nInspirados nesta práctica tradicional\, os bailaríns mergúllanse no corpo do animal para contar a dureza do traballo\, a loita pola supervivencia\, o desexo de liberdade e ese vínculo\, ambivalente e constante\, entre o ser humano e o animal. \nProyecto Larrua – Idi Begi Desde os albores do sedentarismo\, o ser humano alixeirou o seu traballo grazas á axuda dos animais. Proxecto Larrua adopta o punto de vista dun boi para\, a través da danza\, mudar a mirada\, cuestionar este vínculo doméstico e falar dun mundo rural que desaparece. \nContido (Companhia dança Almada) \nAs regras impostas pola sociedade\, polas que interaccionamos uns cos outros\, domésticannos. \nCrean tendencias\, hábitos\, que moitas veces nos fan perder a capacidade de cuestionar. \nConvértense nun dato adquirido. Fican tan intrínsecos na nosa maneira de pensar e de estar que nos cegan e limitan a exploración e a conexión coa nosa natureza. \nDo que sentimos\, dos nosos instintos tamén ligados aos nosos devanceiros\, sobresaíe o noso lado animal e máis salvaxe. \nProserpina (La mínima) \nProserpina. Non lembro como era eu ao principio\, cando case non sabía nada. Pero a miña sensación é que era primavera. Lembro mellor por que deixei de ser así… cando coñecín máis cousas. Agora non me recoñezo. \nProserpina é un solo de danza contemporánea cuxa esencia é a espontaneidade do movemento e a apertura e adaptabilidade do corpo en relación ao impulso\, ao estímulo\, á sensación percibida polos sentidos. \nPortrait (ZigZag) \nPortrait expón ante o público o reto de subir ao escenario. Afonda nas motivacións e nos medos do intérprete\, porque a soidade en escena é unha soidade diferente ás demais. Dirixida e interpretada por Miguel Quiroga\, a peza explora esa “situación forzada e voluntaria de exposición persoal ante un público que agarda recibir”. \nENTRADAS \nAdquisición de entradas a través do portal web entradaslugo.es e na Oficina de Turismo ata 3 horas antes do comezo de cada función; e no auditorio\, o día da función\, desde unha hora e media antes do comezo do espectáculo. \nProgramación cultural do segundo semestre no Auditorio Municipal Gustavo Freire
URL:https://vivalugo.es/evento/danza-pezas-curtas/
LOCATION:​Auditorio Municipal Gustavo Freire\, Parque da Milagrosa\, Avda. da Coruña\, s/n\, Lugo\, Lugo\, 27003\, Spain
CATEGORIES:Artes escénicas
ATTACH;FMTTYPE=image/jpeg:https://vivalugo.es/wp-content/uploads/2025/10/programacion-gustavo-freire-danza-4.jpg
END:VEVENT
BEGIN:VEVENT
DTSTART;TZID=Europe/Madrid:20251122T213000
DTEND;TZID=Europe/Madrid:20251122T213000
DTSTAMP:20260419T193643
CREATED:20250705T133455Z
LAST-MODIFIED:20251118T192359Z
UID:92626-1763847000-1763847000@vivalugo.es
SUMMARY:CANCELADO - Concerto de "Ilegales"
DESCRIPTION:CANCELADO – Concerto de «Ilegales» \nSala Tebras | Lugo \n\n22 Novembro 2025 21:30 \nDesde o seu regreso en 2015\, Ilegales experimentou un vertixinoso aumento na venda de entradas\, aparicións en festivais e venda de discos. \nComa se estivese a experimentar unha segunda (ou terceira) xuventude\, a banda conta os seus concertos por números de «entradas esgotadas» e reafirma a súa reputación de ter un dos mellores directos da escena do rock cantado en español. \nÉ especialmente axeitado que esta nova xira se chame «Joven e Arrogante»\, xa que o grupo leva anos demostrando que mantén a forza\, a audacia e a frescura daqueles primeiros tempos\, cando forxaron a aura que os fixo memorables. \n«Joven e Arrogante» é tamén o título do seu novo álbum\, o seu décimo terceiro álbum de estudio\, que se publicará o 7 de marzo de 2025. \nUn éxito de recadación e unha actuación abrumadora en directo tanto en España como en varios países americanos (especialmente en México\, Colombia\, Ecuador e Chile). \nEn marzo de 2025\, lanzaron unha nova xira\, onde as novas cancións conviven á perfección cos seus clásicos. \nSe hai algo bo no repertorio de Ilegales\, é que a maioría das súas cancións son himnos atemporais\, do tipo que fan que o público cante dende a primeira estrofa ata o último acorde. \nEntradas: Ataquilla
URL:https://vivalugo.es/evento/concerto-de-ilegales/
LOCATION:Sala Tebras\,  Pza Viana do Castelo 3\, 27003\, Lugo
CATEGORIES:Conciertos
ATTACH;FMTTYPE=image/jpeg:https://vivalugo.es/wp-content/uploads/2025/07/concierto-ilegales.jpg
END:VEVENT
BEGIN:VEVENT
DTSTART;TZID=Europe/Madrid:20251122T220000
DTEND;TZID=Europe/Madrid:20251122T220000
DTSTAMP:20260419T193643
CREATED:20251120T122707Z
LAST-MODIFIED:20251120T122707Z
UID:96922-1763848800-1763848800@vivalugo.es
SUMMARY:Concerto de Escuchando Elefantes
DESCRIPTION:Concerto de Escuchando Elefantes \nSábado 22 de novembro de 2025 \n22:00 horas Club Clavicémbalo de Lugo \nPresentación do novo disco.
URL:https://vivalugo.es/evento/concerto-de-escuchando-elefantes/
LOCATION:Club Clavicémbalo\, Rúa dos Paxariños\, 23\, Lugo\, Lugo\, 27002\, Spain
CATEGORIES:Conciertos
ATTACH;FMTTYPE=image/jpeg:https://vivalugo.es/wp-content/uploads/2025/11/concerto-escuchando-elefantes.jpg
END:VEVENT
BEGIN:VEVENT
DTSTART;TZID=Europe/Madrid:20251122T223000
DTEND;TZID=Europe/Madrid:20251122T223000
DTSTAMP:20260419T193643
CREATED:20251110T182321Z
LAST-MODIFIED:20251110T182321Z
UID:96604-1763850600-1763850600@vivalugo.es
SUMMARY:Concierto de ALAN NEPA Rock Band
DESCRIPTION:Concierto de ALAN NEPA Rock Band \nSábado 22 de Noviembre\, la Banda de Rock Gaditana\, estará cerrado su gira «Problemas»2025 en la Sala Jagger de Lugo \n22:30 horas
URL:https://vivalugo.es/evento/concierto-de-alan-nepa-rock-band/
LOCATION:Sala Jagger\, Rua da Cruz 20\, Lugo\, Lugo\, 27001
CATEGORIES:Conciertos
ATTACH;FMTTYPE=image/jpeg:https://vivalugo.es/wp-content/uploads/2025/11/concierto-alan-nepa.jpg
END:VEVENT
BEGIN:VEVENT
DTSTART;TZID=Europe/Madrid:20251122T233000
DTEND;TZID=Europe/Madrid:20251122T233000
DTSTAMP:20260419T193643
CREATED:20251120T120115Z
LAST-MODIFIED:20251120T120115Z
UID:96903-1763854200-1763854200@vivalugo.es
SUMMARY:Festa de Outono
DESCRIPTION:Festa de Outono\n\n«O sábado 22 de novembro\, dende media-noite\, temos unha cita para bailar\, cantar e revivir os mellores temas dos anos 80!\n\nA noite estará amenizada por Sintrom e La Disquetera\, dous grupos que nos farán viaxar no tempo cunha sesión chea de ritmo\, nostalxia e bo ambiente.\n\n\n\nDende as 00:00h atá as 04:00h»\n\nSalón Rexio – Círculo das Artes\n\n\nEntradas: \nSocios: entrada libre\nNo socios: entrada 10€
URL:https://vivalugo.es/evento/festa-de-outono/
LOCATION:Círculo das Artes\, Praza Maior\, 23\, Lugo\, Lugo\, 27001\, Spain
CATEGORIES:Varios
ATTACH;FMTTYPE=image/jpeg:https://vivalugo.es/wp-content/uploads/2025/11/festa-de-outono.jpg
END:VEVENT
END:VCALENDAR