BEGIN:VCALENDAR
VERSION:2.0
PRODID:-//VivaLugo - ECPv6.15.13.1//NONSGML v1.0//EN
CALSCALE:GREGORIAN
METHOD:PUBLISH
X-WR-CALNAME:VivaLugo
X-ORIGINAL-URL:https://vivalugo.es
X-WR-CALDESC:Eventos para VivaLugo
REFRESH-INTERVAL;VALUE=DURATION:PT1H
X-Robots-Tag:noindex
X-PUBLISHED-TTL:PT1H
BEGIN:VTIMEZONE
TZID:Europe/Madrid
BEGIN:DAYLIGHT
TZOFFSETFROM:+0100
TZOFFSETTO:+0200
TZNAME:CEST
DTSTART:20240331T010000
END:DAYLIGHT
BEGIN:STANDARD
TZOFFSETFROM:+0200
TZOFFSETTO:+0100
TZNAME:CET
DTSTART:20241027T010000
END:STANDARD
BEGIN:DAYLIGHT
TZOFFSETFROM:+0100
TZOFFSETTO:+0200
TZNAME:CEST
DTSTART:20250330T010000
END:DAYLIGHT
BEGIN:STANDARD
TZOFFSETFROM:+0200
TZOFFSETTO:+0100
TZNAME:CET
DTSTART:20251026T010000
END:STANDARD
BEGIN:DAYLIGHT
TZOFFSETFROM:+0100
TZOFFSETTO:+0200
TZNAME:CEST
DTSTART:20260329T010000
END:DAYLIGHT
BEGIN:STANDARD
TZOFFSETFROM:+0200
TZOFFSETTO:+0100
TZNAME:CET
DTSTART:20261025T010000
END:STANDARD
END:VTIMEZONE
BEGIN:VEVENT
DTSTART;TZID=Europe/Madrid:20251202T180000
DTEND;TZID=Europe/Madrid:20251202T180000
DTSTAMP:20260419T175813
CREATED:20251124T163748Z
LAST-MODIFIED:20251124T163748Z
UID:97022-1764698400-1764698400@vivalugo.es
SUMMARY:Conferencia «O corazón romano de Galicia: o pálpito dunha historia que non termina»
DESCRIPTION:Conferencia «O corazón romano de Galicia: o pálpito dunha historia que non termina» \nDo escritor Santiago Posteguillo. \n02 de decembro – 18:00 horas – Edificio Administrativo da Xunta de Galicia en Lugo
URL:https://vivalugo.es/evento/conferencia-o-corazon-romano-de-galicia-o-palpito-dunha-historia-que-non-termina/
LOCATION:Edificio Administrativo Xunta de Galicia en Lugo\, Ronda da Muralla 27\, Lugo
CATEGORIES:Conferencias
END:VEVENT
BEGIN:VEVENT
DTSTART;TZID=Europe/Madrid:20251202T190000
DTEND;TZID=Europe/Madrid:20251202T190000
DTSTAMP:20260419T175813
CREATED:20251201T150816Z
LAST-MODIFIED:20251201T150816Z
UID:97329-1764702000-1764702000@vivalugo.es
SUMMARY:Conferencia sobre intelixencia artificial no aprendizaxe universitario
DESCRIPTION:A UNED de Lugo analiza o impacto da intelixencia artificial no aprendizaxe universitario nunha conferencia aberta ao público \nA UNED de Lugo acollerá o martes\, 2 de decembro de 2025\, de 19:00 a 20:30 horas\, a conferencia “La genIA y tu aprendizaje en la UNED: ¿enemiga o aliada?”\, unha reflexión necesaria sobre o papel da intelixencia artificial xerativa no ensino superior\, especialmente no modelo educativo da UNED. \nA sesión\, que se desenvolverá no Salón de Actos do centro asociado\, estará impartida por Emilio Luque Pulgar\, vicerreitor adxunto de Sostibilidade e Axenda 2030 da UNED e profesor titular de Medio Ambiente e Sociedade. \nA actividade forma parte do ciclo Humanidades a Corta Distancia 2025\, que promove a divulgación humanística cun enfoque accesible e rigoroso. \nAo longo da intervención\, analizaranse as transformacións que a IA xerativa está provocando nos procesos de aprendizaxe e avaliación. \nTamén se abordarán cuestións clave: a percepción de estudantes e profesorado\, os riscos e oportunidades da incorporación destas ferramentas\, o papel da escritura no contexto actual e os escenarios desexables para unha integración ética e responsable da tecnoloxía no ámbito académico. \nA conferencia poderá seguirse presencialmente\, online en directo ou en diferido\, sen necesidade de desprazarse ao centro. A participación é de balde e pode confirmarse a asistencia e obter máis información na seguinte ligazón: https://extension.uned.es/actividad/49097&codigo=MDIDC \nEsta actividade conta coa colaboración do Concello de Lugo e da Deputación de Lugo\, reforzando o compromiso institucional coa reflexión crítica sobre os retos educativos contemporáneos. \nPara máis información\, as persoas interesadas poden contactar coa UNED Lugo a través do correo info@lugo.uned.es ou no teléfono 982 28 02 02.
URL:https://vivalugo.es/evento/conferencia-sobre-intelixencia-artificial-no-aprendizaxe-universitario/
LOCATION:UNED LUGO\, Tolda de Castela Nº4B\, Lugo\, 27169
CATEGORIES:Conferencias
ATTACH;FMTTYPE=image/png:https://vivalugo.es/wp-content/uploads/2025/12/conferencia-intelixencia-artificial.png
END:VEVENT
BEGIN:VEVENT
DTSTART;TZID=Europe/Madrid:20251202T200000
DTEND;TZID=Europe/Madrid:20251202T200000
DTSTAMP:20260419T175813
CREATED:20251201T144026Z
LAST-MODIFIED:20251201T144026Z
UID:97305-1764705600-1764705600@vivalugo.es
SUMMARY:Representación de "Zulo" de Palimoquiños Teatro
DESCRIPTION:Representación de «Zulo» de Palimoquiños Teatro \nMartes 02 de decembro de 2025 – 20:00 horas – Deputación Provincial de Lugo \nCoa dirección e dramaturxia de Paloma Lugilde. Obra gañadora do 1º Premio Xuventude Crea de teatro amador.
URL:https://vivalugo.es/evento/representacion-de-zulo-de-palimoquinos-teatro/
LOCATION:Pazo de San Marcos – Deputación de Lugo\, Rúa San Marcos\, 8\, lugo\, Lugo\, 27001
CATEGORIES:Artes escénicas
END:VEVENT
BEGIN:VEVENT
DTSTART;TZID=Europe/Madrid:20251202T200000
DTEND;TZID=Europe/Madrid:20251202T200000
DTSTAMP:20260419T175813
CREATED:20251201T162914Z
LAST-MODIFIED:20251201T162914Z
UID:97338-1764705600-1764705600@vivalugo.es
SUMMARY:CSA Vagalume - Noite de xogos de mesa
DESCRIPTION:CSA Vagalume – Noite de xogos de mesa \nMartes 2 de decembro de 2025 – 20:00 horas \n 
URL:https://vivalugo.es/evento/csa-vagalume-noite-de-xogos-de-mesa/
LOCATION:Vagalume Centro Socio-Cultural Aberto\, Rúa Nóreas\, Nº5\, Lugo
CATEGORIES:Varios
ATTACH;FMTTYPE=image/jpeg:https://vivalugo.es/wp-content/uploads/2025/12/vagalume-noite-xogos-mesa.jpg
END:VEVENT
END:VCALENDAR