BEGIN:VCALENDAR
VERSION:2.0
PRODID:-//VivaLugo - ECPv6.15.13.1//NONSGML v1.0//EN
CALSCALE:GREGORIAN
METHOD:PUBLISH
X-ORIGINAL-URL:https://vivalugo.es
X-WR-CALDESC:Eventos para VivaLugo
REFRESH-INTERVAL;VALUE=DURATION:PT1H
X-Robots-Tag:noindex
X-PUBLISHED-TTL:PT1H
BEGIN:VTIMEZONE
TZID:Europe/Madrid
BEGIN:DAYLIGHT
TZOFFSETFROM:+0100
TZOFFSETTO:+0200
TZNAME:CEST
DTSTART:20240331T010000
END:DAYLIGHT
BEGIN:STANDARD
TZOFFSETFROM:+0200
TZOFFSETTO:+0100
TZNAME:CET
DTSTART:20241027T010000
END:STANDARD
BEGIN:DAYLIGHT
TZOFFSETFROM:+0100
TZOFFSETTO:+0200
TZNAME:CEST
DTSTART:20250330T010000
END:DAYLIGHT
BEGIN:STANDARD
TZOFFSETFROM:+0200
TZOFFSETTO:+0100
TZNAME:CET
DTSTART:20251026T010000
END:STANDARD
BEGIN:DAYLIGHT
TZOFFSETFROM:+0100
TZOFFSETTO:+0200
TZNAME:CEST
DTSTART:20260329T010000
END:DAYLIGHT
BEGIN:STANDARD
TZOFFSETFROM:+0200
TZOFFSETTO:+0100
TZNAME:CET
DTSTART:20261025T010000
END:STANDARD
END:VTIMEZONE
BEGIN:VEVENT
DTSTART;TZID=Europe/Madrid:20251204T173000
DTEND;TZID=Europe/Madrid:20251204T173000
DTSTAMP:20260419T175953
CREATED:20251128T103316Z
LAST-MODIFIED:20251128T103316Z
UID:97250-1764869400-1764869400@vivalugo.es
SUMMARY:IV Jornadas Justicia y Diversidad
DESCRIPTION:IV Jornadas Justicia y Diversidad \n4 de diciembre de 2025 \nUNED Lugo – Salón de actos – Puedes elegir la asistencia presencial o la asistencia online en directo o en diferido. Gratuito. \n\nPrograma\n\n\njueves\, 4 de diciembre\n\n17:30-18:00 h. Presentación\n\nAna Belén Traseira Pena Directora Centro Asociado UNED Lugo y Profesora – Tutora  en UNED Lugo.\n\n\n18:00-18:40 h. «Protocolos de Actuación Policial y Discapacidad» \n\nRubén Darío Veiga Arias Policía Nacional. Delegado de Participación Ciudadana de la Comisaría de Lugo\n\n\n19:00-19:40 h. «Administración Penitenciaria y Discapacidad»\n\nElvira Fernández Dominguez Jurista de Instituciones Penitenciarias. Subdirectora de Tratamiento del Centro Penitenciario de Monterroso.\n\n\n20:00-20:40 h. «Retos de la Justicia ante la Diversidad Funcional «\n\nSandra Piñeiro Vilas Magistrada. Presidenta de la Audiencia Provincial de Lugo\n\n\n\n\n\n\n\nMás información en UNED Lugo
URL:https://vivalugo.es/evento/iv-jornadas-justicia-y-diversidad/
LOCATION:UNED LUGO\, Tolda de Castela Nº4B\, Lugo\, 27169
CATEGORIES:Conferencias
ATTACH;FMTTYPE=image/jpeg:https://vivalugo.es/wp-content/uploads/2025/11/jornadas-justicia-diversidad.jpg
END:VEVENT
BEGIN:VEVENT
DTSTART;TZID=Europe/Madrid:20251204T180000
DTEND;TZID=Europe/Madrid:20251204T180000
DTSTAMP:20260419T175953
CREATED:20251201T164705Z
LAST-MODIFIED:20251201T164705Z
UID:97348-1764871200-1764871200@vivalugo.es
SUMMARY:Familiar "Ler para crer"
DESCRIPTION:Familiar «Ler para crer» \nJOSHUA KENENTH \n\n\n\n\nXoves\, 4 de decembro de 2025 18:00 hs. \n\n\n\n\n\nLugar: MIHL\, Museo Interactivo da Historia de Lugo \nIdade recomendada: A partir de 4 anos \nSinopse: \nEspectáculo de ilusionismo pensado para as bibliotecas\, no que Joshua Kenneth anima aos nenos e nenas a descubrir a maxia da lectura mediante unha das ferramentas máis potentes: a arte do imposible. \nENTRADA: gratuíta en entradaslugo.es
URL:https://vivalugo.es/evento/familiar-ler-para-crer/
LOCATION:MIHL\, Av Infanta Elena\, s/n\, Lugo
CATEGORIES:Artes escénicas
ATTACH;FMTTYPE=image/jpeg:https://vivalugo.es/wp-content/uploads/2025/10/animacion-lectura-2025-02.jpg
END:VEVENT
BEGIN:VEVENT
DTSTART;TZID=Europe/Madrid:20251204T180000
DTEND;TZID=Europe/Madrid:20251204T180000
DTSTAMP:20260419T175953
CREATED:20251202T181012Z
LAST-MODIFIED:20251202T181012Z
UID:97448-1764871200-1764871200@vivalugo.es
SUMMARY:Atopémonos Bailando "Action Trace"
DESCRIPTION:Atopémonos Bailando «Action Trace» \nde Ana Caetano @ana_caetano \nXoves 4 de DECEMBRO de 2025 \n18:00 horas \nMuseo MIHL\, Lugo \nReserva de entradas no 604002295 \nActividade DE BALDE! \nCoorganizado por Colectivo Glovo e Área de Cultura\, Turismo e Lingua do Concello de Lugo @culturaturismolugo co apoio da #xuntadegalicia a través da #agadic @industriasculturais \n#AtopémonosBailandoDigital é un proxecto de Colectivo Glovo financiado polo INAEM Ministerio de Cultura y Deporte a través dos Fondos Next Generation @culturagob
URL:https://vivalugo.es/evento/atopemonos-bailando-action-trace/
LOCATION:MIHL\, Av Infanta Elena\, s/n\, Lugo
CATEGORIES:Artes escénicas
ATTACH;FMTTYPE=image/jpeg:https://vivalugo.es/wp-content/uploads/2025/12/atopemonos-bailando-action-trace.jpg
END:VEVENT
BEGIN:VEVENT
DTSTART;TZID=Europe/Madrid:20251204T190000
DTEND;TZID=Europe/Madrid:20251204T190000
DTSTAMP:20260419T175953
CREATED:20251201T144202Z
LAST-MODIFIED:20251202T163211Z
UID:97307-1764874800-1764874800@vivalugo.es
SUMMARY:Inauguración da exposición "Tecendo redes: migración\, arte e Lugo"
DESCRIPTION:Inauguración da exposición «Tecendo redes: migración\, arte e Lugo» \nXoves 04 de decembro de 2025 – 19:00 horas – O Vello Cárcere \nComisariada por Ana María Bereciartua Gasperini\, Daniel Vázquez Vila e Encarna Lago Gonzalez. \nArtistas participantes: Adiante (Faller da Ulloa)\, Pedro Cantero\, Alisa Smirnova\, Soila Jankowska\, Juan Pablo Mastroianni\, Hanoi Vidal\, Evelin Ruiz Crego\, Cris Bamio\, Nicolás Ravelli Barreiro e Simón Rodríguez.
URL:https://vivalugo.es/evento/inauguracion-da-exposicion-tecendo-redes-migracion-arte-e-lugo/
LOCATION:O Vello Cárcere\, Av. Alcalde Anxo López Pérez\, 10\, Lugo\, Lugo\, 27002\, Spain
CATEGORIES:Expos
ATTACH;FMTTYPE=image/jpeg:https://vivalugo.es/wp-content/uploads/2025/12/expo-tecendo-redes.jpg
END:VEVENT
BEGIN:VEVENT
DTSTART;TZID=Europe/Madrid:20251204T190000
DTEND;TZID=Europe/Madrid:20251204T190000
DTSTAMP:20260419T175953
CREATED:20251202T163850Z
LAST-MODIFIED:20251202T163850Z
UID:97432-1764874800-1764874800@vivalugo.es
SUMMARY:Festa cos Bolechas para acender o Nadal
DESCRIPTION:Festa cos Bolechas para acender o Nadal \nA Deputación de Lugo prepara unha festa cos Bolechas para acender o Nadal en San Marcos este xoves\, 4 de decembro. O acto\, gratuíto e aberto ao público\, comezará ás 19:00 horas coa presentación do último libro dos protagonistas da serie infantil galega «Unha viaxe por Lugo. Unha provincia natural» e continuará cun repertorio de panxoliñas interpretadas polo Orfeón Lucense. \nMarta decide celebrar unha festa normanda en Lugo polo seu aniversario e convida aos\nBolechas a percorrer os lugares naturais máis senlleiros da provincia. Así comeza a historia\nque se presentará no Salón de Actos do Pazo de San Marcos ás 19:00 horas. Estarán\npresentes algúns dos protagonistas que integran a panda de Braulio\, Carlos\, Sonia e Pili\, que interactuarán cos nenos e nenas presentes. \nÁs 19:30 comezarán a soar as panxoliñas na Praza de San Marcos\, interpretadas polo coro\nmusical Orfeón lucense. Despois\, está previsto que o Presidente da Deputación\, José Tomé\nRoca\, acenda xunto aos Bolechas o alumeado de Nadal exterior e interior do edificio histórico. \nAta as 20:30 horas\, a coral seguirá coas nadaliñas\, amenizando a aquelas persoas que estean pola praza.
URL:https://vivalugo.es/evento/festa-cos-bolechas-para-acender-o-nadal/
LOCATION:Pazo de San Marcos – Deputación de Lugo\, Rúa San Marcos\, 8\, lugo\, Lugo\, 27001
END:VEVENT
BEGIN:VEVENT
DTSTART;TZID=Europe/Madrid:20251204T190000
DTEND;TZID=Europe/Madrid:20251204T190000
DTSTAMP:20260419T175953
CREATED:20251202T164405Z
LAST-MODIFIED:20251202T164405Z
UID:97436-1764874800-1764874800@vivalugo.es
SUMMARY:A lucense Marisa Castro presenta o seu último libro en Lugo
DESCRIPTION:O próximo xoves\, 4 de decembro ás 19:00\, a escritora Marisa Castro estará no centro sociocultural Vello Cárcere de Lugo para presentar a súa novela Soño de liberdade. \nTrátase da segunda obra de ficción da investigadora e divulgadora\, tras o éxito de A saga das curandeiras\, publicada en 2022 e que xa conta con varias reimpresións. \nPublicada en galego e castelán\, tamén da man da editorial coruñesa Hércules de Ediciones\, a obra relátanos a vida dunha hipotética muller\, nada no rural galego\, Sabela Couto Roriz (1949). \nA novela é un percorrido pola súa vida\, desde o seu nacemento na época das cartillas de\nracionamento ata a chegada da democracia\, xa na súa mocidade. \nNarra a batalla que a protagonista tivo que manter para saír do círculo de submisión no que\nvivían a súa nai e mais a súa avoga\, batalla que gañou mediante o estudo e a rebeldía e que a levaron a poder traballar fóra do fogar\, a casar coa persoa que amaba e a ser independente. \nEste itinerario de vida serve para ofrecer unha panorámica sobre os labores agrícolas e\ngandeiros nos que Sabela se viu obrigada a participar sendo nena e adolescente\, sobre a\nautoridade paterna\, a precariedade da vida dunha nena do rural na cidade\, as diferenzas de clases sociais\, o papel da muller ou as dificultades para vivir un primeiro amor\, sempre baixo o xugo da mirada paterna e do que dirán. \nBiografía de Marisa Castro:\nMarisa Castro Cerceda naceu labradora na casa de Segade do Barrio da Ponte (Lugo) en\n1955. Casada e nai adoptante. Licenciada e Doutorada em Ciencias Biolóxicas pola\nUniversidade de Santiago de Compostela (homologada pola de Porto). \nXubilada como Profesora Titular\, que exerceu durante 31 anos na Universidade de Vigo\, área de Botánica. \nDesde 1978\, investigadora en Micoloxía: taxonomía\, ecoloxía\, catalogación de cogomelos\,\naplicacións forestais e agrícolas\, etnobotánica e etnomicoloxía (Premio de Investigación\nMicolóxica Galega (1983). \nPublicación de numerosos traballos de investigación\, participación en numerosos congresos e descrición de media ducia de especies novas para a ciencia. Premio Bióloga do Ano en Galicia\, 2022 e dos Colexios Profesionais en 2023. \nDesde 1980\, divulgadora científica en portugués\, castelán e galego (Premio Lois Peña Novo\, 2022 como defensora do galego na ciencia). \nEcoloxista\, feminista e novelista (A Saga das Curandeiras\, 2022 e Soño de Liberdade\, 2025).
URL:https://vivalugo.es/evento/a-lucense-marisa-castro-presenta-o-seu-ultimo-libro-en-lugo/
LOCATION:O Vello Cárcere\, Av. Alcalde Anxo López Pérez\, 10\, Lugo\, Lugo\, 27002\, Spain
CATEGORIES:Presentaciones
END:VEVENT
BEGIN:VEVENT
DTSTART;TZID=Europe/Madrid:20251204T200000
DTEND;TZID=Europe/Madrid:20251204T200000
DTSTAMP:20260419T175953
CREATED:20251202T162333Z
LAST-MODIFIED:20251202T162747Z
UID:97424-1764878400-1764878400@vivalugo.es
SUMMARY:Premios Muralleando 2025 - Premios da Música Lucense
DESCRIPTION:Premios Muralleando 2025 – Premios da Música Lucense \nXoves 4 de decembro ás 20:00 horas no Auditorio Fuxan os Ventos. \nEntrada libre e gratuíta. \nPremios: Mellor Banda de Versións\, Mellor Canción Orixinal\, Mellor Disco\, Mellor Directo\, Mellor Solista\, Grupo Revelación e Mellor Grupo do Muralleando 2025\, entre outros. \nA gala incluirá\, ademais\, a entrega do Premio Honorífico da Música en Lugo\, un recoñecemento destinado a distinguir unha traxectoria exemplar e un compromiso sostido coa cultura da cidade. \nCon actuación do grupo Zarandela. \nPromove a Tenencia de Alcaldía do Concello de Lugo coa colaboración do xornal El Progreso.
URL:https://vivalugo.es/evento/premios-muralleando-2025-premios-da-musica-lucense/
LOCATION:Auditorio Municipal Fuxan os Ventos\, Rúa Madanela\, LUGO\, Lugo\, 27002\, Spain
CATEGORIES:Artes escénicas
ATTACH;FMTTYPE=image/jpeg:https://vivalugo.es/wp-content/uploads/2025/12/premios-muralleando-2025.jpg
END:VEVENT
BEGIN:VEVENT
DTSTART;TZID=Europe/Madrid:20251204T203000
DTEND;TZID=Europe/Madrid:20251204T203000
DTSTAMP:20260419T175953
CREATED:20251201T165351Z
LAST-MODIFIED:20251201T182527Z
UID:97350-1764880200-1764880200@vivalugo.es
SUMMARY:Teatro "Nas Nubes"
DESCRIPTION:Teatro «Nas Nubes»\nRedrum Teatro \n\n\n\nXoves\, 4 de decembro de 2025 – 20:30 hs. \n\n\n\n\nLugar: Auditorio Municipal Gustavo Freire\nCategoría: Teatro Adultas\nIdade recomendada: A partir dos 14 anos \nSinopse: Nun futuro non tan afastado\, a tecnoloxía trasformouno todo… Incluso a forma en que lembramos o pasado. \nEn Nas Nubes\, Nexus e Rino guían a visitantes por un museo que exhibe estrañas reliquias da era predixital. \nO que comeza como unha sátira sobre o noso presente\, pronto se converte nunha inquietante reflexión cando as bolboretas que emerxen dun bonsai comezan a lembrar que foron algo máis… Seres humanos? Monicreques? \nEntre risos\, surrealismo\, números circenses e xogos de improvisación\, este espectáculo lánzanos unha pregunta profunda: Que é real cando a propia lembranza desvanécese nas nubes? \nUnha peza de teatro provocadora que nos enfronta ao impacto da tecnoloxía\, á fraxilidade da identidade e á delgada liña entre o que somos e o que soñamos ser. \nENTRADAS\nAdquisición de entradas a través do portal web entradaslugo.es e na Oficina de Turismo ata 3 horas antes do comezo de cada función; e no auditorio\, o día da función\, desde unha hora e media antes do comezo do espectáculo.
URL:https://vivalugo.es/evento/teatro-nas-nubes/
LOCATION:​Auditorio Municipal Gustavo Freire\, Parque da Milagrosa\, Avda. da Coruña\, s/n\, Lugo\, Lugo\, 27003\, Spain
CATEGORIES:Artes escénicas
ATTACH;FMTTYPE=image/jpeg:https://vivalugo.es/wp-content/uploads/2025/10/programacion-gustavo-freire-adultos-9.jpg
END:VEVENT
BEGIN:VEVENT
DTSTART;TZID=Europe/Madrid:20251204T203000
DTEND;TZID=Europe/Madrid:20251206T203000
DTSTAMP:20260419T175953
CREATED:20251128T101608Z
LAST-MODIFIED:20251202T161949Z
UID:97238-1764880200-1765053000@vivalugo.es
SUMMARY:Microefectos Dramatúrxicos Decembro 2025 (tamén ás 22:30)
DESCRIPTION:Microefectos Dramatúrxicos Decembro 2025 \nXoves 4\, venres 5 e sábado 6 de decembro. Ás 20:30 e ás 22:30. Club Clavicémbalo de Lugo \nO grupo\, que cumpriu doce anos de existencia o pasado mes de maio\, pon en escena pezas teatrais duns vinte minutos de duración nas que contan historias da vida para rir ou chorar\, cunha escrita directa e actual\, que cada tres meses practicamente completa o aforo do Clavi. \nPezas: \n– Goodbye Salazar Escribe e dirixe Anxo Manoel. Interpretan: Isa Herrero\, Brais García e Anxo Manoel \n– Do descanso: dó de peito Escribe e dirixe María Grandío. Interpretan: María Grandío\, Raquel López Cendán\, Elvira Velasco e Brian Rodríguez. \n– Disfunción pública Escribe e dirixe Pepe Saavedra. Interpretan: Elvira Velasco\, María Grandío\, Brian Rodríguez e Raquel López Cendán. \n– Con boa estrela Escribe e dirixe Elvira Velasco. Interpretan: María Grandío\, Isa Herrero e Elvira Velasco. \nPoderanse mercar entradas a través da plataforma dixital Woutick no seguinte enlace: https://woutick.com/es/entradas/microefectos-dramaturxicos-decembro-2025  \nTamén haberá entradas dispoñíbeis na billeteira en cada un dos pases. \nInstagram: https://www.instagram.com/microefectos/\nFacebook: https://www.facebook.com/microefectos\nCanle de YouTube: https://www.youtube.com/@Microefectos/featured
URL:https://vivalugo.es/evento/microefectos-dramaturxicos-decembro-2025-tamen-as-2230/
LOCATION:Club Clavicémbalo\, Rúa dos Paxariños\, 23\, Lugo\, Lugo\, 27002\, Spain
CATEGORIES:Artes escénicas
ATTACH;FMTTYPE=image/jpeg:https://vivalugo.es/wp-content/uploads/2025/11/microefectos-dramaturxicos-decembro-2025.jpg
END:VEVENT
END:VCALENDAR