BEGIN:VCALENDAR
VERSION:2.0
PRODID:-//VivaLugo - ECPv6.15.13.1//NONSGML v1.0//EN
CALSCALE:GREGORIAN
METHOD:PUBLISH
X-WR-CALNAME:VivaLugo
X-ORIGINAL-URL:https://vivalugo.es
X-WR-CALDESC:Eventos para VivaLugo
REFRESH-INTERVAL;VALUE=DURATION:PT1H
X-Robots-Tag:noindex
X-PUBLISHED-TTL:PT1H
BEGIN:VTIMEZONE
TZID:Europe/Madrid
BEGIN:DAYLIGHT
TZOFFSETFROM:+0100
TZOFFSETTO:+0200
TZNAME:CEST
DTSTART:20240331T010000
END:DAYLIGHT
BEGIN:STANDARD
TZOFFSETFROM:+0200
TZOFFSETTO:+0100
TZNAME:CET
DTSTART:20241027T010000
END:STANDARD
BEGIN:DAYLIGHT
TZOFFSETFROM:+0100
TZOFFSETTO:+0200
TZNAME:CEST
DTSTART:20250330T010000
END:DAYLIGHT
BEGIN:STANDARD
TZOFFSETFROM:+0200
TZOFFSETTO:+0100
TZNAME:CET
DTSTART:20251026T010000
END:STANDARD
BEGIN:DAYLIGHT
TZOFFSETFROM:+0100
TZOFFSETTO:+0200
TZNAME:CEST
DTSTART:20260329T010000
END:DAYLIGHT
BEGIN:STANDARD
TZOFFSETFROM:+0200
TZOFFSETTO:+0100
TZNAME:CET
DTSTART:20261025T010000
END:STANDARD
BEGIN:DAYLIGHT
TZOFFSETFROM:+0100
TZOFFSETTO:+0200
TZNAME:CEST
DTSTART:20270328T010000
END:DAYLIGHT
BEGIN:STANDARD
TZOFFSETFROM:+0200
TZOFFSETTO:+0100
TZNAME:CET
DTSTART:20271031T010000
END:STANDARD
END:VTIMEZONE
BEGIN:VEVENT
DTSTART;VALUE=DATE:20251205
DTEND;VALUE=DATE:20251220
DTSTAMP:20260419T175830
CREATED:20251204T123040Z
LAST-MODIFIED:20251215T152720Z
UID:97494-1764892800-1766188799@vivalugo.es
SUMMARY:SECAL 2025
DESCRIPTION:SECAL 2025 \nSemana de Exaltación de la Cultura y el Arte de Lugo (SECAL) \nTendrá lugar entre los días 5y 14 de diciembre de 2025 y está organizada por la Asociación de Empresarios Lugo Monumental \nExposciones de artistas en espacios situados dentro del recinto amurallado de Lugo: \nAunque hay obras que son sólo expositivas\, la mayor parte estarán a la venta\, gestionando la operación directamente los autores sin intervención de la Asociación ni de los locales. \nPeña Romay – Expone en mestura\, Progreso\, 13 \nYuste – Expone en San Marcos Café\, San Marcos\, 01 \nMacía – Expone en El Duendecillo\, Rúanova\, 38 \nXoan Vila – Expone en Hotel Monumento Pazo de Orbán\, Travesía do Miño\, 06 \nMateo Cabo Iglesias – Expone en Mezcla\, San Pedro\, 33 \nHelena Ayape – Expone en Farmacia da Cruz\, Conde Pallares\, 06 \nPaula Salinas – Expone en El Portón\, Falcón\, 5 \nBea Landeira – Expone en Lencería Lis\, Doctor Castro\, 24 \nNoelia Fernández Arrojo – Expone en Farmacia La Salud\, Teatro\, 01 \nBarri – Expone en Diki Diki\, Rúanova\, 51 \nMaría G Morado – Expone en Lucía Devesa Clínica Podológica\, Montevideo\, 14 \nEsther Lopez Alvarez – Expone en Confecciones García\, San Pedro\, 58 \nRamón Fernández Campos – Expone en Farmacia Central\, San Pedro\, 2 \nEsteban Fernández López – Expone en TOTEM\, Galerías Villamor (Sto Domingo) \nIria Pigueiras – Expone en CEPECE\, San Pedro\, 64 \nPablo – Expone en Kblex\, Reina\, 16 \nRaquel Amo Cordero – Expone en La Postrería de Noe\, Campo Castillo\, 13 \nOniel Rodríguez López – Expone en Firi\, Armañá\, 20
URL:https://vivalugo.es/evento/secal-2025/
LOCATION:Lugo
CATEGORIES:Expos
ATTACH;FMTTYPE=image/jpeg:https://vivalugo.es/wp-content/uploads/2025/12/secal-2025.jpg
END:VEVENT
BEGIN:VEVENT
DTSTART;VALUE=DATE:20251205
DTEND;VALUE=DATE:20260106
DTSTAMP:20260419T175830
CREATED:20251204T123732Z
LAST-MODIFIED:20251204T123943Z
UID:97497-1764892800-1767657599@vivalugo.es
SUMMARY:Mercado de Nadal “Nadalmente Lucense” 2025
DESCRIPTION:Mercado de Nadal “Nadalmente Lucense” 2025\nNa Praza Maior de Lugo entre o 5 de decembro e o 5 de xaneiro. O mercado\, que funcionará en horario de mañá e tarde -agás os días 24 e 31\, cando abrirá só pola mañá\, e os días 25 e 1\, que permanecerá pechado- contará cunha ampla programación de actividades: \nINAUGURACIÓN MERCADO DE NADAL “NADALMENTE LUCENSE”\n5 de Diciembre 2025. Praza Maior \n17:00 a 21:00h Recepción del Señor y la Señora Claus\n17:30 a 20:30h Navidad a todo ritmo (peque disco)\n18:00 h: Gran chocolatada (hasta fin de existencias)\n19:00 h: Historias de Laponia con la Señora Claus. \nO FOGAR DO SANTA (Recepción Sr y Sra Claus)\nHorario: 11:00 a 14:30 y de 16:30 a 21:00h Día 24D solo en horario de mañana \n– Recepción del Señor Claus: 6 – 7 – 8 – 13 – 15 – 20 – 22- 23 – 24 Diciembre 2025 \n– Recepción de la Sra Claus: 6 – 14 – 21- 23 Diciembre 2025 \nOASIS DE BEN ALÍ\nHorario: 11:00 a 14:30 y de 16:30 a 21:00h Día 5E solo en horario de mañana \n– Recepción Emisario Real: 2-3-4-5 de Enero 2026 \nA PEQUENA FÁBRICA DE OBRADOIROS DE NADAL\nFechas: 6-7-8-13-21-23-27-28-29-30-31de Diciembre de 2025 y 3- 5 enero 2026 \nHorario: 16:30 a 18:30h \nEl día 31 de Diciembre en horario de 11:00 a 12:30h \nA PEQUENA FÁBRICA DE XOGOS\nFechas: 6-7-8-14-20-22-23-27-28-29-30 de Diciembre de 2025 y 4 de Enero de\n2026 \nEn horario de 19:00 a 21:00h \nEl día 31 de Diciembre en horario de 13:00 a 14:30h \nSEGUINDO ÁS ESTRELAS\n– A MAXIA DE NADAL con el mago Roberto Lolo \nFechas: 6-13 y 27 de Diciembre\nHorario: 18:00 a 20:00h\nPases cada 20 min. \n– ELFILANDIA (Contacontos) \nFecha: 22 de Diciembre de 2025\nHorario: 17:00 a 20:00h\nPases: Cada 30 mim \n– LA SEÑORA CLAUS Y LOS ABRAZOS DE NIEVE \nFecha: 23 de Diciembre de 2025\nHorario: 19:00 a 20:30h\nPases cada 30 min. \n– TRAVESURAS DE REYES (Contacontos)\nFecha: 2 de Enero de 2026 Horario: 17:00 a 20:00h\nPases: Cada 30 mim \nDEGUSTACIÓN DE CHOCOLATE\nFechas: Sábado 13 – 20 – 27 de Diciembre de 2025 y 3 de Enero de 2026\nHorario: 18:00h\nHasta fin de existencias \nEXHIBICIONES\nMAGIE DANCE: 14de Diciembre de 2025 – 17:00h\nVICTORIA GIL: 20 de Diciembre de 2025 – 12:30h\nGRAVITTY: 21 de Diciembre de 2025 – 16:30h\nESCUELA GUITARRA CIRCULO DE LAS ARTES: 23 Diciembre de 2025 – 13:30h\nSTART DANCE: 23 de Diciembre de 2025 – 16:30h\nRITMO LUGO: 3 de Enero de 2026 -17:00h.
URL:https://vivalugo.es/evento/mercado-de-nadal-nadalmente-lucense-2025/
LOCATION:Lugo
ATTACH;FMTTYPE=image/jpeg:https://vivalugo.es/wp-content/uploads/2025/12/mercado-nadalmente-lucense-2025.jpg
END:VEVENT
BEGIN:VEVENT
DTSTART;TZID=Europe/Madrid:20251205T163000
DTEND;TZID=Europe/Madrid:20260104T203000
DTSTAMP:20260419T175830
CREATED:20251202T185207Z
LAST-MODIFIED:20251202T185207Z
UID:97472-1764952200-1767558600@vivalugo.es
SUMMARY:Xuvenlugo 2025
DESCRIPTION:Xuvenlugo 2025\nAtraccións\, xogos\, inchables\, talleres\, sorteos… \n\n\nDatas e Horarios:\n\nDo 5 ao 8 de decembro 2025\nDo 12 ao 14 de decembro 2025\nDo 19 ao 23 de decembro 2025\nDo 26 ao 30 de decembro 2025\nDo 1 ao 4 de xaneiro h. 2026\n\n\n\nDe 16:30 a 20:30 horas\nDías sen Ruído:\n\n6\, 21\, 26\, 29 de decembro 2025 e 1 e 4 de xaneiro 2026\n\nDurante estas xornadas\, dende as 18:30 ata as 20:30\, reducirase o volume da música e controlarase a sonoridade do recinto para que os nenos e nenas con TEA\, hipersensibilidade sensorial ou calquera outra condición poidan participar de xeito activo.\n\n\n\n\nDatas Especiais:\n\nVisita de Papá Noel: 23 de decembro\n\nVisita da Paxe Real: 4 de xaneiro\n\nLugar: Pazo de Feiras e Congresos de Lugo.\nEntradas e TODA A INFORMACIÓN: na web oficial de Xuvenlugo https://xuvenlugo.com
URL:https://vivalugo.es/evento/xuvenlugo-2025/
LOCATION:Pazo de Feiras e Congresos\, Lugo\, Spain
CATEGORIES:Varios
ATTACH;FMTTYPE=image/jpeg:https://vivalugo.es/wp-content/uploads/2025/12/xuvenlugo-2025.jpg
END:VEVENT
BEGIN:VEVENT
DTSTART;VALUE=DATE:20251209
DTEND;VALUE=DATE:20251212
DTSTAMP:20260419T175830
CREATED:20251209T104926Z
LAST-MODIFIED:20251209T104926Z
UID:97565-1765238400-1765497599@vivalugo.es
SUMMARY:Feira Diversiarte 2025
DESCRIPTION:A planta baixa da praza de Abastos acolle do 9 ao 11 a feira Diversiarte\, coa participación de vinte asociacións de Lugo \nAdemais de coñecer o labor que fan estes colectivos a prol da integración\, o programa contará con obradoiros\, concertos\, xincanas\, chocolatadas familiares e contacontos. \nA inauguración será o martes 09/12\, ás 19.00 horas\, co concerto de Adrián Vigo e David Taboada. \nO mércores e xoves abrirá de 11.00 a 14.00 e de 17.00 a 20.00 horas. \nO mércores\, a partir das 11.00 da mañá haberás dúas xincanas da accesibilidade con Auxilia e Once\, e as actividades da mañá rematarán cun obradoiro de chapas de Alucem. \nPola tarde haberá varias actividades para persoalizar bolas de nadal\, a cargo de Raiolas; cestería\, con Aspalu; obradoiro de de chapas\, con Down Lugo\, e de elaboración de xabóns\, organizado por San Vicente de Paul. \nO xoves\, a xornada comezará cunha nova xincana\, obradoiro de cerámica\, a cargo de Aspnais\, e cunha actividades sobre valoración cognitiva\, organizada por Afalu. \nXa pola tarde\, haberá torneo de boccia\, a cargo de varios colectivos; unha nova actividade para decorar bolas de Nadal\, dirixida por Raiolas; chocolatada familiar organizada polo Concello de Lugo\, e un obradoiro de relaxación a cargo de Alume. \nA feira se clausurará ás 19.30 horas coa actuación do Orfeón Lucense. \nAs asociacións que participan en este evento son: Dano Cerebral Lugo\, Aspalu\, Cogami\, Alume\, Fademga\, Auxilia Lugo\, Asfega\, Alucem\, Aspace Lugo\, AECC en Lugo\, Alufi\, San Vicente de Paúl\, Aspnais\, Afalu\, Alcer Lugo\, Capaces Lugo\, Raiolas\, Down Lugo\, Once y Asorlu
URL:https://vivalugo.es/evento/feira-diversiarte-2025/
LOCATION:Lugo
CATEGORIES:Varios
ATTACH;FMTTYPE=image/jpeg:https://vivalugo.es/wp-content/uploads/2025/12/diversiarte-2025.jpg
END:VEVENT
BEGIN:VEVENT
DTSTART;VALUE=DATE:20251209
DTEND;VALUE=DATE:20251213
DTSTAMP:20260419T175830
CREATED:20251209T105437Z
LAST-MODIFIED:20251209T105437Z
UID:97571-1765238400-1765583999@vivalugo.es
SUMMARY:Visitas guiadas SECAL 2025
DESCRIPTION:El martes 9 a las 17:30: a la Catedral\, de la mano de Marcos Calles\, director del Museo Diocesano\, que hablará de los arquitectos que intervinieron en este magnífico edificio. \nMiércoles\, jueves y viernes a las 19:00 podremos saber más sobre personas retratadas en el Museo Provincial de Lugo con Simón Vicente López. Las tres visitas al museo son diferentes así que os podéis anotar a todas. \nLa duración de las visitas es de aproximadamente una hora\, son gratuitas y para anotaros solamente tenéis que cubrir un sencillo formulario que podéis encontrar en este enlace: \nhttps://forms.gle/875T8S1NSABFcXvS6
URL:https://vivalugo.es/evento/visitas-guiadas-secal-2025/
LOCATION:Lugo
CATEGORIES:Varios
ATTACH;FMTTYPE=image/jpeg:https://vivalugo.es/wp-content/uploads/2025/12/visitas-guiadas-secal-2025.jpg
END:VEVENT
BEGIN:VEVENT
DTSTART;TZID=Europe/Madrid:20251210T180000
DTEND;TZID=Europe/Madrid:20251210T180000
DTSTAMP:20260419T175830
CREATED:20251209T145531Z
LAST-MODIFIED:20251209T145831Z
UID:97604-1765389600-1765389600@vivalugo.es
SUMMARY:Obradoiro de creación literaria
DESCRIPTION:– A cargo de Carmen Conde\, Larraitz Urruzola e Avelino González. \n– Terá 4 sesións de 2 horas cada unha. \n– Hai un total de 20 prazas por sesión para persoas maiores de 18 anos. A inscrición\, gratuíta\, farase mediante o envío dun correo electrónico a oficina@aelg.org indicando o nome\, apelidos e o nome do obradoiro. \n– O obradoiro desenvolverase no Centro Cultural Vello Cárcere (Praza da Constitución\, s/n\, 27002)\, en Lugo durante o mes de decembro de 2025. \nCalendario \n– Mércores 10 de decembro de 2025\, de 18:00 a 20:00 h. con Carmen Conde \n– Venres 12 de decembro de 2025\, de 18:00 a 20:00 h. con Carmen Conde \n\n– Mércores 17 de decembro de 2025\, de 18:00 a 20:00 h. con Larraitz Urruzola \n– Xoves 18 de decembro de 2025\, de 18:00 a 20:00 h. con Avelino González
URL:https://vivalugo.es/evento/obradoiro-de-creacion-literaria/
LOCATION:O Vello Cárcere\, Av. Alcalde Anxo López Pérez\, 10\, Lugo\, Lugo\, 27002\, Spain
CATEGORIES:Cursos
ATTACH;FMTTYPE=image/jpeg:https://vivalugo.es/wp-content/uploads/2025/12/obradoiro-creacion-literaria.jpg
END:VEVENT
BEGIN:VEVENT
DTSTART;TZID=Europe/Madrid:20251210T183000
DTEND;TZID=Europe/Madrid:20251210T183000
DTSTAMP:20260419T175830
CREATED:20251202T183159Z
LAST-MODIFIED:20251210T110659Z
UID:97466-1765391400-1765391400@vivalugo.es
SUMMARY:Presentación do libro «Insubmisión ambigua»
DESCRIPTION:Presentación do libro «Insubmisión ambigua» \nMércores 10 de decembro de 2025 – 18:30 horas – A Hedreira\, centro social. \nPrograma de A Hedreira Lugo – Decembro 2025
URL:https://vivalugo.es/evento/presentacion-do-libro-insubmision-ambigua/
LOCATION:A Hedreira\, Rua Catasol\, 17\, Lugo\, 27002
CATEGORIES:Presentaciones
ATTACH;FMTTYPE=image/jpeg:https://vivalugo.es/wp-content/uploads/2025/12/presentacion-libro-insubmision-ambigua.jpg
END:VEVENT
BEGIN:VEVENT
DTSTART;TZID=Europe/Madrid:20251210T193000
DTEND;TZID=Europe/Madrid:20251210T193000
DTSTAMP:20260419T175830
CREATED:20251210T105723Z
LAST-MODIFIED:20251210T105723Z
UID:97711-1765395000-1765395000@vivalugo.es
SUMMARY:Presentación de "Sempre en Galiza. Escolma" - Castelao
DESCRIPTION:Presentación de «Sempre en Galiza. Escolma» – Castelao \n\npor Henrique Monteagudo\n\n\nMércores 10 decembro de 2025 – 19:30 horas\n\n\nSalón de Actos do Pazo de San Marcos\n\nPresentación desta publicación\, editada por Galaxia coa colaboración da @vicedepulugo\, pensada para achegar a obra central do pensamento de Castelao ao público xeral\n\n\n\nA presentación contará coa presenza de Henrique Monteagudo e do director de Galaxia\, Xose M. Soutullo\n\n\nAs persoas asistentes recibirán como agasallo un exemplar da publicación.
URL:https://vivalugo.es/evento/presentacion-de-sempre-en-galiza-escolma-castelao/
LOCATION:Pazo de San Marcos – Deputación de Lugo\, Rúa San Marcos\, 8\, lugo\, Lugo\, 27001
CATEGORIES:Presentaciones
ATTACH;FMTTYPE=image/jpeg:https://vivalugo.es/wp-content/uploads/2025/12/presentacion-sempre-en-galiza.jpg
END:VEVENT
BEGIN:VEVENT
DTSTART;TZID=Europe/Madrid:20251210T200000
DTEND;TZID=Europe/Madrid:20251210T200000
DTSTAMP:20260419T175830
CREATED:20251205T091740Z
LAST-MODIFIED:20251205T091740Z
UID:97538-1765396800-1765396800@vivalugo.es
SUMMARY:Presentación do libro "El alma del tango"
DESCRIPTION:Presentación do libro «El alma del tango» \nMércores 10 de decembro de 2025 \n20:00 horas O Vello Cárcere de Lugo \nInterveñen na presentación Elisa Vázquez de Gey\, Pepe Coira e Manuel J. Platero. \nCoa actuación de Jorgelina Mariela Cardarópoli de Luce e Alejandro Szabo
URL:https://vivalugo.es/evento/presentacion-do-libro-el-alma-del-tango/
LOCATION:O Vello Cárcere\, Av. Alcalde Anxo López Pérez\, 10\, Lugo\, Lugo\, 27002\, Spain
CATEGORIES:Presentaciones
ATTACH;FMTTYPE=image/jpeg:https://vivalugo.es/wp-content/uploads/2025/12/presentacion-libro-alma-tango.jpg
END:VEVENT
BEGIN:VEVENT
DTSTART;TZID=Europe/Madrid:20251210T213000
DTEND;TZID=Europe/Madrid:20251210T213000
DTSTAMP:20260419T175830
CREATED:20251209T173351Z
LAST-MODIFIED:20251209T173351Z
UID:97660-1765402200-1765402200@vivalugo.es
SUMMARY:Festival de combos
DESCRIPTION:Festival de combos \nMércores 10 de decembro de 2025 \n21:30 horas \nClub Clavicémbalo de Lugo \nOrganiza: Fábrica de Sons \nEntrada libre.
URL:https://vivalugo.es/evento/festival-de-combos/
LOCATION:Club Clavicémbalo\, Rúa dos Paxariños\, 23\, Lugo\, Lugo\, 27002\, Spain
CATEGORIES:Conciertos
ATTACH;FMTTYPE=image/jpeg:https://vivalugo.es/wp-content/uploads/2025/12/club-clavicembalo-decembro-2025.jpg
END:VEVENT
END:VCALENDAR