BEGIN:VCALENDAR
VERSION:2.0
PRODID:-//VivaLugo - ECPv6.15.13.1//NONSGML v1.0//EN
CALSCALE:GREGORIAN
METHOD:PUBLISH
X-ORIGINAL-URL:https://vivalugo.es
X-WR-CALDESC:Eventos para VivaLugo
REFRESH-INTERVAL;VALUE=DURATION:PT1H
X-Robots-Tag:noindex
X-PUBLISHED-TTL:PT1H
BEGIN:VTIMEZONE
TZID:Europe/Madrid
BEGIN:DAYLIGHT
TZOFFSETFROM:+0100
TZOFFSETTO:+0200
TZNAME:CEST
DTSTART:20240331T010000
END:DAYLIGHT
BEGIN:STANDARD
TZOFFSETFROM:+0200
TZOFFSETTO:+0100
TZNAME:CET
DTSTART:20241027T010000
END:STANDARD
BEGIN:DAYLIGHT
TZOFFSETFROM:+0100
TZOFFSETTO:+0200
TZNAME:CEST
DTSTART:20250330T010000
END:DAYLIGHT
BEGIN:STANDARD
TZOFFSETFROM:+0200
TZOFFSETTO:+0100
TZNAME:CET
DTSTART:20251026T010000
END:STANDARD
BEGIN:DAYLIGHT
TZOFFSETFROM:+0100
TZOFFSETTO:+0200
TZNAME:CEST
DTSTART:20260329T010000
END:DAYLIGHT
BEGIN:STANDARD
TZOFFSETFROM:+0200
TZOFFSETTO:+0100
TZNAME:CET
DTSTART:20261025T010000
END:STANDARD
BEGIN:DAYLIGHT
TZOFFSETFROM:+0100
TZOFFSETTO:+0200
TZNAME:CEST
DTSTART:20270328T010000
END:DAYLIGHT
BEGIN:STANDARD
TZOFFSETFROM:+0200
TZOFFSETTO:+0100
TZNAME:CET
DTSTART:20271031T010000
END:STANDARD
END:VTIMEZONE
BEGIN:VEVENT
DTSTART;VALUE=DATE:20251205
DTEND;VALUE=DATE:20251220
DTSTAMP:20260419T180101
CREATED:20251204T123040Z
LAST-MODIFIED:20251215T152720Z
UID:97494-1764892800-1766188799@vivalugo.es
SUMMARY:SECAL 2025
DESCRIPTION:SECAL 2025 \nSemana de Exaltación de la Cultura y el Arte de Lugo (SECAL) \nTendrá lugar entre los días 5y 14 de diciembre de 2025 y está organizada por la Asociación de Empresarios Lugo Monumental \nExposciones de artistas en espacios situados dentro del recinto amurallado de Lugo: \nAunque hay obras que son sólo expositivas\, la mayor parte estarán a la venta\, gestionando la operación directamente los autores sin intervención de la Asociación ni de los locales. \nPeña Romay – Expone en mestura\, Progreso\, 13 \nYuste – Expone en San Marcos Café\, San Marcos\, 01 \nMacía – Expone en El Duendecillo\, Rúanova\, 38 \nXoan Vila – Expone en Hotel Monumento Pazo de Orbán\, Travesía do Miño\, 06 \nMateo Cabo Iglesias – Expone en Mezcla\, San Pedro\, 33 \nHelena Ayape – Expone en Farmacia da Cruz\, Conde Pallares\, 06 \nPaula Salinas – Expone en El Portón\, Falcón\, 5 \nBea Landeira – Expone en Lencería Lis\, Doctor Castro\, 24 \nNoelia Fernández Arrojo – Expone en Farmacia La Salud\, Teatro\, 01 \nBarri – Expone en Diki Diki\, Rúanova\, 51 \nMaría G Morado – Expone en Lucía Devesa Clínica Podológica\, Montevideo\, 14 \nEsther Lopez Alvarez – Expone en Confecciones García\, San Pedro\, 58 \nRamón Fernández Campos – Expone en Farmacia Central\, San Pedro\, 2 \nEsteban Fernández López – Expone en TOTEM\, Galerías Villamor (Sto Domingo) \nIria Pigueiras – Expone en CEPECE\, San Pedro\, 64 \nPablo – Expone en Kblex\, Reina\, 16 \nRaquel Amo Cordero – Expone en La Postrería de Noe\, Campo Castillo\, 13 \nOniel Rodríguez López – Expone en Firi\, Armañá\, 20
URL:https://vivalugo.es/evento/secal-2025/
LOCATION:Lugo
CATEGORIES:Expos
ATTACH;FMTTYPE=image/jpeg:https://vivalugo.es/wp-content/uploads/2025/12/secal-2025.jpg
END:VEVENT
BEGIN:VEVENT
DTSTART;VALUE=DATE:20251205
DTEND;VALUE=DATE:20260106
DTSTAMP:20260419T180101
CREATED:20251204T123732Z
LAST-MODIFIED:20251204T123943Z
UID:97497-1764892800-1767657599@vivalugo.es
SUMMARY:Mercado de Nadal “Nadalmente Lucense” 2025
DESCRIPTION:Mercado de Nadal “Nadalmente Lucense” 2025\nNa Praza Maior de Lugo entre o 5 de decembro e o 5 de xaneiro. O mercado\, que funcionará en horario de mañá e tarde -agás os días 24 e 31\, cando abrirá só pola mañá\, e os días 25 e 1\, que permanecerá pechado- contará cunha ampla programación de actividades: \nINAUGURACIÓN MERCADO DE NADAL “NADALMENTE LUCENSE”\n5 de Diciembre 2025. Praza Maior \n17:00 a 21:00h Recepción del Señor y la Señora Claus\n17:30 a 20:30h Navidad a todo ritmo (peque disco)\n18:00 h: Gran chocolatada (hasta fin de existencias)\n19:00 h: Historias de Laponia con la Señora Claus. \nO FOGAR DO SANTA (Recepción Sr y Sra Claus)\nHorario: 11:00 a 14:30 y de 16:30 a 21:00h Día 24D solo en horario de mañana \n– Recepción del Señor Claus: 6 – 7 – 8 – 13 – 15 – 20 – 22- 23 – 24 Diciembre 2025 \n– Recepción de la Sra Claus: 6 – 14 – 21- 23 Diciembre 2025 \nOASIS DE BEN ALÍ\nHorario: 11:00 a 14:30 y de 16:30 a 21:00h Día 5E solo en horario de mañana \n– Recepción Emisario Real: 2-3-4-5 de Enero 2026 \nA PEQUENA FÁBRICA DE OBRADOIROS DE NADAL\nFechas: 6-7-8-13-21-23-27-28-29-30-31de Diciembre de 2025 y 3- 5 enero 2026 \nHorario: 16:30 a 18:30h \nEl día 31 de Diciembre en horario de 11:00 a 12:30h \nA PEQUENA FÁBRICA DE XOGOS\nFechas: 6-7-8-14-20-22-23-27-28-29-30 de Diciembre de 2025 y 4 de Enero de\n2026 \nEn horario de 19:00 a 21:00h \nEl día 31 de Diciembre en horario de 13:00 a 14:30h \nSEGUINDO ÁS ESTRELAS\n– A MAXIA DE NADAL con el mago Roberto Lolo \nFechas: 6-13 y 27 de Diciembre\nHorario: 18:00 a 20:00h\nPases cada 20 min. \n– ELFILANDIA (Contacontos) \nFecha: 22 de Diciembre de 2025\nHorario: 17:00 a 20:00h\nPases: Cada 30 mim \n– LA SEÑORA CLAUS Y LOS ABRAZOS DE NIEVE \nFecha: 23 de Diciembre de 2025\nHorario: 19:00 a 20:30h\nPases cada 30 min. \n– TRAVESURAS DE REYES (Contacontos)\nFecha: 2 de Enero de 2026 Horario: 17:00 a 20:00h\nPases: Cada 30 mim \nDEGUSTACIÓN DE CHOCOLATE\nFechas: Sábado 13 – 20 – 27 de Diciembre de 2025 y 3 de Enero de 2026\nHorario: 18:00h\nHasta fin de existencias \nEXHIBICIONES\nMAGIE DANCE: 14de Diciembre de 2025 – 17:00h\nVICTORIA GIL: 20 de Diciembre de 2025 – 12:30h\nGRAVITTY: 21 de Diciembre de 2025 – 16:30h\nESCUELA GUITARRA CIRCULO DE LAS ARTES: 23 Diciembre de 2025 – 13:30h\nSTART DANCE: 23 de Diciembre de 2025 – 16:30h\nRITMO LUGO: 3 de Enero de 2026 -17:00h.
URL:https://vivalugo.es/evento/mercado-de-nadal-nadalmente-lucense-2025/
LOCATION:Lugo
ATTACH;FMTTYPE=image/jpeg:https://vivalugo.es/wp-content/uploads/2025/12/mercado-nadalmente-lucense-2025.jpg
END:VEVENT
BEGIN:VEVENT
DTSTART;TZID=Europe/Madrid:20251205T163000
DTEND;TZID=Europe/Madrid:20260104T203000
DTSTAMP:20260419T180101
CREATED:20251202T185207Z
LAST-MODIFIED:20251202T185207Z
UID:97472-1764952200-1767558600@vivalugo.es
SUMMARY:Xuvenlugo 2025
DESCRIPTION:Xuvenlugo 2025\nAtraccións\, xogos\, inchables\, talleres\, sorteos… \n\n\nDatas e Horarios:\n\nDo 5 ao 8 de decembro 2025\nDo 12 ao 14 de decembro 2025\nDo 19 ao 23 de decembro 2025\nDo 26 ao 30 de decembro 2025\nDo 1 ao 4 de xaneiro h. 2026\n\n\n\nDe 16:30 a 20:30 horas\nDías sen Ruído:\n\n6\, 21\, 26\, 29 de decembro 2025 e 1 e 4 de xaneiro 2026\n\nDurante estas xornadas\, dende as 18:30 ata as 20:30\, reducirase o volume da música e controlarase a sonoridade do recinto para que os nenos e nenas con TEA\, hipersensibilidade sensorial ou calquera outra condición poidan participar de xeito activo.\n\n\n\n\nDatas Especiais:\n\nVisita de Papá Noel: 23 de decembro\n\nVisita da Paxe Real: 4 de xaneiro\n\nLugar: Pazo de Feiras e Congresos de Lugo.\nEntradas e TODA A INFORMACIÓN: na web oficial de Xuvenlugo https://xuvenlugo.com
URL:https://vivalugo.es/evento/xuvenlugo-2025/
LOCATION:Pazo de Feiras e Congresos\, Lugo\, Spain
CATEGORIES:Varios
ATTACH;FMTTYPE=image/jpeg:https://vivalugo.es/wp-content/uploads/2025/12/xuvenlugo-2025.jpg
END:VEVENT
BEGIN:VEVENT
DTSTART;VALUE=DATE:20251209
DTEND;VALUE=DATE:20251212
DTSTAMP:20260419T180101
CREATED:20251209T104926Z
LAST-MODIFIED:20251209T104926Z
UID:97565-1765238400-1765497599@vivalugo.es
SUMMARY:Feira Diversiarte 2025
DESCRIPTION:A planta baixa da praza de Abastos acolle do 9 ao 11 a feira Diversiarte\, coa participación de vinte asociacións de Lugo \nAdemais de coñecer o labor que fan estes colectivos a prol da integración\, o programa contará con obradoiros\, concertos\, xincanas\, chocolatadas familiares e contacontos. \nA inauguración será o martes 09/12\, ás 19.00 horas\, co concerto de Adrián Vigo e David Taboada. \nO mércores e xoves abrirá de 11.00 a 14.00 e de 17.00 a 20.00 horas. \nO mércores\, a partir das 11.00 da mañá haberás dúas xincanas da accesibilidade con Auxilia e Once\, e as actividades da mañá rematarán cun obradoiro de chapas de Alucem. \nPola tarde haberá varias actividades para persoalizar bolas de nadal\, a cargo de Raiolas; cestería\, con Aspalu; obradoiro de de chapas\, con Down Lugo\, e de elaboración de xabóns\, organizado por San Vicente de Paul. \nO xoves\, a xornada comezará cunha nova xincana\, obradoiro de cerámica\, a cargo de Aspnais\, e cunha actividades sobre valoración cognitiva\, organizada por Afalu. \nXa pola tarde\, haberá torneo de boccia\, a cargo de varios colectivos; unha nova actividade para decorar bolas de Nadal\, dirixida por Raiolas; chocolatada familiar organizada polo Concello de Lugo\, e un obradoiro de relaxación a cargo de Alume. \nA feira se clausurará ás 19.30 horas coa actuación do Orfeón Lucense. \nAs asociacións que participan en este evento son: Dano Cerebral Lugo\, Aspalu\, Cogami\, Alume\, Fademga\, Auxilia Lugo\, Asfega\, Alucem\, Aspace Lugo\, AECC en Lugo\, Alufi\, San Vicente de Paúl\, Aspnais\, Afalu\, Alcer Lugo\, Capaces Lugo\, Raiolas\, Down Lugo\, Once y Asorlu
URL:https://vivalugo.es/evento/feira-diversiarte-2025/
LOCATION:Lugo
CATEGORIES:Varios
ATTACH;FMTTYPE=image/jpeg:https://vivalugo.es/wp-content/uploads/2025/12/diversiarte-2025.jpg
END:VEVENT
BEGIN:VEVENT
DTSTART;VALUE=DATE:20251209
DTEND;VALUE=DATE:20251213
DTSTAMP:20260419T180101
CREATED:20251209T105437Z
LAST-MODIFIED:20251209T105437Z
UID:97571-1765238400-1765583999@vivalugo.es
SUMMARY:Visitas guiadas SECAL 2025
DESCRIPTION:El martes 9 a las 17:30: a la Catedral\, de la mano de Marcos Calles\, director del Museo Diocesano\, que hablará de los arquitectos que intervinieron en este magnífico edificio. \nMiércoles\, jueves y viernes a las 19:00 podremos saber más sobre personas retratadas en el Museo Provincial de Lugo con Simón Vicente López. Las tres visitas al museo son diferentes así que os podéis anotar a todas. \nLa duración de las visitas es de aproximadamente una hora\, son gratuitas y para anotaros solamente tenéis que cubrir un sencillo formulario que podéis encontrar en este enlace: \nhttps://forms.gle/875T8S1NSABFcXvS6
URL:https://vivalugo.es/evento/visitas-guiadas-secal-2025/
LOCATION:Lugo
CATEGORIES:Varios
ATTACH;FMTTYPE=image/jpeg:https://vivalugo.es/wp-content/uploads/2025/12/visitas-guiadas-secal-2025.jpg
END:VEVENT
BEGIN:VEVENT
DTSTART;VALUE=DATE:20251211
DTEND;VALUE=DATE:20251212
DTSTAMP:20260419T180101
CREATED:20251201T150146Z
LAST-MODIFIED:20251209T145228Z
UID:97324-1765411200-1765497599@vivalugo.es
SUMMARY:Inauguración da exposición “Xogar\, aprender e divertirse"
DESCRIPTION:Inauguración da exposición “Xogar\, aprender e divertirse. Os xoguetes de José Luis Basanta Campos” \n11 de decembro de 2025 ás 19:00 horas no Museo Provincial de Lugo \nDende o 11/12/2025 ata o 25/02/2026 \nO Museo Provincial de Lugo (MPL) presenta unha nova exposición temporal\, enmarcada no seu programa de “Coleccionismo e museos”\, co obxectivo de difundir os fondos que alberga. \nA mostra exhibe a colección de xoguetes doada polo fonsagradino Xosé Lois Basanta Campos (1924-2016)\, ofrecéndonos unha viaxe no tempo que comeza na década de 1920 que nos axuda a comprender a evolución dos xoguetes\, das modas\, dos avances tecnolóxicos e dos cambios sociais. \nDurante a infancia de Basanta\, a principios do século XX\, o mundo do xoguete experimentou unha profunda transformación. \nMoitos obxectos que antes se fabricaban artesanalmente comezaron a producirse en serie\, facilitando o seu acceso a máis nenos e reflectindo o impacto da industrialización na vida cotiá infantil. Isto fixo os xoguetes máis accesibles e incorporou novos mecanismos para o movemento. \nDespois da Segunda Guerra Mundial\, a partir dos anos 40\, a produción de xoguetes experimentou un auxe\, fabricándose exemplares máis elaborados con multitude de accesorios. \nAdemais de ser máis duradeiros e accesibles —en parte pola substitución dalgúns materiais polo plástico—\, tamén promovían a aprendizaxe do neno/a. \nOs xoguetes da colección do MPL\, cos seus deseños en papel\, madeira\, metal ou plástico\, evidencian estas innovacións e a súa influencia no desenvolvemento cultural e na educación. Contrastan cos xogos populares da época\, que formaban parte da vida cotiá e estaban elaborados con materiais moi accesibles. \nAdemais de documentar a historia do xoguete\, a exposición tamén pon en valor a doazón de Xosé Lois Basanta e destaca o papel dos particulares na conservación e incremento do patrimonio colectivo. Así\, garante que as futuras xeracións poidan coñecer e entender a infancia de épocas pasadas. \nCon esta mostra\, o MPL non só exhibe obxectos lúdicos\, senón que tamén invita á reflexión sobre o valor do coleccionismo e a preservación da memoria colectiva a través de obxectos tan cotiáns como os xoguetes. \nNeste caso\, ademais\, quere promoverse a importancia das coleccións privadas e recoñecer a súa relevancia como unha forma de conservar e fomentar o interese pola preservación do noso patrimonio\, destacando o papel dos doantes particulares no incremento dos fondos do museo.
URL:https://vivalugo.es/evento/inauguracion-da-exposicion-xogar-aprender-e-divertirse/
LOCATION:Museo Provincial de Lugo\, Praza da Soidade\, s/n\, Lugo\, 27001
CATEGORIES:Expos
ATTACH;FMTTYPE=image/jpeg:https://vivalugo.es/wp-content/uploads/2025/12/inauguracion-expo-xogar.jpg
END:VEVENT
BEGIN:VEVENT
DTSTART;TZID=Europe/Madrid:20251211T110000
DTEND;TZID=Europe/Madrid:20251211T110000
DTSTAMP:20260419T180101
CREATED:20251210T160003Z
LAST-MODIFIED:20251210T160003Z
UID:97737-1765450800-1765450800@vivalugo.es
SUMMARY:Presentación do libro “Pegadas no Muro. Cultura Urbana e Arte nas rúas”
DESCRIPTION:Presentación do libro “Pegadas no Muro. Cultura Urbana e Arte nas rúas” \n\nAdarve da Muralla de Lugo\, xunto ao mural de Copora (A Castrexa)\n\nXoves\, 11 de decembro 11:00 h\n\n\n\n«Este proxecto naceu nun Curso de Primavera da USC\, no que a EASD Ramón Falcón participou activamente. \n\nAdemais\, a edición (impulsada por Milena Cortés e a nosa ex compañeira Patricia Cupeiro @patri_monia)\, inclúe unha ilustración da nosa profesora Emilia Rodríguez de las Heras @emidelasheras\, polo que nos fai especial ilusión acompañar esta nova.\n\n\n\nO libro\, impulsado pola Vicerreitoría de Estudantes e Cultura da USC\, institución coa que a nosa escola mantén unha relación estreita e habitual\, ve a luz grazas a Alvarellos Editora\, a Deputación de Lugo\, e o Concello de Lugo.\n\n\n\nTrátase dunha presentación simbólica\, ao aire libre —como corresponde a un proxecto sobre arte urbana— e enmarcada na celebración do 25 aniversario da declaración da Muralla como Patrimonio da Humanidade.» EASD Ramón Falcón
URL:https://vivalugo.es/evento/presentacion-do-libro-pegadas-no-muro-cultura-urbana-e-arte-nas-ruas/
LOCATION:Lugo
CATEGORIES:Presentaciones
ATTACH;FMTTYPE=image/jpeg:https://vivalugo.es/wp-content/uploads/2025/12/presentacion-pegadas-no-muro.jpg
END:VEVENT
BEGIN:VEVENT
DTSTART;TZID=Europe/Madrid:20251211T160000
DTEND;TZID=Europe/Madrid:20251211T160000
DTSTAMP:20260419T180101
CREATED:20251210T150810Z
LAST-MODIFIED:20251210T150810Z
UID:97728-1765468800-1765468800@vivalugo.es
SUMMARY:Baño de bosque e iniciación ao Haiku
DESCRIPTION:A UNED de Lugo celebrará o vindeiro 11 de decembro a actividade “Baño de bosque e iniciación ao Haiku”\, que terá lugar nas Carballeiras do Paseo do Rato\, con inicio no Centro de Interpretación Terras do Miño\, en horario de 16:00 a 18:00 horas. \nEsta proposta insírese no programa ODS en Acción\, impulsado polo Observatorio ODS da UNED\, e enmárcase na conmemoración do Día Internacional das Montañas\, destacando o valor do ODS 15: Vida de ecosistemas terrestres. \nUnha proposta que combina natureza\, benestar e creación literaria: \nO programa inclúe un baño de bosque ou Shinrin-Yoku\, práctica xaponesa que invita a mergullarse na natureza con atención plena\, e un obradoiro de iniciación ao haiku\, poesía tradicional que nace da observación atenta do entorno e da captación de momentos efémeros. \nBusca favorecer o equilibrio emocional\, a concentración e a creatividade\, ao tempo que pon en valor os ecosistemas forestais e a relación profunda entre persoas e natureza. \nA sesión estará dirixida por Mercedes Rois Díaz\, consultora en bioeconomía forestal e CEO de Raíces – Reconecta Contigo\, e por Francisca García Jáñez\, doutora en Filoloxía Hispánica\, escritora e docente. \nInscrición\, cun custo de 10 euros\, está aberta ao público a través da seguinte ligazón:\nhttps://extension.uned.es/actividad/idactividad/49435
URL:https://vivalugo.es/evento/bano-de-bosque-e-iniciacion-ao-haiku/
LOCATION:UNED LUGO\, Tolda de Castela Nº4B\, Lugo\, 27169
CATEGORIES:Cursos
END:VEVENT
BEGIN:VEVENT
DTSTART;TZID=Europe/Madrid:20251211T170000
DTEND;TZID=Europe/Madrid:20251211T170000
DTSTAMP:20260419T180101
CREATED:20251205T092100Z
LAST-MODIFIED:20251205T092100Z
UID:97541-1765472400-1765472400@vivalugo.es
SUMMARY:Presentación do libro "Con razón o sin ella"
DESCRIPTION:Presentación do libro «Con razón o sin ella» \nde Aquilino González Álvarez \nXoves 11 de decembro de 2025 \n17:00 horas \nO Vello Cárcere de Lugo
URL:https://vivalugo.es/evento/presentacion-do-libro-con-razon-o-sin-ella/
LOCATION:O Vello Cárcere\, Av. Alcalde Anxo López Pérez\, 10\, Lugo\, Lugo\, 27002\, Spain
CATEGORIES:Presentaciones
END:VEVENT
BEGIN:VEVENT
DTSTART;TZID=Europe/Madrid:20251211T203000
DTEND;TZID=Europe/Madrid:20251211T203000
DTSTAMP:20260419T180101
CREATED:20251209T154752Z
LAST-MODIFIED:20251209T154939Z
UID:97647-1765485000-1765485000@vivalugo.es
SUMMARY:Teatro "Mofa e befa: Os dous de sempre. O regreso"
DESCRIPTION:Teatro «Mofa e befa: Os dous de sempre. O regreso» \n\n\n\n\nXoves\, 11 de decembro de 2025 – 20:30 hs. – Auditorio Municipal Gustavo Freire \n\n\n\n\n\n\nIdade recomendada: A partir dos 14 anos \nSinopse: \nUnha escenografía imposible. Catro actores e actrices que se reinventan en cada escena. \nUn montón de pezas\, que parece que nunca encaixan… \nO mercado da vivenda\, boom! O futuro\, polos aires. \nE ti\, vivirías nunha casa de cartón? \nENTRADAS: a través do portal web entradaslugo.es e na Oficina de Turismo ata 3 horas antes do comezo de cada función; e no auditorio\, o día da función\, desde unha hora e media antes do comezo do espectáculo.
URL:https://vivalugo.es/evento/teatro-mofa-e-befa-os-dous-de-sempre-o-regreso/
LOCATION:​Auditorio Municipal Gustavo Freire\, Parque da Milagrosa\, Avda. da Coruña\, s/n\, Lugo\, Lugo\, 27003\, Spain
CATEGORIES:Artes escénicas
ATTACH;FMTTYPE=image/jpeg:https://vivalugo.es/wp-content/uploads/2025/10/programacion-gustavo-freire-adultos-10.jpg
END:VEVENT
BEGIN:VEVENT
DTSTART;TZID=Europe/Madrid:20251211T220000
DTEND;TZID=Europe/Madrid:20251211T220000
DTSTAMP:20260419T180101
CREATED:20251202T190230Z
LAST-MODIFIED:20251202T190230Z
UID:97478-1765490400-1765490400@vivalugo.es
SUMMARY:Impro teatral con Improdutivas no Clavi
DESCRIPTION:Impro teatral con Improdutivas no Clavi \nXoves 11 de decembro de 2025 \n22:00 horas \nSen guión nen vergoña\, gorxeos arriscados e moita cara dura no Club Clavicémbalo de Lugo \n 
URL:https://vivalugo.es/evento/impro-teatral-con-improdutivas-no-clavi/
LOCATION:Club Clavicémbalo\, Rúa dos Paxariños\, 23\, Lugo\, Lugo\, 27002\, Spain
CATEGORIES:Artes escénicas
ATTACH;FMTTYPE=image/jpeg:https://vivalugo.es/wp-content/uploads/2025/12/impro-teatral-improdutivas-clavi.jpg
END:VEVENT
END:VCALENDAR