BEGIN:VCALENDAR
VERSION:2.0
PRODID:-//VivaLugo - ECPv6.15.13.1//NONSGML v1.0//EN
CALSCALE:GREGORIAN
METHOD:PUBLISH
X-WR-CALNAME:VivaLugo
X-ORIGINAL-URL:https://vivalugo.es
X-WR-CALDESC:Eventos para VivaLugo
REFRESH-INTERVAL;VALUE=DURATION:PT1H
X-Robots-Tag:noindex
X-PUBLISHED-TTL:PT1H
BEGIN:VTIMEZONE
TZID:Europe/Madrid
BEGIN:DAYLIGHT
TZOFFSETFROM:+0100
TZOFFSETTO:+0200
TZNAME:CEST
DTSTART:20240331T010000
END:DAYLIGHT
BEGIN:STANDARD
TZOFFSETFROM:+0200
TZOFFSETTO:+0100
TZNAME:CET
DTSTART:20241027T010000
END:STANDARD
BEGIN:DAYLIGHT
TZOFFSETFROM:+0100
TZOFFSETTO:+0200
TZNAME:CEST
DTSTART:20250330T010000
END:DAYLIGHT
BEGIN:STANDARD
TZOFFSETFROM:+0200
TZOFFSETTO:+0100
TZNAME:CET
DTSTART:20251026T010000
END:STANDARD
BEGIN:DAYLIGHT
TZOFFSETFROM:+0100
TZOFFSETTO:+0200
TZNAME:CEST
DTSTART:20260329T010000
END:DAYLIGHT
BEGIN:STANDARD
TZOFFSETFROM:+0200
TZOFFSETTO:+0100
TZNAME:CET
DTSTART:20261025T010000
END:STANDARD
BEGIN:DAYLIGHT
TZOFFSETFROM:+0100
TZOFFSETTO:+0200
TZNAME:CEST
DTSTART:20270328T010000
END:DAYLIGHT
BEGIN:STANDARD
TZOFFSETFROM:+0200
TZOFFSETTO:+0100
TZNAME:CET
DTSTART:20271031T010000
END:STANDARD
END:VTIMEZONE
BEGIN:VEVENT
DTSTART;VALUE=DATE:20251205
DTEND;VALUE=DATE:20251220
DTSTAMP:20260419T180033
CREATED:20251204T123040Z
LAST-MODIFIED:20251215T152720Z
UID:97494-1764892800-1766188799@vivalugo.es
SUMMARY:SECAL 2025
DESCRIPTION:SECAL 2025 \nSemana de Exaltación de la Cultura y el Arte de Lugo (SECAL) \nTendrá lugar entre los días 5y 14 de diciembre de 2025 y está organizada por la Asociación de Empresarios Lugo Monumental \nExposciones de artistas en espacios situados dentro del recinto amurallado de Lugo: \nAunque hay obras que son sólo expositivas\, la mayor parte estarán a la venta\, gestionando la operación directamente los autores sin intervención de la Asociación ni de los locales. \nPeña Romay – Expone en mestura\, Progreso\, 13 \nYuste – Expone en San Marcos Café\, San Marcos\, 01 \nMacía – Expone en El Duendecillo\, Rúanova\, 38 \nXoan Vila – Expone en Hotel Monumento Pazo de Orbán\, Travesía do Miño\, 06 \nMateo Cabo Iglesias – Expone en Mezcla\, San Pedro\, 33 \nHelena Ayape – Expone en Farmacia da Cruz\, Conde Pallares\, 06 \nPaula Salinas – Expone en El Portón\, Falcón\, 5 \nBea Landeira – Expone en Lencería Lis\, Doctor Castro\, 24 \nNoelia Fernández Arrojo – Expone en Farmacia La Salud\, Teatro\, 01 \nBarri – Expone en Diki Diki\, Rúanova\, 51 \nMaría G Morado – Expone en Lucía Devesa Clínica Podológica\, Montevideo\, 14 \nEsther Lopez Alvarez – Expone en Confecciones García\, San Pedro\, 58 \nRamón Fernández Campos – Expone en Farmacia Central\, San Pedro\, 2 \nEsteban Fernández López – Expone en TOTEM\, Galerías Villamor (Sto Domingo) \nIria Pigueiras – Expone en CEPECE\, San Pedro\, 64 \nPablo – Expone en Kblex\, Reina\, 16 \nRaquel Amo Cordero – Expone en La Postrería de Noe\, Campo Castillo\, 13 \nOniel Rodríguez López – Expone en Firi\, Armañá\, 20
URL:https://vivalugo.es/evento/secal-2025/
LOCATION:Lugo
CATEGORIES:Expos
ATTACH;FMTTYPE=image/jpeg:https://vivalugo.es/wp-content/uploads/2025/12/secal-2025.jpg
END:VEVENT
BEGIN:VEVENT
DTSTART;VALUE=DATE:20251205
DTEND;VALUE=DATE:20260106
DTSTAMP:20260419T180033
CREATED:20251204T123732Z
LAST-MODIFIED:20251204T123943Z
UID:97497-1764892800-1767657599@vivalugo.es
SUMMARY:Mercado de Nadal “Nadalmente Lucense” 2025
DESCRIPTION:Mercado de Nadal “Nadalmente Lucense” 2025\nNa Praza Maior de Lugo entre o 5 de decembro e o 5 de xaneiro. O mercado\, que funcionará en horario de mañá e tarde -agás os días 24 e 31\, cando abrirá só pola mañá\, e os días 25 e 1\, que permanecerá pechado- contará cunha ampla programación de actividades: \nINAUGURACIÓN MERCADO DE NADAL “NADALMENTE LUCENSE”\n5 de Diciembre 2025. Praza Maior \n17:00 a 21:00h Recepción del Señor y la Señora Claus\n17:30 a 20:30h Navidad a todo ritmo (peque disco)\n18:00 h: Gran chocolatada (hasta fin de existencias)\n19:00 h: Historias de Laponia con la Señora Claus. \nO FOGAR DO SANTA (Recepción Sr y Sra Claus)\nHorario: 11:00 a 14:30 y de 16:30 a 21:00h Día 24D solo en horario de mañana \n– Recepción del Señor Claus: 6 – 7 – 8 – 13 – 15 – 20 – 22- 23 – 24 Diciembre 2025 \n– Recepción de la Sra Claus: 6 – 14 – 21- 23 Diciembre 2025 \nOASIS DE BEN ALÍ\nHorario: 11:00 a 14:30 y de 16:30 a 21:00h Día 5E solo en horario de mañana \n– Recepción Emisario Real: 2-3-4-5 de Enero 2026 \nA PEQUENA FÁBRICA DE OBRADOIROS DE NADAL\nFechas: 6-7-8-13-21-23-27-28-29-30-31de Diciembre de 2025 y 3- 5 enero 2026 \nHorario: 16:30 a 18:30h \nEl día 31 de Diciembre en horario de 11:00 a 12:30h \nA PEQUENA FÁBRICA DE XOGOS\nFechas: 6-7-8-14-20-22-23-27-28-29-30 de Diciembre de 2025 y 4 de Enero de\n2026 \nEn horario de 19:00 a 21:00h \nEl día 31 de Diciembre en horario de 13:00 a 14:30h \nSEGUINDO ÁS ESTRELAS\n– A MAXIA DE NADAL con el mago Roberto Lolo \nFechas: 6-13 y 27 de Diciembre\nHorario: 18:00 a 20:00h\nPases cada 20 min. \n– ELFILANDIA (Contacontos) \nFecha: 22 de Diciembre de 2025\nHorario: 17:00 a 20:00h\nPases: Cada 30 mim \n– LA SEÑORA CLAUS Y LOS ABRAZOS DE NIEVE \nFecha: 23 de Diciembre de 2025\nHorario: 19:00 a 20:30h\nPases cada 30 min. \n– TRAVESURAS DE REYES (Contacontos)\nFecha: 2 de Enero de 2026 Horario: 17:00 a 20:00h\nPases: Cada 30 mim \nDEGUSTACIÓN DE CHOCOLATE\nFechas: Sábado 13 – 20 – 27 de Diciembre de 2025 y 3 de Enero de 2026\nHorario: 18:00h\nHasta fin de existencias \nEXHIBICIONES\nMAGIE DANCE: 14de Diciembre de 2025 – 17:00h\nVICTORIA GIL: 20 de Diciembre de 2025 – 12:30h\nGRAVITTY: 21 de Diciembre de 2025 – 16:30h\nESCUELA GUITARRA CIRCULO DE LAS ARTES: 23 Diciembre de 2025 – 13:30h\nSTART DANCE: 23 de Diciembre de 2025 – 16:30h\nRITMO LUGO: 3 de Enero de 2026 -17:00h.
URL:https://vivalugo.es/evento/mercado-de-nadal-nadalmente-lucense-2025/
LOCATION:Lugo
ATTACH;FMTTYPE=image/jpeg:https://vivalugo.es/wp-content/uploads/2025/12/mercado-nadalmente-lucense-2025.jpg
END:VEVENT
BEGIN:VEVENT
DTSTART;TZID=Europe/Madrid:20251205T163000
DTEND;TZID=Europe/Madrid:20260104T203000
DTSTAMP:20260419T180033
CREATED:20251202T185207Z
LAST-MODIFIED:20251202T185207Z
UID:97472-1764952200-1767558600@vivalugo.es
SUMMARY:Xuvenlugo 2025
DESCRIPTION:Xuvenlugo 2025\nAtraccións\, xogos\, inchables\, talleres\, sorteos… \n\n\nDatas e Horarios:\n\nDo 5 ao 8 de decembro 2025\nDo 12 ao 14 de decembro 2025\nDo 19 ao 23 de decembro 2025\nDo 26 ao 30 de decembro 2025\nDo 1 ao 4 de xaneiro h. 2026\n\n\n\nDe 16:30 a 20:30 horas\nDías sen Ruído:\n\n6\, 21\, 26\, 29 de decembro 2025 e 1 e 4 de xaneiro 2026\n\nDurante estas xornadas\, dende as 18:30 ata as 20:30\, reducirase o volume da música e controlarase a sonoridade do recinto para que os nenos e nenas con TEA\, hipersensibilidade sensorial ou calquera outra condición poidan participar de xeito activo.\n\n\n\n\nDatas Especiais:\n\nVisita de Papá Noel: 23 de decembro\n\nVisita da Paxe Real: 4 de xaneiro\n\nLugar: Pazo de Feiras e Congresos de Lugo.\nEntradas e TODA A INFORMACIÓN: na web oficial de Xuvenlugo https://xuvenlugo.com
URL:https://vivalugo.es/evento/xuvenlugo-2025/
LOCATION:Pazo de Feiras e Congresos\, Lugo\, Spain
CATEGORIES:Varios
ATTACH;FMTTYPE=image/jpeg:https://vivalugo.es/wp-content/uploads/2025/12/xuvenlugo-2025.jpg
END:VEVENT
BEGIN:VEVENT
DTSTART;VALUE=DATE:20251209
DTEND;VALUE=DATE:20251213
DTSTAMP:20260419T180033
CREATED:20251209T105437Z
LAST-MODIFIED:20251209T105437Z
UID:97571-1765238400-1765583999@vivalugo.es
SUMMARY:Visitas guiadas SECAL 2025
DESCRIPTION:El martes 9 a las 17:30: a la Catedral\, de la mano de Marcos Calles\, director del Museo Diocesano\, que hablará de los arquitectos que intervinieron en este magnífico edificio. \nMiércoles\, jueves y viernes a las 19:00 podremos saber más sobre personas retratadas en el Museo Provincial de Lugo con Simón Vicente López. Las tres visitas al museo son diferentes así que os podéis anotar a todas. \nLa duración de las visitas es de aproximadamente una hora\, son gratuitas y para anotaros solamente tenéis que cubrir un sencillo formulario que podéis encontrar en este enlace: \nhttps://forms.gle/875T8S1NSABFcXvS6
URL:https://vivalugo.es/evento/visitas-guiadas-secal-2025/
LOCATION:Lugo
CATEGORIES:Varios
ATTACH;FMTTYPE=image/jpeg:https://vivalugo.es/wp-content/uploads/2025/12/visitas-guiadas-secal-2025.jpg
END:VEVENT
BEGIN:VEVENT
DTSTART;VALUE=DATE:20251212
DTEND;VALUE=DATE:20260107
DTSTAMP:20260419T180033
CREATED:20251212T102158Z
LAST-MODIFIED:20251212T102238Z
UID:97795-1765497600-1767743999@vivalugo.es
SUMMARY:Pista de Xeo na Praza da Milagrosa
DESCRIPTION:Pista de Xeo na Praza da Milagrosa \nHorario escolar: \nLuns a venres de 16:30 a 22:00 \nSábado e domingo 11:00 a 14:00 e 16:30 a 23:00 \nHorario vacacional: \nLuns a domingo de 11:00 a 23:00 \nPrezo: 8€ \nFamilia numerosa: 6€
URL:https://vivalugo.es/evento/pista-de-xeo-na-praza-da-milagrosa/
LOCATION:Lugo
CATEGORIES:Varios
ATTACH;FMTTYPE=image/jpeg:https://vivalugo.es/wp-content/uploads/2025/12/pista-xeo-praza-milagrosa.jpg
END:VEVENT
BEGIN:VEVENT
DTSTART;TZID=Europe/Madrid:20251212T173000
DTEND;TZID=Europe/Madrid:20251212T173000
DTSTAMP:20260419T180033
CREATED:20251211T161010Z
LAST-MODIFIED:20251211T161010Z
UID:97776-1765560600-1765560600@vivalugo.es
SUMMARY:Contacontos "A Apalpadora"
DESCRIPTION:Contacontos «A Apalpadora» \nVenres 12 de decembro de 2025\, ás 17:30 horas na Librería Biblos de Lugo \nAs súas aventuras na montaña e no seu fantástico mundo de lendas galegas.
URL:https://vivalugo.es/evento/contacontos-a-apalpadora/
LOCATION:Librería Biblos\, Avenida de Ramón Ferreiro\, Lugo\, Lugo\, 27002
CATEGORIES:Artes escénicas
ATTACH;FMTTYPE=image/jpeg:https://vivalugo.es/wp-content/uploads/2025/12/contacontos-a-apalpadora.jpg
END:VEVENT
BEGIN:VEVENT
DTSTART;TZID=Europe/Madrid:20251212T180000
DTEND;TZID=Europe/Madrid:20251212T180000
DTSTAMP:20260419T180033
CREATED:20251211T162643Z
LAST-MODIFIED:20251211T162643Z
UID:97782-1765562400-1765562400@vivalugo.es
SUMMARY:Teatro familiar - Duncan de palleiro
DESCRIPTION:Teatro familiar – Duncan de palleiro \nA cargo de Lila Teatro \n12 de Diciembre 2025\, 18:00 – Salón de actos (hasta completar aforo) Biblioteca Provincial de Lugo – Entrada gratuita. \nPara niños/as a partir de 3 años (Familiar) \nDuración 60 minutos. \nAsí es cómo transcurre un día en la vida de un perro\, pero no de un perro cualquiera. \nSe trata de un perro muy especial que pertenece a una raza mítica\, legendaria y con mucho prestigio\, la de Palleiro. Este perro es Duncan de Palleiro\, el Príncipe de las Congostras. \nDuncan lleva una vida sencilla al lado de su amo Aurelio y de sus amigos\, vecinas y rebaños de siempre en una aldeita al amparo del monte Espigo llamada Oubidos\, de la cual se siente muy presumido. \nDuncan ama profundamente a todos los niños y niñas\, y allí donde ve lleva consigo una grandísima sorpresa que no dejará nadie indiferente. \nAmistad\, Alegría y Libertad son las palabras que más le gustan la Duncan de Palleiro.
URL:https://vivalugo.es/evento/teatro-familiar-duncan-de-palleiro/
LOCATION:A Hedreira\, Rua Catasol\, 17\, Lugo\, 27002
CATEGORIES:Artes escénicas
END:VEVENT
BEGIN:VEVENT
DTSTART;TZID=Europe/Madrid:20251212T190000
DTEND;TZID=Europe/Madrid:20251212T190000
DTSTAMP:20260419T180033
CREATED:20251209T150302Z
LAST-MODIFIED:20251209T150302Z
UID:97607-1765566000-1765566000@vivalugo.es
SUMMARY:Presentación do libro "Sereas afónicas" de Luisa Abad
DESCRIPTION:Presentación do libro «Sereas afónicas» de Luisa Abad \n12 de decembro de 2025 \n19:00 – O Vello Cárcere de Lugo \nCon Lois Pérez\, Marica Campo\, Carmen Díaz\, Lina Iglesias e Luz Darriba
URL:https://vivalugo.es/evento/presentacion-do-libro-sereas-afonicas-de-luisa-abad/
LOCATION:O Vello Cárcere\, Av. Alcalde Anxo López Pérez\, 10\, Lugo\, Lugo\, 27002\, Spain
CATEGORIES:Presentaciones
ATTACH;FMTTYPE=image/jpeg:https://vivalugo.es/wp-content/uploads/2025/12/presentacion-libro-seres-afonicas.jpg
END:VEVENT
BEGIN:VEVENT
DTSTART;TZID=Europe/Madrid:20251212T200000
DTEND;TZID=Europe/Madrid:20251212T200000
DTSTAMP:20260419T180033
CREATED:20251211T150347Z
LAST-MODIFIED:20251211T150347Z
UID:97743-1765569600-1765569600@vivalugo.es
SUMMARY:Presentación do libro 'PCE(r) 50 anos de resistencia'
DESCRIPTION:Presentación do libro ‘PCE(r) 50 anos de resistencia’ \nVenres 12 de decembro de 2025 -20 horas \nSociedade Cultural Mádia Leva! (R/ Serra de Ancares 18 Lugo\, Galiza) \nhttp://madialeva.agal-gz.org \n 
URL:https://vivalugo.es/evento/presentacion-do-libro-pcer-50-anos-de-resistencia/
LOCATION:Madia Leva\, Serra de Ancares 18\, Lugo
CATEGORIES:Presentaciones
ATTACH;FMTTYPE=image/jpeg:https://vivalugo.es/wp-content/uploads/2025/12/presentacion-libro-pcer-50.jpg
END:VEVENT
BEGIN:VEVENT
DTSTART;TZID=Europe/Madrid:20251212T220000
DTEND;TZID=Europe/Madrid:20251212T220000
DTSTAMP:20260419T180033
CREATED:20251202T190904Z
LAST-MODIFIED:20251202T190904Z
UID:97481-1765576800-1765576800@vivalugo.es
SUMMARY:Impro teatral con As Teimas
DESCRIPTION:Impro teatral con As Teimas \nVenres 12 de decembro de 2025 \n22:00 horas \nClub Clavicémbalo de Lugo \nCompañía formada por @sheyla_farinha @martadoviro @susana.sampedro
URL:https://vivalugo.es/evento/impro-teatral-con-as-teimas/
LOCATION:Club Clavicémbalo\, Rúa dos Paxariños\, 23\, Lugo\, Lugo\, 27002\, Spain
CATEGORIES:Artes escénicas
ATTACH;FMTTYPE=image/jpeg:https://vivalugo.es/wp-content/uploads/2025/12/impro-teatral-as-teimas.jpg
END:VEVENT
BEGIN:VEVENT
DTSTART;TZID=Europe/Madrid:20251212T220000
DTEND;TZID=Europe/Madrid:20251212T220000
DTSTAMP:20260419T180033
CREATED:20251209T175549Z
LAST-MODIFIED:20251209T175549Z
UID:97682-1765576800-1765576800@vivalugo.es
SUMMARY:Concierto de BRAIS MORAN & NASAUFANK
DESCRIPTION:Concierto de BRAIS MORAN & NASAUFANK \nVersiones rock \nViernes 12 de diciembre de 2025 \n22:00 horas \nSala Jagger de Lugo
URL:https://vivalugo.es/evento/concierto-de-brais-moran-nasaufank/
LOCATION:Sala Jagger\, Rua da Cruz 20\, Lugo\, Lugo\, 27001
CATEGORIES:Conciertos
ATTACH;FMTTYPE=image/jpeg:https://vivalugo.es/wp-content/uploads/2025/12/concierto-brais-moran-nasaufank.jpg
END:VEVENT
END:VCALENDAR