BEGIN:VCALENDAR
VERSION:2.0
PRODID:-//VivaLugo - ECPv6.15.13.1//NONSGML v1.0//EN
CALSCALE:GREGORIAN
METHOD:PUBLISH
X-ORIGINAL-URL:https://vivalugo.es
X-WR-CALDESC:Eventos para VivaLugo
REFRESH-INTERVAL;VALUE=DURATION:PT1H
X-Robots-Tag:noindex
X-PUBLISHED-TTL:PT1H
BEGIN:VTIMEZONE
TZID:Europe/Madrid
BEGIN:DAYLIGHT
TZOFFSETFROM:+0100
TZOFFSETTO:+0200
TZNAME:CEST
DTSTART:20240331T010000
END:DAYLIGHT
BEGIN:STANDARD
TZOFFSETFROM:+0200
TZOFFSETTO:+0100
TZNAME:CET
DTSTART:20241027T010000
END:STANDARD
BEGIN:DAYLIGHT
TZOFFSETFROM:+0100
TZOFFSETTO:+0200
TZNAME:CEST
DTSTART:20250330T010000
END:DAYLIGHT
BEGIN:STANDARD
TZOFFSETFROM:+0200
TZOFFSETTO:+0100
TZNAME:CET
DTSTART:20251026T010000
END:STANDARD
BEGIN:DAYLIGHT
TZOFFSETFROM:+0100
TZOFFSETTO:+0200
TZNAME:CEST
DTSTART:20260329T010000
END:DAYLIGHT
BEGIN:STANDARD
TZOFFSETFROM:+0200
TZOFFSETTO:+0100
TZNAME:CET
DTSTART:20261025T010000
END:STANDARD
BEGIN:DAYLIGHT
TZOFFSETFROM:+0100
TZOFFSETTO:+0200
TZNAME:CEST
DTSTART:20270328T010000
END:DAYLIGHT
BEGIN:STANDARD
TZOFFSETFROM:+0200
TZOFFSETTO:+0100
TZNAME:CET
DTSTART:20271031T010000
END:STANDARD
END:VTIMEZONE
BEGIN:VEVENT
DTSTART;VALUE=DATE:20251205
DTEND;VALUE=DATE:20260106
DTSTAMP:20260419T175952
CREATED:20251204T123732Z
LAST-MODIFIED:20251204T123943Z
UID:97497-1764892800-1767657599@vivalugo.es
SUMMARY:Mercado de Nadal “Nadalmente Lucense” 2025
DESCRIPTION:Mercado de Nadal “Nadalmente Lucense” 2025\nNa Praza Maior de Lugo entre o 5 de decembro e o 5 de xaneiro. O mercado\, que funcionará en horario de mañá e tarde -agás os días 24 e 31\, cando abrirá só pola mañá\, e os días 25 e 1\, que permanecerá pechado- contará cunha ampla programación de actividades: \nINAUGURACIÓN MERCADO DE NADAL “NADALMENTE LUCENSE”\n5 de Diciembre 2025. Praza Maior \n17:00 a 21:00h Recepción del Señor y la Señora Claus\n17:30 a 20:30h Navidad a todo ritmo (peque disco)\n18:00 h: Gran chocolatada (hasta fin de existencias)\n19:00 h: Historias de Laponia con la Señora Claus. \nO FOGAR DO SANTA (Recepción Sr y Sra Claus)\nHorario: 11:00 a 14:30 y de 16:30 a 21:00h Día 24D solo en horario de mañana \n– Recepción del Señor Claus: 6 – 7 – 8 – 13 – 15 – 20 – 22- 23 – 24 Diciembre 2025 \n– Recepción de la Sra Claus: 6 – 14 – 21- 23 Diciembre 2025 \nOASIS DE BEN ALÍ\nHorario: 11:00 a 14:30 y de 16:30 a 21:00h Día 5E solo en horario de mañana \n– Recepción Emisario Real: 2-3-4-5 de Enero 2026 \nA PEQUENA FÁBRICA DE OBRADOIROS DE NADAL\nFechas: 6-7-8-13-21-23-27-28-29-30-31de Diciembre de 2025 y 3- 5 enero 2026 \nHorario: 16:30 a 18:30h \nEl día 31 de Diciembre en horario de 11:00 a 12:30h \nA PEQUENA FÁBRICA DE XOGOS\nFechas: 6-7-8-14-20-22-23-27-28-29-30 de Diciembre de 2025 y 4 de Enero de\n2026 \nEn horario de 19:00 a 21:00h \nEl día 31 de Diciembre en horario de 13:00 a 14:30h \nSEGUINDO ÁS ESTRELAS\n– A MAXIA DE NADAL con el mago Roberto Lolo \nFechas: 6-13 y 27 de Diciembre\nHorario: 18:00 a 20:00h\nPases cada 20 min. \n– ELFILANDIA (Contacontos) \nFecha: 22 de Diciembre de 2025\nHorario: 17:00 a 20:00h\nPases: Cada 30 mim \n– LA SEÑORA CLAUS Y LOS ABRAZOS DE NIEVE \nFecha: 23 de Diciembre de 2025\nHorario: 19:00 a 20:30h\nPases cada 30 min. \n– TRAVESURAS DE REYES (Contacontos)\nFecha: 2 de Enero de 2026 Horario: 17:00 a 20:00h\nPases: Cada 30 mim \nDEGUSTACIÓN DE CHOCOLATE\nFechas: Sábado 13 – 20 – 27 de Diciembre de 2025 y 3 de Enero de 2026\nHorario: 18:00h\nHasta fin de existencias \nEXHIBICIONES\nMAGIE DANCE: 14de Diciembre de 2025 – 17:00h\nVICTORIA GIL: 20 de Diciembre de 2025 – 12:30h\nGRAVITTY: 21 de Diciembre de 2025 – 16:30h\nESCUELA GUITARRA CIRCULO DE LAS ARTES: 23 Diciembre de 2025 – 13:30h\nSTART DANCE: 23 de Diciembre de 2025 – 16:30h\nRITMO LUGO: 3 de Enero de 2026 -17:00h.
URL:https://vivalugo.es/evento/mercado-de-nadal-nadalmente-lucense-2025/
LOCATION:Lugo
ATTACH;FMTTYPE=image/jpeg:https://vivalugo.es/wp-content/uploads/2025/12/mercado-nadalmente-lucense-2025.jpg
END:VEVENT
BEGIN:VEVENT
DTSTART;TZID=Europe/Madrid:20251205T163000
DTEND;TZID=Europe/Madrid:20260104T203000
DTSTAMP:20260419T175952
CREATED:20251202T185207Z
LAST-MODIFIED:20251202T185207Z
UID:97472-1764952200-1767558600@vivalugo.es
SUMMARY:Xuvenlugo 2025
DESCRIPTION:Xuvenlugo 2025\nAtraccións\, xogos\, inchables\, talleres\, sorteos… \n\n\nDatas e Horarios:\n\nDo 5 ao 8 de decembro 2025\nDo 12 ao 14 de decembro 2025\nDo 19 ao 23 de decembro 2025\nDo 26 ao 30 de decembro 2025\nDo 1 ao 4 de xaneiro h. 2026\n\n\n\nDe 16:30 a 20:30 horas\nDías sen Ruído:\n\n6\, 21\, 26\, 29 de decembro 2025 e 1 e 4 de xaneiro 2026\n\nDurante estas xornadas\, dende as 18:30 ata as 20:30\, reducirase o volume da música e controlarase a sonoridade do recinto para que os nenos e nenas con TEA\, hipersensibilidade sensorial ou calquera outra condición poidan participar de xeito activo.\n\n\n\n\nDatas Especiais:\n\nVisita de Papá Noel: 23 de decembro\n\nVisita da Paxe Real: 4 de xaneiro\n\nLugar: Pazo de Feiras e Congresos de Lugo.\nEntradas e TODA A INFORMACIÓN: na web oficial de Xuvenlugo https://xuvenlugo.com
URL:https://vivalugo.es/evento/xuvenlugo-2025/
LOCATION:Pazo de Feiras e Congresos\, Lugo\, Spain
CATEGORIES:Varios
ATTACH;FMTTYPE=image/jpeg:https://vivalugo.es/wp-content/uploads/2025/12/xuvenlugo-2025.jpg
END:VEVENT
BEGIN:VEVENT
DTSTART;VALUE=DATE:20251212
DTEND;VALUE=DATE:20260107
DTSTAMP:20260419T175952
CREATED:20251212T102158Z
LAST-MODIFIED:20251212T102238Z
UID:97795-1765497600-1767743999@vivalugo.es
SUMMARY:Pista de Xeo na Praza da Milagrosa
DESCRIPTION:Pista de Xeo na Praza da Milagrosa \nHorario escolar: \nLuns a venres de 16:30 a 22:00 \nSábado e domingo 11:00 a 14:00 e 16:30 a 23:00 \nHorario vacacional: \nLuns a domingo de 11:00 a 23:00 \nPrezo: 8€ \nFamilia numerosa: 6€
URL:https://vivalugo.es/evento/pista-de-xeo-na-praza-da-milagrosa/
LOCATION:Lugo
CATEGORIES:Varios
ATTACH;FMTTYPE=image/jpeg:https://vivalugo.es/wp-content/uploads/2025/12/pista-xeo-praza-milagrosa.jpg
END:VEVENT
BEGIN:VEVENT
DTSTART;VALUE=DATE:20251215
DTEND;VALUE=DATE:20251224
DTSTAMP:20260419T175952
CREATED:20251215T154526Z
LAST-MODIFIED:20251215T154526Z
UID:97924-1765756800-1766534399@vivalugo.es
SUMMARY:Corais polo recinto histórico de Lugo
DESCRIPTION:Corais polo recinto histórico de Lugo\n\nLuns 15 de decembro: Cantar Delas 18:00 – 19:30 (3 pases de 25 min en San Pedro con Rúa do Progreso\, Rúa da Raíña e Fondo da Praza Maior) e Coral Polifónica Xolda 18:00 – 19:30 (3 pases de 25 min en San Marcos\, Praza de Santo Domingo e San Pedro con Rúa Progreso)\n\n\n\nMércores 17 de decembro: Schola Gregoriana 18:00 – 19:30 (3 pases de 25 min en Praza de Santo Domingo\, San Pedro con Rúa Progreso e Rúa da Raíña)\n\n\n\nXoves 18 de decembro: Schola Gregoriana 18:00 – 19:30 (3 pases de 25 min en Armañá con Conde Pallares\, Fondo da Praza Maior e Bispo Aguirre)\, Coro do Hospital de Lugo 18:00 – 19:30 (4 pases de 20 min en Praza do Ferrol\, San Marcos\, Santo Domingo e Rúa da Raíña) e Xove Coro de Lugo 18:00 – 19:30 (4 pases de 20 min en Rúa Menorca\, Praza da Milagrosa\, Rúa Divina Pastora e Praza da Milagrosa)\n\n\n\nVenres 19 de decembro: Coral Lucus Terra 11:30 – 13:00 (4 pases de 20 min en Quiroga Ballesteros\, Armañá con Conde Pallares\, Fondo Praza Maior e Diante do Concello) e Sólo Voces 20:00 – 21:30 (4 pases de 20 min en San Pedro con Rúa Progreso\, Rúa da Raíña\, Fondo Praza Maior e Praza do Campo)\n\n\n\nSábado 20 de decembro: Sólo Voces 12:00 – 13:30 (3 pases de 25 min en Rúa Menorca\, Praza da Milagrosa e Rúa Divina Pastora) e Conxunto Vocal Lugh 18:00 – 19:30 (3 pases de 25 min en Praza de Santo Domingo\, Rúa da Raíña e Fondo da Praza Maior)\n\n\n\nDomingo 21 de decembro: Coral Cantigas e Frores 12:00 – 13:30 (4 pases de 20 min en Rúa San Marcos\, Santo Domingo\, San Pedro con Rúa Progreso e Rúa da Raíña)\n\n\n\nLuns 22 de decembro: Cantar Delas 18:00 – 19:30 (3 pases de 25 min en Praza do Ferrol\, Rúa San Marcos e Praza de Santo Domingo)\, Coral Polifónica Xolda 18:00 – 19:30 (3 pases de 25 min en Rúa Menorca\, Praza da Milagrosa e Rúa Divina Pastora)\, Coral Ecos do Miño (ASTELU) 17:00 – 18:30 (4 pases de 20 min en Bispo Aguirre\, Fondo da Praza Maior\, Rúa da Raíña e San Pedro con Rúa do Progreso) e Orfeón Xoán Montes 18:30 – 20:00 (4 pases de 20 min en San Pedro con Rúa do Progreso\, Rúa da Raíña\, Fondo da Praza Maior e Bispo Aguirre)\n\nMartes 23 de decembro: Asociación Músico Vocal Xeada 11:30 – 13:00 (3 pases de 25 min en Mercado de Quiroga Ballesteros)\, Coral Lucus Terra 11:30 – 13:00 (4 pases de 20 min en Rúa San Marcos\, Santo Domingo\, San Pedro con Rúa Progreso e Rúa da Raíña) e Coral Cantigas e Frores 19:30 – 21:00 (4 pases de 20 min en Santo Domingo\, Armañá con Conde Pallares\, Fondo da Praza Maior e Rúa da Raíña)\n\nSábado 27 de decembro: Coro do Hospital de Lugo 12:00 – 13:30 (4 pases de 20 min en Quiroga Ballesteros\, Armañá con Conde Pallares\, Fondo Praza Maior e Diante do Concello) e Orfeón Lucense 20:00 – 21:30 (4 pases de 20 min en San Pedro con Rúa Progreso\, Rúa da Raíña\, Fondo Praza Maior e Praza do Campo)\n\nLuns 29 de decembro: Orfeón Xoán Montes 17:00 – 18:30 (4 pases de 20 min en Quiroga Ballesteros\, Armañá con Conde Pallares\, Fondo Praza Maior e Diante do Concello)\, Coral Ecos do Miño 18:30 – 20:00 (4 pases de 20 min en Diante do Concello\, Rúa da Raíña\, Rúa San Pedro con Rúa do Progreso e Santo Domingo) e Orfeón Lucense 20:00 – 21:30 (4 pases de 20 min en Santo Domingo\, Rúa da Raíña\, Conde Pallares con Dr Castro e Praza do Campo)\n\nMartes 30 de decembro: Asociación Músico Vocal Xeada 11:30 – 13:00 (3 pases de 25 min en Mercado de Quiroga Ballesteros) e Conxunto Vocal Lugh 18:00 – 19:30 (3 pases de 25 min en Fondo da Praza Maior\, Rúa da Raíña e Rúa San Pedro con Rúa do Progreso)\n\nSábado 3 de xaneiro: Coro Xuvenil de Lugo 12:00 – 13:30 (4 pases de 20 min en Quiroga Ballesteros\, Armañá con Conde Pallares\, Fondo Praza Maior e Diante do Concello)\n\nDomingo 4 de xaneiro: Coro Xuvenil de Lugo 12:00 – 13:30 (4 pases de 20 min en Rúa San Marcos\, Santo Domingo\, San Pedro con Rúa Progreso e Rúa da Raíña)
URL:https://vivalugo.es/evento/corais-recinto-historico-lugo/
LOCATION:Lugo
CATEGORIES:Conciertos
ATTACH;FMTTYPE=image/jpeg:https://vivalugo.es/wp-content/uploads/2025/12/corais-nadal-2025.jpg
END:VEVENT
BEGIN:VEVENT
DTSTART;VALUE=DATE:20251220
DTEND;VALUE=DATE:20251222
DTSTAMP:20260419T175952
CREATED:20251211T152531Z
LAST-MODIFIED:20251216T161509Z
UID:97749-1766188800-1766361599@vivalugo.es
SUMMARY:Festa de Nadal na Praza de Augas Férreas
DESCRIPTION:Festa de Nadal na Praza de Augas Férreas \n20-21 de Decembro de 2025 – baixo carpa por se o tempo non acompaña. Todas as actividades son gratuítas. \n \nContacontos\, obradoiros\, a visita de Papa Noel\, DJ\, chocolatada\, sorpresas\, firma de libros\, aventuras musicais\, xogos… TODO PARA UNHA FIN DE SEMANA EN FAMILIA \nO VENRES 19 na escola @kidsandus_lugo con dous grandes momentos\, un para peques de 0-2 e outro para 3-8 \nE na praza… dende o SÁBADO 20 ás 12:00h: \nContacontos e obradoiros con @profealba_infantil\nPola tarde firma de libros con @anameilan_ e a visita de Papa Noel\nChocolatada para os peques\nMúsica e baile con DJ\nE moito máis… \nE DOMINGO 21\, outro día de conto xunto a @profealba_infantil e millóns de sorpresiñas \nA libraría @libreria_sonosdepapel viaxará a praza para que os libriños poidan chegar as vosas casiñas esta Nadal!
URL:https://vivalugo.es/evento/festa-de-nadal-na-praza-de-augas-ferreas/
LOCATION:Lugo
CATEGORIES:Varios
ATTACH;FMTTYPE=image/jpeg:https://vivalugo.es/wp-content/uploads/2025/12/festa-nadal-augas-ferreas.jpg
END:VEVENT
BEGIN:VEVENT
DTSTART;VALUE=DATE:20251220
DTEND;VALUE=DATE:20251222
DTSTAMP:20260419T175952
CREATED:20251215T105856Z
LAST-MODIFIED:20251215T105856Z
UID:97903-1766188800-1766361599@vivalugo.es
SUMMARY:Xornadas "Poesía por un tubo"
DESCRIPTION:Xornadas «Poesía por un tubo» \nSábado 20 e domingo 21 de decembro de 2026 en «Arte e Parte. Laboratorio de creación Luz Darriba»
URL:https://vivalugo.es/evento/xornadas-poesia-por-un-tubo/
LOCATION:Arte e Parte\, Avda. da Coruña 67\, entrechán\, Lugo
CATEGORIES:Artes escénicas
ATTACH;FMTTYPE=image/jpeg:https://vivalugo.es/wp-content/uploads/2025/12/xornadas-poesia-por-un-tubo.jpg
END:VEVENT
BEGIN:VEVENT
DTSTART;TZID=Europe/Madrid:20251221T170000
DTEND;TZID=Europe/Madrid:20251221T170000
DTSTAMP:20260419T175952
CREATED:20251215T102255Z
LAST-MODIFIED:20251215T102255Z
UID:97870-1766336400-1766336400@vivalugo.es
SUMMARY:Gran Fiesta de Navidad Infantil en Sweet Lugo
DESCRIPTION:Gran Fiesta de Navidad Infantil en Sweet Lugo \n«Este domingo 21 de diciembre\, 17:00 horas\, la magia de la Navidad aterriza en Lugo.  \nTrae a tus peques a conocer a Papá Noel en persona\, entregarle su carta y disfrutar de una tarde llena de sorpresas con nuestros elfos\, música y juegos.  \n¡Incluye regalo para cada niño!» \nLugar: Sweet Night Lugo. Calle Avelino Pousa Antelo\, 8 (Parque Rosalía).
URL:https://vivalugo.es/evento/gran-fiesta-de-navidad-infantil-en-sweet-lugo/
LOCATION:Lugo
CATEGORIES:Artes escénicas
ATTACH;FMTTYPE=image/jpeg:https://vivalugo.es/wp-content/uploads/2025/12/gran-fiesta-navidad-infantil.jpg
END:VEVENT
BEGIN:VEVENT
DTSTART;TZID=Europe/Madrid:20251221T170000
DTEND;TZID=Europe/Madrid:20251221T170000
DTSTAMP:20260419T175952
CREATED:20251215T172133Z
LAST-MODIFIED:20251215T172133Z
UID:97981-1766336400-1766336400@vivalugo.es
SUMMARY:Nadal 2025 - “O enigma de Lucus Augusti”
DESCRIPTION:Nadal 2025 – “O enigma de Lucus Augusti” \n«Días: domingos 21\, 28 de decembro e 4 de xaneiro.\nHora: de 17:00h a 19:30h.\nLugar: Sala de Exposicións Porta Miñá.\nNON inscrición.\nMaterial: o teu bolígrafo ou lapis preferido\, e moitas ganas de pasalo ben.\nApto para todo tipo de público\, nenos\, familias\, adolescentes\, 3ª Idade … único requisito ter ganas de pasalo ben.\nRegras básicas: menores acompañados de adultos. Non correr nin gritar; non tocar os restos arqueolóxicos. Preguntar calquera dúbida ao persoal.\nValentes esperamos vervos por @museoslugo e que aceptedes o reto de Nadal.»
URL:https://vivalugo.es/evento/nadal-2025-o-enigma-de-lucus-augusti/
LOCATION:Lugo
CATEGORIES:Artes escénicas
ATTACH;FMTTYPE=image/jpeg:https://vivalugo.es/wp-content/uploads/2025/12/nadal-en-museos-lugo.jpg
END:VEVENT
BEGIN:VEVENT
DTSTART;TZID=Europe/Madrid:20251221T193000
DTEND;TZID=Europe/Madrid:20251221T193000
DTSTAMP:20260419T175952
CREATED:20251215T085106Z
LAST-MODIFIED:20251215T085106Z
UID:97837-1766345400-1766345400@vivalugo.es
SUMMARY:Concerto de Nadal Orquestra Terra Nova
DESCRIPTION:Concerto de Nadal Orquestra Terra Nova \n21 de decembro de 2025 – 19:30 horas – Auditorio Municipal Fuxan os Ventos. \nSuite do Quebranoces\, Capricho Español e algunha sorpresa. \nEntradas: Kadelica
URL:https://vivalugo.es/evento/concerto-de-nadal-orquestra-terra-nova/
LOCATION:Auditorio Municipal Fuxan os Ventos\, Rúa Madanela\, LUGO\, Lugo\, 27002\, Spain
CATEGORIES:Conciertos
ATTACH;FMTTYPE=image/jpeg:https://vivalugo.es/wp-content/uploads/2025/12/concerto-nadal-terra-nova.jpg
END:VEVENT
END:VCALENDAR