BEGIN:VCALENDAR
VERSION:2.0
PRODID:-//VivaLugo - ECPv6.15.13.1//NONSGML v1.0//EN
CALSCALE:GREGORIAN
METHOD:PUBLISH
X-ORIGINAL-URL:https://vivalugo.es
X-WR-CALDESC:Eventos para VivaLugo
REFRESH-INTERVAL;VALUE=DURATION:PT1H
X-Robots-Tag:noindex
X-PUBLISHED-TTL:PT1H
BEGIN:VTIMEZONE
TZID:Europe/Madrid
BEGIN:DAYLIGHT
TZOFFSETFROM:+0100
TZOFFSETTO:+0200
TZNAME:CEST
DTSTART:20240331T010000
END:DAYLIGHT
BEGIN:STANDARD
TZOFFSETFROM:+0200
TZOFFSETTO:+0100
TZNAME:CET
DTSTART:20241027T010000
END:STANDARD
BEGIN:DAYLIGHT
TZOFFSETFROM:+0100
TZOFFSETTO:+0200
TZNAME:CEST
DTSTART:20250330T010000
END:DAYLIGHT
BEGIN:STANDARD
TZOFFSETFROM:+0200
TZOFFSETTO:+0100
TZNAME:CET
DTSTART:20251026T010000
END:STANDARD
BEGIN:DAYLIGHT
TZOFFSETFROM:+0100
TZOFFSETTO:+0200
TZNAME:CEST
DTSTART:20260329T010000
END:DAYLIGHT
BEGIN:STANDARD
TZOFFSETFROM:+0200
TZOFFSETTO:+0100
TZNAME:CET
DTSTART:20261025T010000
END:STANDARD
BEGIN:DAYLIGHT
TZOFFSETFROM:+0100
TZOFFSETTO:+0200
TZNAME:CEST
DTSTART:20270328T010000
END:DAYLIGHT
BEGIN:STANDARD
TZOFFSETFROM:+0200
TZOFFSETTO:+0100
TZNAME:CET
DTSTART:20271031T010000
END:STANDARD
END:VTIMEZONE
BEGIN:VEVENT
DTSTART;VALUE=DATE:20251205
DTEND;VALUE=DATE:20260106
DTSTAMP:20260419T175941
CREATED:20251204T123732Z
LAST-MODIFIED:20251204T123943Z
UID:97497-1764892800-1767657599@vivalugo.es
SUMMARY:Mercado de Nadal “Nadalmente Lucense” 2025
DESCRIPTION:Mercado de Nadal “Nadalmente Lucense” 2025\nNa Praza Maior de Lugo entre o 5 de decembro e o 5 de xaneiro. O mercado\, que funcionará en horario de mañá e tarde -agás os días 24 e 31\, cando abrirá só pola mañá\, e os días 25 e 1\, que permanecerá pechado- contará cunha ampla programación de actividades: \nINAUGURACIÓN MERCADO DE NADAL “NADALMENTE LUCENSE”\n5 de Diciembre 2025. Praza Maior \n17:00 a 21:00h Recepción del Señor y la Señora Claus\n17:30 a 20:30h Navidad a todo ritmo (peque disco)\n18:00 h: Gran chocolatada (hasta fin de existencias)\n19:00 h: Historias de Laponia con la Señora Claus. \nO FOGAR DO SANTA (Recepción Sr y Sra Claus)\nHorario: 11:00 a 14:30 y de 16:30 a 21:00h Día 24D solo en horario de mañana \n– Recepción del Señor Claus: 6 – 7 – 8 – 13 – 15 – 20 – 22- 23 – 24 Diciembre 2025 \n– Recepción de la Sra Claus: 6 – 14 – 21- 23 Diciembre 2025 \nOASIS DE BEN ALÍ\nHorario: 11:00 a 14:30 y de 16:30 a 21:00h Día 5E solo en horario de mañana \n– Recepción Emisario Real: 2-3-4-5 de Enero 2026 \nA PEQUENA FÁBRICA DE OBRADOIROS DE NADAL\nFechas: 6-7-8-13-21-23-27-28-29-30-31de Diciembre de 2025 y 3- 5 enero 2026 \nHorario: 16:30 a 18:30h \nEl día 31 de Diciembre en horario de 11:00 a 12:30h \nA PEQUENA FÁBRICA DE XOGOS\nFechas: 6-7-8-14-20-22-23-27-28-29-30 de Diciembre de 2025 y 4 de Enero de\n2026 \nEn horario de 19:00 a 21:00h \nEl día 31 de Diciembre en horario de 13:00 a 14:30h \nSEGUINDO ÁS ESTRELAS\n– A MAXIA DE NADAL con el mago Roberto Lolo \nFechas: 6-13 y 27 de Diciembre\nHorario: 18:00 a 20:00h\nPases cada 20 min. \n– ELFILANDIA (Contacontos) \nFecha: 22 de Diciembre de 2025\nHorario: 17:00 a 20:00h\nPases: Cada 30 mim \n– LA SEÑORA CLAUS Y LOS ABRAZOS DE NIEVE \nFecha: 23 de Diciembre de 2025\nHorario: 19:00 a 20:30h\nPases cada 30 min. \n– TRAVESURAS DE REYES (Contacontos)\nFecha: 2 de Enero de 2026 Horario: 17:00 a 20:00h\nPases: Cada 30 mim \nDEGUSTACIÓN DE CHOCOLATE\nFechas: Sábado 13 – 20 – 27 de Diciembre de 2025 y 3 de Enero de 2026\nHorario: 18:00h\nHasta fin de existencias \nEXHIBICIONES\nMAGIE DANCE: 14de Diciembre de 2025 – 17:00h\nVICTORIA GIL: 20 de Diciembre de 2025 – 12:30h\nGRAVITTY: 21 de Diciembre de 2025 – 16:30h\nESCUELA GUITARRA CIRCULO DE LAS ARTES: 23 Diciembre de 2025 – 13:30h\nSTART DANCE: 23 de Diciembre de 2025 – 16:30h\nRITMO LUGO: 3 de Enero de 2026 -17:00h.
URL:https://vivalugo.es/evento/mercado-de-nadal-nadalmente-lucense-2025/
LOCATION:Lugo
ATTACH;FMTTYPE=image/jpeg:https://vivalugo.es/wp-content/uploads/2025/12/mercado-nadalmente-lucense-2025.jpg
END:VEVENT
BEGIN:VEVENT
DTSTART;TZID=Europe/Madrid:20251205T163000
DTEND;TZID=Europe/Madrid:20260104T203000
DTSTAMP:20260419T175941
CREATED:20251202T185207Z
LAST-MODIFIED:20251202T185207Z
UID:97472-1764952200-1767558600@vivalugo.es
SUMMARY:Xuvenlugo 2025
DESCRIPTION:Xuvenlugo 2025\nAtraccións\, xogos\, inchables\, talleres\, sorteos… \n\n\nDatas e Horarios:\n\nDo 5 ao 8 de decembro 2025\nDo 12 ao 14 de decembro 2025\nDo 19 ao 23 de decembro 2025\nDo 26 ao 30 de decembro 2025\nDo 1 ao 4 de xaneiro h. 2026\n\n\n\nDe 16:30 a 20:30 horas\nDías sen Ruído:\n\n6\, 21\, 26\, 29 de decembro 2025 e 1 e 4 de xaneiro 2026\n\nDurante estas xornadas\, dende as 18:30 ata as 20:30\, reducirase o volume da música e controlarase a sonoridade do recinto para que os nenos e nenas con TEA\, hipersensibilidade sensorial ou calquera outra condición poidan participar de xeito activo.\n\n\n\n\nDatas Especiais:\n\nVisita de Papá Noel: 23 de decembro\n\nVisita da Paxe Real: 4 de xaneiro\n\nLugar: Pazo de Feiras e Congresos de Lugo.\nEntradas e TODA A INFORMACIÓN: na web oficial de Xuvenlugo https://xuvenlugo.com
URL:https://vivalugo.es/evento/xuvenlugo-2025/
LOCATION:Pazo de Feiras e Congresos\, Lugo\, Spain
CATEGORIES:Varios
ATTACH;FMTTYPE=image/jpeg:https://vivalugo.es/wp-content/uploads/2025/12/xuvenlugo-2025.jpg
END:VEVENT
BEGIN:VEVENT
DTSTART;VALUE=DATE:20251212
DTEND;VALUE=DATE:20260107
DTSTAMP:20260419T175941
CREATED:20251212T102158Z
LAST-MODIFIED:20251212T102238Z
UID:97795-1765497600-1767743999@vivalugo.es
SUMMARY:Pista de Xeo na Praza da Milagrosa
DESCRIPTION:Pista de Xeo na Praza da Milagrosa \nHorario escolar: \nLuns a venres de 16:30 a 22:00 \nSábado e domingo 11:00 a 14:00 e 16:30 a 23:00 \nHorario vacacional: \nLuns a domingo de 11:00 a 23:00 \nPrezo: 8€ \nFamilia numerosa: 6€
URL:https://vivalugo.es/evento/pista-de-xeo-na-praza-da-milagrosa/
LOCATION:Lugo
CATEGORIES:Varios
ATTACH;FMTTYPE=image/jpeg:https://vivalugo.es/wp-content/uploads/2025/12/pista-xeo-praza-milagrosa.jpg
END:VEVENT
BEGIN:VEVENT
DTSTART;VALUE=DATE:20251215
DTEND;VALUE=DATE:20251224
DTSTAMP:20260419T175941
CREATED:20251215T154526Z
LAST-MODIFIED:20251215T154526Z
UID:97924-1765756800-1766534399@vivalugo.es
SUMMARY:Corais polo recinto histórico de Lugo
DESCRIPTION:Corais polo recinto histórico de Lugo\n\nLuns 15 de decembro: Cantar Delas 18:00 – 19:30 (3 pases de 25 min en San Pedro con Rúa do Progreso\, Rúa da Raíña e Fondo da Praza Maior) e Coral Polifónica Xolda 18:00 – 19:30 (3 pases de 25 min en San Marcos\, Praza de Santo Domingo e San Pedro con Rúa Progreso)\n\n\n\nMércores 17 de decembro: Schola Gregoriana 18:00 – 19:30 (3 pases de 25 min en Praza de Santo Domingo\, San Pedro con Rúa Progreso e Rúa da Raíña)\n\n\n\nXoves 18 de decembro: Schola Gregoriana 18:00 – 19:30 (3 pases de 25 min en Armañá con Conde Pallares\, Fondo da Praza Maior e Bispo Aguirre)\, Coro do Hospital de Lugo 18:00 – 19:30 (4 pases de 20 min en Praza do Ferrol\, San Marcos\, Santo Domingo e Rúa da Raíña) e Xove Coro de Lugo 18:00 – 19:30 (4 pases de 20 min en Rúa Menorca\, Praza da Milagrosa\, Rúa Divina Pastora e Praza da Milagrosa)\n\n\n\nVenres 19 de decembro: Coral Lucus Terra 11:30 – 13:00 (4 pases de 20 min en Quiroga Ballesteros\, Armañá con Conde Pallares\, Fondo Praza Maior e Diante do Concello) e Sólo Voces 20:00 – 21:30 (4 pases de 20 min en San Pedro con Rúa Progreso\, Rúa da Raíña\, Fondo Praza Maior e Praza do Campo)\n\n\n\nSábado 20 de decembro: Sólo Voces 12:00 – 13:30 (3 pases de 25 min en Rúa Menorca\, Praza da Milagrosa e Rúa Divina Pastora) e Conxunto Vocal Lugh 18:00 – 19:30 (3 pases de 25 min en Praza de Santo Domingo\, Rúa da Raíña e Fondo da Praza Maior)\n\n\n\nDomingo 21 de decembro: Coral Cantigas e Frores 12:00 – 13:30 (4 pases de 20 min en Rúa San Marcos\, Santo Domingo\, San Pedro con Rúa Progreso e Rúa da Raíña)\n\n\n\nLuns 22 de decembro: Cantar Delas 18:00 – 19:30 (3 pases de 25 min en Praza do Ferrol\, Rúa San Marcos e Praza de Santo Domingo)\, Coral Polifónica Xolda 18:00 – 19:30 (3 pases de 25 min en Rúa Menorca\, Praza da Milagrosa e Rúa Divina Pastora)\, Coral Ecos do Miño (ASTELU) 17:00 – 18:30 (4 pases de 20 min en Bispo Aguirre\, Fondo da Praza Maior\, Rúa da Raíña e San Pedro con Rúa do Progreso) e Orfeón Xoán Montes 18:30 – 20:00 (4 pases de 20 min en San Pedro con Rúa do Progreso\, Rúa da Raíña\, Fondo da Praza Maior e Bispo Aguirre)\n\nMartes 23 de decembro: Asociación Músico Vocal Xeada 11:30 – 13:00 (3 pases de 25 min en Mercado de Quiroga Ballesteros)\, Coral Lucus Terra 11:30 – 13:00 (4 pases de 20 min en Rúa San Marcos\, Santo Domingo\, San Pedro con Rúa Progreso e Rúa da Raíña) e Coral Cantigas e Frores 19:30 – 21:00 (4 pases de 20 min en Santo Domingo\, Armañá con Conde Pallares\, Fondo da Praza Maior e Rúa da Raíña)\n\nSábado 27 de decembro: Coro do Hospital de Lugo 12:00 – 13:30 (4 pases de 20 min en Quiroga Ballesteros\, Armañá con Conde Pallares\, Fondo Praza Maior e Diante do Concello) e Orfeón Lucense 20:00 – 21:30 (4 pases de 20 min en San Pedro con Rúa Progreso\, Rúa da Raíña\, Fondo Praza Maior e Praza do Campo)\n\nLuns 29 de decembro: Orfeón Xoán Montes 17:00 – 18:30 (4 pases de 20 min en Quiroga Ballesteros\, Armañá con Conde Pallares\, Fondo Praza Maior e Diante do Concello)\, Coral Ecos do Miño 18:30 – 20:00 (4 pases de 20 min en Diante do Concello\, Rúa da Raíña\, Rúa San Pedro con Rúa do Progreso e Santo Domingo) e Orfeón Lucense 20:00 – 21:30 (4 pases de 20 min en Santo Domingo\, Rúa da Raíña\, Conde Pallares con Dr Castro e Praza do Campo)\n\nMartes 30 de decembro: Asociación Músico Vocal Xeada 11:30 – 13:00 (3 pases de 25 min en Mercado de Quiroga Ballesteros) e Conxunto Vocal Lugh 18:00 – 19:30 (3 pases de 25 min en Fondo da Praza Maior\, Rúa da Raíña e Rúa San Pedro con Rúa do Progreso)\n\nSábado 3 de xaneiro: Coro Xuvenil de Lugo 12:00 – 13:30 (4 pases de 20 min en Quiroga Ballesteros\, Armañá con Conde Pallares\, Fondo Praza Maior e Diante do Concello)\n\nDomingo 4 de xaneiro: Coro Xuvenil de Lugo 12:00 – 13:30 (4 pases de 20 min en Rúa San Marcos\, Santo Domingo\, San Pedro con Rúa Progreso e Rúa da Raíña)
URL:https://vivalugo.es/evento/corais-recinto-historico-lugo/
LOCATION:Lugo
CATEGORIES:Conciertos
ATTACH;FMTTYPE=image/jpeg:https://vivalugo.es/wp-content/uploads/2025/12/corais-nadal-2025.jpg
END:VEVENT
BEGIN:VEVENT
DTSTART;TZID=Europe/Madrid:20251223T110000
DTEND;TZID=Europe/Madrid:20251223T110000
DTSTAMP:20260419T175941
CREATED:20251201T145536Z
LAST-MODIFIED:20251201T145536Z
UID:97316-1766487600-1766487600@vivalugo.es
SUMMARY:Obradoiro "Mariquiñas Articuladas"
DESCRIPTION:Obradoiro «Mariquiñas Articuladas»\nViaxa ao pasado inspirándote nas bonecas gregas e romanas. \nNeste obradoiro de dúas sesións\, modelaremos a nosa propia versión en barro\, preparando as articulacións para despois decoralas e montalas. \n\n\nDatas: 23 e 26 de decembro (é necesario asistir aos dous días). \n\n\nHorario: De 11:00 a 13:30 h. \n\n\nLugar: Museo Provincial de Lugo \n\n\nPrazas: Máximo 20 participantes. \n\n\nIdade recomendada: Maiores de 14 anos. \n\n\nPara reservar a túa praza ou solicitar máis información\, contacta no seguinte correo concertacionsrmp@gmail.com
URL:https://vivalugo.es/evento/obradoiro-mariquinas-articuladas/
LOCATION:Museo Provincial de Lugo\, Praza da Soidade\, s/n\, Lugo\, 27001
CATEGORIES:Cursos
END:VEVENT
BEGIN:VEVENT
DTSTART;TZID=Europe/Madrid:20251223T110000
DTEND;TZID=Europe/Madrid:20251223T110000
DTSTAMP:20260419T175941
CREATED:20251215T103341Z
LAST-MODIFIED:20251215T103341Z
UID:97876-1766487600-1766487600@vivalugo.es
SUMMARY:Obradoiro de Nadal en Afundación Lugo
DESCRIPTION:Obradoiro de Nadal en Afundación Lugo \nDATAS: 23 e 30 de decembro \nHORARIOS: de 11:00 a 13:00 h \nAFORO MAX.: 15 nen@s \nIDADES: de 4 a 10 anos \nEntradas: Ataquilla \nEste nadal\, non te perdas os talleres de nadal nas Sedes de Afundación\, a Obra Social de ABANCA\, onde as artes e a robótica daranse cita para pasar unha xornada chea de cor e maxia.
URL:https://vivalugo.es/evento/obradoiro-de-nadal-en-afundacion-lugo/
LOCATION:Afundación\, Praza Maior\, 16\, Lugo\, Lugo\, 27001\, Spain
CATEGORIES:Cursos
END:VEVENT
BEGIN:VEVENT
DTSTART;TZID=Europe/Madrid:20251223T160000
DTEND;TZID=Europe/Madrid:20251223T160000
DTSTAMP:20260419T175941
CREATED:20251215T083735Z
LAST-MODIFIED:20251215T083735Z
UID:97825-1766505600-1766505600@vivalugo.es
SUMMARY:Guido Guía especial Nadal - "A senda do Fervedoira"
DESCRIPTION:Guido Guía especial Nadal – «A senda do Fervedoira» \n23 de decembro de 2025 \n16:00 horas \n+ info e inscricións: guidoguiaturismo@gmail.com
URL:https://vivalugo.es/evento/guido-guia-especial-nadal-a-senda-do-fervedoira/
LOCATION:Lugo
CATEGORIES:Varios
ATTACH;FMTTYPE=image/jpeg:https://vivalugo.es/wp-content/uploads/2025/12/guido-guia-especial-nadal.jpg
END:VEVENT
BEGIN:VEVENT
DTSTART;TZID=Europe/Madrid:20251223T180000
DTEND;TZID=Europe/Madrid:20251223T180000
DTSTAMP:20260419T175941
CREATED:20251222T160158Z
LAST-MODIFIED:20251222T160158Z
UID:98167-1766512800-1766512800@vivalugo.es
SUMMARY:Presentación do libro "O reiseñor poeta de Randulfe”
DESCRIPTION:O próximo martes\, 23\, ás 18\,00 h.\, vaise presentar no salón de actos da Biblioteca provincial “O reiseñor poeta de Randulfe”\, obra póstuma do xenetista Santiago Rodríguez sobre a obra de seu pai\, o escritor paradelense Manuel Rodríguez López. \nNa presentación intervirán: \n\na viuva e o fillo do autor (Mary Otero Rolle e Carlos Rodríguez Otero);\no escritor Mero Iglesias Dobarrio;\na alcaldesa de Paradela\, Montserrat Mulet;\no Secretario Xeral da Lingua\, Valentín García e\no Fillo Predilecto de Paradela\, Ángel Fernández.\n\nSantiago Rodríguez\nSantiago Rodríguez (Barcelona\, 1971)\, faleceu o pasado 19 de marzo do 2024 en Bristol (U.K.)\, sendo trasladados os seus restos a Paradela\, e soterrados no Panteón de paradelenses ilustres xunto aos de seu pai. \nO concello de Paradela\, que tiña nomeado a Manuel Rodríguez Fillo Predilecto\, acordou nomear a Santiago – destacado biólogo\, xenetista e escritor – a título póstumo\, Fillo Adoptivo do concello. \nSantiago Rodríguez dedicou importante esforzo a estudar\, codificar e divulgar a obra en prosa e verso de seu pai\, volcándose os últimos anos en traballar no estudo destes escritos nun traballo que quedou inédito ao seu pasamento\, sendo rescatado pola familia e os amigos para ser editado de xeito póstumo como lembranza e homenaxe a pai e fillo\, por parte do Concello de Paradela e a Xunta de Galicia. \nOs asistentes á presentación recibirán cadanseu exemplar do libro.
URL:https://vivalugo.es/evento/presentacion-do-libro-o-reisenor-poeta-de-randulfe/
LOCATION:Biblioteca Provincial de Lugo\, Avda Ramón Ferreiro\, Lugo
CATEGORIES:Presentaciones
END:VEVENT
BEGIN:VEVENT
DTSTART;TZID=Europe/Madrid:20251223T183000
DTEND;TZID=Europe/Madrid:20251223T183000
DTSTAMP:20260419T175941
CREATED:20251222T160503Z
LAST-MODIFIED:20251223T121853Z
UID:98169-1766514600-1766514600@vivalugo.es
SUMMARY:Presentación da Revista de Creación Poética Xistral
DESCRIPTION:Presentación da Revista de Creación Poética Xistral\n23 de decembro de 2025 \nSala de grupos do MIHL\, Lugo \n18:30 horas \nRevistra Xistral\nFoi creada por Manuel María no ano 1949\, cando tiña 21 anos e aínda non publicara Muiñeiro de Brétemas (1950). \nUn proxecto de xuventude que fundou en compañía do seu amigo Manuel Antonio Sopena no que o autor chairego publicou os seus primeiros versos. \nTan só deron sacado dous números en edición bilingüe; aínda así\, neses dous números chegaron a publicar\, ademais de Manuel María\, autores da talla de Cunqueiro\, Pimentel e Aquilino Iglesia Alvariño. \nDespois de medio século de silencio\, no ano 2000\, o Concello de Lugo recuperou a idea\ne puxo a andar de novo a Revista Xistral co subtítulo de Revista Lucense de Creación\nPoética. \nO propio Manuel María autorizou esta renacenza e\, mesmo\, chegou a escribir un texto de presentación para o número 3\, número co que se iniciaba a segunda etapa desta revista. \nSerá Camilo Gómez Torres (alumno primeiro e\, andado o tempo\, amigo persoal do poeta de Outeiro de Rei) quen se faga cargo da coordinación desta e das sucesivas edicións\, dende a número 3 ata a número 20\, converténdose no verdadeiro mantedor e dinamizador desta publicación. Realizou un traballo ímprobo con absoluta discreción\, dándolle á revista unha personalidade singular. \nPero\, no ano 2017\, Gómez Torres pediu o relevo e o número 21 sae baixo a coordinación de Toño Núñez\, quen non tivo máis ca darlle continuidade a un proxecto totalmente consolidado. \nO Consello de Redacción desta publicación está integrado por Marica Campo\, Claudio Rodríguez Fer\, Olga Novo e a Concelleira de Cultura\, nos dous últimos números\, Maite Ferreiro. \nXistral é unha revista de poesía cun denominador común: a diversidade. \nPoetas\, homes e mulleres\, de todas as idades e con moi diferentes traxectorias poéticas e vitais; dende poetas consagrados/as ata outros/as que comezan a dar os seus primeiros pasos na creación poética. \nDiversidade\, igualmente\, na temática\, no estilo\, na forma\, nas distintas variedades do galego… \nEste número 26 inclúe achegas de 101 poetas. \nA maioría son poetas da provincia de Lugo\, pero tamén colaboran poetas de toda Galicia e doutros lugares\, mesmo un poeta ruso que escribe en galego. \nAdemais\, conta con ilustracións de Jesús Alfonso Parada Jato e María Xosé Rodríguez García.
URL:https://vivalugo.es/evento/presentacion-da-revista-de-creacion-poetica-xistral/
LOCATION:MIHL\, Av Infanta Elena\, s/n\, Lugo
CATEGORIES:Presentaciones
ATTACH;FMTTYPE=image/jpeg:https://vivalugo.es/wp-content/uploads/2025/12/presentacion-revista-creacion-poetica-xistral.jpg
END:VEVENT
BEGIN:VEVENT
DTSTART;TZID=Europe/Madrid:20251223T203000
DTEND;TZID=Europe/Madrid:20251223T203000
DTSTAMP:20260419T175941
CREATED:20251215T103745Z
LAST-MODIFIED:20251215T103745Z
UID:97880-1766521800-1766521800@vivalugo.es
SUMMARY:Humor "ESFÍNTER 5"
DESCRIPTION:Humor «ESFÍNTER 5» \nAuditorio Fuxan os Ventos | Lugo \n\n23 de Decembro de 2025 – 20:30 horas \n«Volve o Nadal\, volve ESFÍNTER: Un espectáculo para pechar o ano! Javier Veiga\, David Amor e Rober Bodegas anuncian o seu esperado regreso aos escenarios de toda Galicia con ESFÍNTER 5\, o reencontro de amigos que xa é unha das tradicións máis esperadas do nadal galego\, á altura da chegada do Apalpador\, Noiteboa ou a iluminación das luces de Vigo. E non o dicimos só nós\, dino as miles de persoas que ano a ano reúnense cos nosos protagonistas nos teatros galegos para celebrar estas datas tan sinaladas! \nE é que como dixo Mariah Carey\, All I want for Christmas is ESFÍNTER 5. O mellor espectáculo ao que podes acudir cos teus máis amantes achegados e\, como os nosos protagonistas\, ter unha escusa para cear xuntos nunhas datas tan sinaladas! 90 minutos de puro humor por parte de tres dos humoristas máis recoñecidos da nosa terra\, que volven como o turrón para xuntarse co público galego. \nVémonos en decembro? Como cada ano\, repetímolo: Mentres o público queira\, seguiremos gozando destas sinaladas festas na compañía de Javi\, David e Rober!» \nEntradas: Ataquilla
URL:https://vivalugo.es/evento/humor-esfinter-5/
LOCATION:Auditorio Municipal Fuxan os Ventos\, Rúa Madanela\, LUGO\, Lugo\, 27002\, Spain
CATEGORIES:Artes escénicas
ATTACH;FMTTYPE=image/jpeg:https://vivalugo.es/wp-content/uploads/2025/12/humor-esfinter-5.jpg
END:VEVENT
BEGIN:VEVENT
DTSTART;TZID=Europe/Madrid:20251223T220000
DTEND;TZID=Europe/Madrid:20251223T220000
DTSTAMP:20260419T175941
CREATED:20251202T181644Z
LAST-MODIFIED:20251202T181644Z
UID:97451-1766527200-1766527200@vivalugo.es
SUMMARY:Gala benéfica de teatro improvisado "Cris contra el cáncer"
DESCRIPTION:Gala benéfica de teatro improvisado «Cris contra el cáncer» \nMartes 23 de decembro de 2025 \n22:00 horas \nClub Clavicémbalo de Lugo
URL:https://vivalugo.es/evento/gala-benefica-de-teatro-improvisado-cris-contra-el-cancer/
LOCATION:Club Clavicémbalo\, Rúa dos Paxariños\, 23\, Lugo\, Lugo\, 27002\, Spain
CATEGORIES:Artes escénicas
ATTACH;FMTTYPE=image/jpeg:https://vivalugo.es/wp-content/uploads/2025/12/gala-benefica-teatro-improvisado.jpeg
END:VEVENT
END:VCALENDAR