BEGIN:VCALENDAR
VERSION:2.0
PRODID:-//VivaLugo - ECPv6.15.13.1//NONSGML v1.0//EN
CALSCALE:GREGORIAN
METHOD:PUBLISH
X-WR-CALNAME:VivaLugo
X-ORIGINAL-URL:https://vivalugo.es
X-WR-CALDESC:Eventos para VivaLugo
REFRESH-INTERVAL;VALUE=DURATION:PT1H
X-Robots-Tag:noindex
X-PUBLISHED-TTL:PT1H
BEGIN:VTIMEZONE
TZID:Europe/Madrid
BEGIN:DAYLIGHT
TZOFFSETFROM:+0100
TZOFFSETTO:+0200
TZNAME:CEST
DTSTART:20240331T010000
END:DAYLIGHT
BEGIN:STANDARD
TZOFFSETFROM:+0200
TZOFFSETTO:+0100
TZNAME:CET
DTSTART:20241027T010000
END:STANDARD
BEGIN:DAYLIGHT
TZOFFSETFROM:+0100
TZOFFSETTO:+0200
TZNAME:CEST
DTSTART:20250330T010000
END:DAYLIGHT
BEGIN:STANDARD
TZOFFSETFROM:+0200
TZOFFSETTO:+0100
TZNAME:CET
DTSTART:20251026T010000
END:STANDARD
BEGIN:DAYLIGHT
TZOFFSETFROM:+0100
TZOFFSETTO:+0200
TZNAME:CEST
DTSTART:20260329T010000
END:DAYLIGHT
BEGIN:STANDARD
TZOFFSETFROM:+0200
TZOFFSETTO:+0100
TZNAME:CET
DTSTART:20261025T010000
END:STANDARD
BEGIN:DAYLIGHT
TZOFFSETFROM:+0100
TZOFFSETTO:+0200
TZNAME:CEST
DTSTART:20270328T010000
END:DAYLIGHT
BEGIN:STANDARD
TZOFFSETFROM:+0200
TZOFFSETTO:+0100
TZNAME:CET
DTSTART:20271031T010000
END:STANDARD
END:VTIMEZONE
BEGIN:VEVENT
DTSTART;VALUE=DATE:20251205
DTEND;VALUE=DATE:20260106
DTSTAMP:20260419T180033
CREATED:20251204T123732Z
LAST-MODIFIED:20251204T123943Z
UID:97497-1764892800-1767657599@vivalugo.es
SUMMARY:Mercado de Nadal “Nadalmente Lucense” 2025
DESCRIPTION:Mercado de Nadal “Nadalmente Lucense” 2025\nNa Praza Maior de Lugo entre o 5 de decembro e o 5 de xaneiro. O mercado\, que funcionará en horario de mañá e tarde -agás os días 24 e 31\, cando abrirá só pola mañá\, e os días 25 e 1\, que permanecerá pechado- contará cunha ampla programación de actividades: \nINAUGURACIÓN MERCADO DE NADAL “NADALMENTE LUCENSE”\n5 de Diciembre 2025. Praza Maior \n17:00 a 21:00h Recepción del Señor y la Señora Claus\n17:30 a 20:30h Navidad a todo ritmo (peque disco)\n18:00 h: Gran chocolatada (hasta fin de existencias)\n19:00 h: Historias de Laponia con la Señora Claus. \nO FOGAR DO SANTA (Recepción Sr y Sra Claus)\nHorario: 11:00 a 14:30 y de 16:30 a 21:00h Día 24D solo en horario de mañana \n– Recepción del Señor Claus: 6 – 7 – 8 – 13 – 15 – 20 – 22- 23 – 24 Diciembre 2025 \n– Recepción de la Sra Claus: 6 – 14 – 21- 23 Diciembre 2025 \nOASIS DE BEN ALÍ\nHorario: 11:00 a 14:30 y de 16:30 a 21:00h Día 5E solo en horario de mañana \n– Recepción Emisario Real: 2-3-4-5 de Enero 2026 \nA PEQUENA FÁBRICA DE OBRADOIROS DE NADAL\nFechas: 6-7-8-13-21-23-27-28-29-30-31de Diciembre de 2025 y 3- 5 enero 2026 \nHorario: 16:30 a 18:30h \nEl día 31 de Diciembre en horario de 11:00 a 12:30h \nA PEQUENA FÁBRICA DE XOGOS\nFechas: 6-7-8-14-20-22-23-27-28-29-30 de Diciembre de 2025 y 4 de Enero de\n2026 \nEn horario de 19:00 a 21:00h \nEl día 31 de Diciembre en horario de 13:00 a 14:30h \nSEGUINDO ÁS ESTRELAS\n– A MAXIA DE NADAL con el mago Roberto Lolo \nFechas: 6-13 y 27 de Diciembre\nHorario: 18:00 a 20:00h\nPases cada 20 min. \n– ELFILANDIA (Contacontos) \nFecha: 22 de Diciembre de 2025\nHorario: 17:00 a 20:00h\nPases: Cada 30 mim \n– LA SEÑORA CLAUS Y LOS ABRAZOS DE NIEVE \nFecha: 23 de Diciembre de 2025\nHorario: 19:00 a 20:30h\nPases cada 30 min. \n– TRAVESURAS DE REYES (Contacontos)\nFecha: 2 de Enero de 2026 Horario: 17:00 a 20:00h\nPases: Cada 30 mim \nDEGUSTACIÓN DE CHOCOLATE\nFechas: Sábado 13 – 20 – 27 de Diciembre de 2025 y 3 de Enero de 2026\nHorario: 18:00h\nHasta fin de existencias \nEXHIBICIONES\nMAGIE DANCE: 14de Diciembre de 2025 – 17:00h\nVICTORIA GIL: 20 de Diciembre de 2025 – 12:30h\nGRAVITTY: 21 de Diciembre de 2025 – 16:30h\nESCUELA GUITARRA CIRCULO DE LAS ARTES: 23 Diciembre de 2025 – 13:30h\nSTART DANCE: 23 de Diciembre de 2025 – 16:30h\nRITMO LUGO: 3 de Enero de 2026 -17:00h.
URL:https://vivalugo.es/evento/mercado-de-nadal-nadalmente-lucense-2025/
LOCATION:Lugo
ATTACH;FMTTYPE=image/jpeg:https://vivalugo.es/wp-content/uploads/2025/12/mercado-nadalmente-lucense-2025.jpg
END:VEVENT
BEGIN:VEVENT
DTSTART;TZID=Europe/Madrid:20251205T163000
DTEND;TZID=Europe/Madrid:20260104T203000
DTSTAMP:20260419T180033
CREATED:20251202T185207Z
LAST-MODIFIED:20251202T185207Z
UID:97472-1764952200-1767558600@vivalugo.es
SUMMARY:Xuvenlugo 2025
DESCRIPTION:Xuvenlugo 2025\nAtraccións\, xogos\, inchables\, talleres\, sorteos… \n\n\nDatas e Horarios:\n\nDo 5 ao 8 de decembro 2025\nDo 12 ao 14 de decembro 2025\nDo 19 ao 23 de decembro 2025\nDo 26 ao 30 de decembro 2025\nDo 1 ao 4 de xaneiro h. 2026\n\n\n\nDe 16:30 a 20:30 horas\nDías sen Ruído:\n\n6\, 21\, 26\, 29 de decembro 2025 e 1 e 4 de xaneiro 2026\n\nDurante estas xornadas\, dende as 18:30 ata as 20:30\, reducirase o volume da música e controlarase a sonoridade do recinto para que os nenos e nenas con TEA\, hipersensibilidade sensorial ou calquera outra condición poidan participar de xeito activo.\n\n\n\n\nDatas Especiais:\n\nVisita de Papá Noel: 23 de decembro\n\nVisita da Paxe Real: 4 de xaneiro\n\nLugar: Pazo de Feiras e Congresos de Lugo.\nEntradas e TODA A INFORMACIÓN: na web oficial de Xuvenlugo https://xuvenlugo.com
URL:https://vivalugo.es/evento/xuvenlugo-2025/
LOCATION:Pazo de Feiras e Congresos\, Lugo\, Spain
CATEGORIES:Varios
ATTACH;FMTTYPE=image/jpeg:https://vivalugo.es/wp-content/uploads/2025/12/xuvenlugo-2025.jpg
END:VEVENT
BEGIN:VEVENT
DTSTART;VALUE=DATE:20251212
DTEND;VALUE=DATE:20260107
DTSTAMP:20260419T180033
CREATED:20251212T102158Z
LAST-MODIFIED:20251212T102238Z
UID:97795-1765497600-1767743999@vivalugo.es
SUMMARY:Pista de Xeo na Praza da Milagrosa
DESCRIPTION:Pista de Xeo na Praza da Milagrosa \nHorario escolar: \nLuns a venres de 16:30 a 22:00 \nSábado e domingo 11:00 a 14:00 e 16:30 a 23:00 \nHorario vacacional: \nLuns a domingo de 11:00 a 23:00 \nPrezo: 8€ \nFamilia numerosa: 6€
URL:https://vivalugo.es/evento/pista-de-xeo-na-praza-da-milagrosa/
LOCATION:Lugo
CATEGORIES:Varios
ATTACH;FMTTYPE=image/jpeg:https://vivalugo.es/wp-content/uploads/2025/12/pista-xeo-praza-milagrosa.jpg
END:VEVENT
BEGIN:VEVENT
DTSTART;VALUE=DATE:20251226
DTEND;VALUE=DATE:20260107
DTSTAMP:20260419T180033
CREATED:20251226T113245Z
LAST-MODIFIED:20251226T113245Z
UID:98270-1766707200-1767743999@vivalugo.es
SUMMARY:Nadal na Milagrosa
DESCRIPTION:Nadal na Milagrosa
URL:https://vivalugo.es/evento/nadal-na-milagrosa/
LOCATION:Lugo
CATEGORIES:Varios
ATTACH;FMTTYPE=image/jpeg:https://vivalugo.es/wp-content/uploads/2025/12/nadal-na-milagrosa.jpg
END:VEVENT
BEGIN:VEVENT
DTSTART;TZID=Europe/Madrid:20251226T110000
DTEND;TZID=Europe/Madrid:20251226T110000
DTSTAMP:20260419T180033
CREATED:20251201T145721Z
LAST-MODIFIED:20251201T145808Z
UID:97319-1766746800-1766746800@vivalugo.es
SUMMARY:Obradoiro "Mariquiñas Articuladas" - Segunda sesión
DESCRIPTION:Obradoiro «Mariquiñas Articuladas» – Segunda sesión \nNeste obradoiro de dúas sesións\, modelaremos a nosa propia versión en barro\, preparando as articulacións para despois decoralas e montalas. \n\n\nDatas: 23 e 26 de decembro (é necesario asistir aos dous días). \n\n\nHorario: De 11:00 a 13:30 h. \n\n\nLugar: Museo Provincial de Lugo \n\n\nPrazas: Máximo 20 participantes. \n\n\nIdade recomendada: Maiores de 14 anos. \n\n\nPara reservar a túa praza ou solicitar máis información\, contacta no seguinte correo concertacionsrmp@gmail.com.
URL:https://vivalugo.es/evento/obradoiro-mariquinas-articuladas-segunda-sesion/
LOCATION:Museo Provincial de Lugo\, Praza da Soidade\, s/n\, Lugo\, 27001
CATEGORIES:Cursos
END:VEVENT
BEGIN:VEVENT
DTSTART;TZID=Europe/Madrid:20251226T170000
DTEND;TZID=Europe/Madrid:20251230T170000
DTSTAMP:20260419T180033
CREATED:20251215T171733Z
LAST-MODIFIED:20251215T171733Z
UID:97979-1766768400-1767114000@vivalugo.es
SUMMARY:(E ás 18:30) Medrando no Nadal 2025
DESCRIPTION:Medrando no Nadal 2025\nAuditorio Municipal Gustavo Freire \n\n– 26 de decembro ás 17:00 e ás 18.30. “O Ninho” da Cia Particulas elementares.\n\n\nRecomendada a partir de 3 anos\nDuración: 35 minutos \nSinopse: \n«Era una vez un niñito. Un niñito con un huevo. Un huevo muy redondito\, que tiene dentro un pajarito Nuevo» (Secreto – Miguel Torga). O ninho inspírase nun dos poemas máis sinxelos do escritor portugués Miguel Torga\, que nunhas poucas líñas desvela cómo un segredo ben gardado pode fortalecer unha amizade verdadeira. O ninho é un convite a valorar as cousas sinxelas da vida\, esas que non son complexas de entender e deben conservarse como as máis importantes. \n– 27 de decembro ás 17:00 e ás 18.30.“Un trozo de pan” de Cía. Les Pinyes.\nRecomendada a partir de 3 anos\nDuración: 40 minutos \nSinopse: \nTeño fame! Qué xantamos hoxe? Pensástedes algunha vez de onde ven o pan que temos na mesa? Cómo se cociñou? De onde veñen os ingredientes? Seguiremos a viaxe que fai un pan\, un sinxelo pan. Pouco a pouco descubriremos as respostas en forma de canción\, de debuxos\, de títeres e de maxia. Un trozo de pan é unha experiencia visual\, sensitiva e divertida para o público máis pequeno. Mans á masa! \n– 28 de decembro ás 17:00 e ás 18.30. “Comenoites” de Náufragos Teatro.\nRecomendada a partir de 2 anos\nDuración: 35 minutos \nSinopse: \nComenoites é unha bonita historia coa que os nenos e as nenas descubrirán o segredo de por que existen o día e a noite.\nComenoites é un trasgo regordete que come todo tipo de noites para que o Sol poida saír cada día\, traendo luz\, calor e cor para todos. Unha noite a súa amiga a Lúa coméntalle que se está a poñer gordinflón e Comenoites deixa de comer. Nunca volverá a saír o Sol!  Tan só unha estrela pode abrirlle novamente o apetito. Ti tes unha estrela? Volverá saír o Sol? \n– 29 de decembro ás 17:00 e ás 18.30. “Emociones de hojalata” de Mar Rojo Teatro.\nRecomendada entre os 12 meses e 6 anos\nDuración: 40 minutos \nSinopse: \nInma e Emma construiron un amigo á súa medida: o robot “Hojalata”. Todo está listo para a súa presentación\, pero falta por poñer a peza máis importante\, o corazón. “Hojalata” actívase\, e coa emoción sofre un cortocircuito. O diagnóstico é claro: o seu corazón non funciona\, porque ten as emocións feitas un lío! Inma e Emma porán orde nas súas emocións para que o pequeno corazón de “Hojalata” comece a latexar con normalidade\, e conseguir por fin ter ao seu lado a un novo amigo. \n– 30 de decembro ás 17:00 e ás 18.30. “Lumiero” de La menuda.\nRecomendada entre os 0 e 5 anos\nDuración: 40 minutos \nSinopse: \nLa Menuda estrea un novo espectáculo coa luz coma protagonista. Da man do colecionista de luz Lumiero (o paiaso Pere Hosta) e a súa filla Lumina (a bailarina e actriz Jana Noguera)\, o público descubrirá a maxia da penumbra e o fascinante universo de historias que se agochan nela. En Lumiero\, a compañía incorpora o teatro xestual á poesía visual\, a danza e a música en directo que configuran a súa esencia\, cercana e sensible para achegarse á primeira infancia con delicadeza. \nENTRADAS\nAs entradas para cada función terán un prezo simbólico de 3 euros \nTanto os menores como as persoas adultas deberán retirar entrada para acceder ao auditorio (cun aforo de 80 persoas por pase) \nPensando nas familias que desexen participar en varias propostas\, a área de Cultura ofrecerá un bono para cinco funcións por 10 euros\, dispoñible do 15 ao 20 de decembro. A partir do día 21 iniciará a venda das entradas individuais. \nhttps://entradaslugo.es/ \nAdemais\, con calquera das entradas será posible desfrutar previamente de “Un Mar de Xogos”\, unha instalación lúdica creada por Bico de Toupa que permanecerá aberta no propio auditorio entre as 16:00 e as 18:30 horas. \nProgramación do Nadal 2025–2026 en Lugo
URL:https://vivalugo.es/evento/e-as-1830-medrando-no-nadal-2025/
LOCATION:​Auditorio Municipal Gustavo Freire\, Parque da Milagrosa\, Avda. da Coruña\, s/n\, Lugo\, Lugo\, 27003\, Spain
CATEGORIES:Artes escénicas
ATTACH;FMTTYPE=image/jpeg:https://vivalugo.es/wp-content/uploads/2025/12/medrando-nadal-2025-lugo.jpg
END:VEVENT
BEGIN:VEVENT
DTSTART;TZID=Europe/Madrid:20251226T180000
DTEND;TZID=Europe/Madrid:20251226T180000
DTSTAMP:20260419T180033
CREATED:20251226T111525Z
LAST-MODIFIED:20251226T111539Z
UID:98250-1766772000-1766772000@vivalugo.es
SUMMARY:Contiños e xogos de nadal
DESCRIPTION:Contiños e xogos de nadal \nNa librería Soños de Papel de Lugo ás 18:00 horas: \n26 de DECEMBRO de 2025 \nContiños de Nadal + PREMIOS do concurso + Merenda + Panxoliñas \n30 de DECEMBRO\nContacontos EN PIXAMA + Festa de fin de ano + Campanadas + Merenda \n4 de XANEIRO\nContacontos “A folga dos camellos” + ROSCÓN de reis
URL:https://vivalugo.es/evento/continos-e-xogos-de-nadal/
LOCATION:Librería Soños de Papel\, Calle María Castaña\, Esq. Augas Ferreas\, Lugo\, 27002
CATEGORIES:Artes escénicas
ATTACH;FMTTYPE=image/jpeg:https://vivalugo.es/wp-content/uploads/2025/12/nadal-libreria-sonos-de-papel-lugo.jpg
END:VEVENT
BEGIN:VEVENT
DTSTART;TZID=Europe/Madrid:20251226T183000
DTEND;TZID=Europe/Madrid:20251226T183000
DTSTAMP:20260419T180033
CREATED:20251226T104145Z
LAST-MODIFIED:20251226T104145Z
UID:98223-1766773800-1766773800@vivalugo.es
SUMMARY:Visita guiada á mostra "Paseando cariñosas alimañas"
DESCRIPTION:Visita guiada á mostra «Paseando cariñosas alimañas» \nVenres 26 de decembro de 2025 \n18:30 horas \nO Vello Cárcere de Lugo \nInscrición de balde en vellocarcere@lugo.gal
URL:https://vivalugo.es/evento/visita-guiada-a-mostra-paseando-carinosas-alimanas/
LOCATION:O Vello Cárcere\, Av. Alcalde Anxo López Pérez\, 10\, Lugo\, Lugo\, 27002\, Spain
CATEGORIES:Varios
END:VEVENT
BEGIN:VEVENT
DTSTART;TZID=Europe/Madrid:20251226T193000
DTEND;TZID=Europe/Madrid:20251226T193000
DTSTAMP:20260419T180033
CREATED:20251226T112119Z
LAST-MODIFIED:20251226T112119Z
UID:98258-1766777400-1766777400@vivalugo.es
SUMMARY:Presentación do libro "Espiritualidad"
DESCRIPTION:Presentación do libro «Espiritualidad» \nVenres 26 de decembro de 2025 \n19:30 horas \nLibrería La Voz de la Verdad\, Lugo
URL:https://vivalugo.es/evento/presentacion-do-libro-espiritualidad/
LOCATION:La Voz de la Verdad\, Rúa Bispo Aguirre\, 17\, LUGO\, Lugo\, 27002\, Spain
CATEGORIES:Presentaciones
ATTACH;FMTTYPE=image/jpeg:https://vivalugo.es/wp-content/uploads/2025/12/presentacion-libro-espritualidad.jpg
END:VEVENT
BEGIN:VEVENT
DTSTART;TZID=Europe/Madrid:20251226T200000
DTEND;TZID=Europe/Madrid:20251226T200000
DTSTAMP:20260419T180033
CREATED:20251218T170950Z
LAST-MODIFIED:20251223T114710Z
UID:98119-1766779200-1766779200@vivalugo.es
SUMMARY:Concerto extraordinario de Nadal con Arundo Donax Ensemble e David Fiuza de director
DESCRIPTION:Concerto extraordinario de Nadal con Arundo Donax Ensemble e David Fiuza de director \nVenres\, 26 de decembro de 2025 \n20:00 h. \nCírculo das Artes de Lugo \n(Entrada de balde ata esgotar localidades) \nObras de J. S. Bach\, W. A. Mozart\, P. Mascagni\, G. Bizet\, J. Brahms\, C. Debussy e A. Gorb. \nArundo Donax Ensemble\nAgrupación instrumental especializada en instrumentos de vento madeira\, formada por músicos profesionais da provincia de Lugo e baixo a dirección artística do mestre David Fiuza Souto. \nNace co obxectivo de recuperar e actualizar a tradición da Harmoniemusik \, un formato de música de cámara popularizado no século XVIII que inspirou obras emblemáticas como a Serenata n.º 10 de Wolfgang Amadeus Mozart. \nEste proxecto representa un paso adiante para a escena cultural gallega\, tanto pola calidade artística dos seus membros como polo seu compromiso de achegar a música clásica a públicos diversos. \nCun enfoque que combina o respecto pola tradición coas posibilidades expresivas da interpretación contemporánea\, o Arundo Donax Ensemble propón un novo camiño para a música de cámara en Galicia. \n+ INFO: https://filarmonicadelugo.com/ \nEn VivaLugo: Concerto extraordinario de Nadal 2025 con entrada gratuíta
URL:https://vivalugo.es/evento/concerto-extraordinario-de-nadal-con-arundo-donax-ensemble-e-david-fiuza-de-director/
LOCATION:Círculo das Artes\, Praza Maior\, 23\, Lugo\, Lugo\, 27001\, Spain
CATEGORIES:Conciertos
ATTACH;FMTTYPE=image/jpeg:https://vivalugo.es/wp-content/uploads/2025/12/concerto-extraordinario-nadal.jpg
END:VEVENT
BEGIN:VEVENT
DTSTART;TZID=Europe/Madrid:20251226T223000
DTEND;TZID=Europe/Madrid:20251226T223000
DTSTAMP:20260419T180033
CREATED:20251209T174812Z
LAST-MODIFIED:20251226T112300Z
UID:97676-1766788200-1766788200@vivalugo.es
SUMMARY:Concertos de "Moloch" e "Pablo y Los Ciervos Dorados"
DESCRIPTION:Concertos de «Moloch» e «Pablo y Los Ciervos Dorados» \nVenres 26 de decembro de 2025 \n22:30 horas \nClub Clavicémbalo
URL:https://vivalugo.es/evento/concertos-de-moloch-e-pablo-y-los-ciervos-dorados/
LOCATION:Club Clavicémbalo\, Rúa dos Paxariños\, 23\, Lugo\, Lugo\, 27002\, Spain
CATEGORIES:Conciertos
ATTACH;FMTTYPE=image/jpeg:https://vivalugo.es/wp-content/uploads/2025/12/concerto-moloch-pablo.jpg
END:VEVENT
BEGIN:VEVENT
DTSTART;TZID=Europe/Madrid:20251226T223000
DTEND;TZID=Europe/Madrid:20251226T223000
DTSTAMP:20260419T180033
CREATED:20251209T180053Z
LAST-MODIFIED:20251209T180053Z
UID:97688-1766788200-1766788200@vivalugo.es
SUMMARY:Concierto de "School" - Tributo a Nirvana
DESCRIPTION:Concierto de «School» – Tributo a Nirvana \nViernes 26 de diciembre de 2025 – 22:30 h – Sala Jagger\n\n\n\nUn homenaje fiel y poderoso a la banda que cambió una generación.
URL:https://vivalugo.es/evento/concierto-de-school-tributo-a-nirvana/
LOCATION:Sala Jagger\, Rua da Cruz 20\, Lugo\, Lugo\, 27001
CATEGORIES:Conciertos
ATTACH;FMTTYPE=image/jpeg:https://vivalugo.es/wp-content/uploads/2025/12/concierto-school-tributo-nirvana.jpg
END:VEVENT
END:VCALENDAR