BEGIN:VCALENDAR
VERSION:2.0
PRODID:-//VivaLugo - ECPv6.15.13.1//NONSGML v1.0//EN
CALSCALE:GREGORIAN
METHOD:PUBLISH
X-ORIGINAL-URL:https://vivalugo.es
X-WR-CALDESC:Eventos para VivaLugo
REFRESH-INTERVAL;VALUE=DURATION:PT1H
X-Robots-Tag:noindex
X-PUBLISHED-TTL:PT1H
BEGIN:VTIMEZONE
TZID:Europe/Madrid
BEGIN:DAYLIGHT
TZOFFSETFROM:+0100
TZOFFSETTO:+0200
TZNAME:CEST
DTSTART:20240331T010000
END:DAYLIGHT
BEGIN:STANDARD
TZOFFSETFROM:+0200
TZOFFSETTO:+0100
TZNAME:CET
DTSTART:20241027T010000
END:STANDARD
BEGIN:DAYLIGHT
TZOFFSETFROM:+0100
TZOFFSETTO:+0200
TZNAME:CEST
DTSTART:20250330T010000
END:DAYLIGHT
BEGIN:STANDARD
TZOFFSETFROM:+0200
TZOFFSETTO:+0100
TZNAME:CET
DTSTART:20251026T010000
END:STANDARD
BEGIN:DAYLIGHT
TZOFFSETFROM:+0100
TZOFFSETTO:+0200
TZNAME:CEST
DTSTART:20260329T010000
END:DAYLIGHT
BEGIN:STANDARD
TZOFFSETFROM:+0200
TZOFFSETTO:+0100
TZNAME:CET
DTSTART:20261025T010000
END:STANDARD
BEGIN:DAYLIGHT
TZOFFSETFROM:+0100
TZOFFSETTO:+0200
TZNAME:CEST
DTSTART:20270328T010000
END:DAYLIGHT
BEGIN:STANDARD
TZOFFSETFROM:+0200
TZOFFSETTO:+0100
TZNAME:CET
DTSTART:20271031T010000
END:STANDARD
END:VTIMEZONE
BEGIN:VEVENT
DTSTART;VALUE=DATE:20251205
DTEND;VALUE=DATE:20260106
DTSTAMP:20260419T180100
CREATED:20251204T123732Z
LAST-MODIFIED:20251204T123943Z
UID:97497-1764892800-1767657599@vivalugo.es
SUMMARY:Mercado de Nadal “Nadalmente Lucense” 2025
DESCRIPTION:Mercado de Nadal “Nadalmente Lucense” 2025\nNa Praza Maior de Lugo entre o 5 de decembro e o 5 de xaneiro. O mercado\, que funcionará en horario de mañá e tarde -agás os días 24 e 31\, cando abrirá só pola mañá\, e os días 25 e 1\, que permanecerá pechado- contará cunha ampla programación de actividades: \nINAUGURACIÓN MERCADO DE NADAL “NADALMENTE LUCENSE”\n5 de Diciembre 2025. Praza Maior \n17:00 a 21:00h Recepción del Señor y la Señora Claus\n17:30 a 20:30h Navidad a todo ritmo (peque disco)\n18:00 h: Gran chocolatada (hasta fin de existencias)\n19:00 h: Historias de Laponia con la Señora Claus. \nO FOGAR DO SANTA (Recepción Sr y Sra Claus)\nHorario: 11:00 a 14:30 y de 16:30 a 21:00h Día 24D solo en horario de mañana \n– Recepción del Señor Claus: 6 – 7 – 8 – 13 – 15 – 20 – 22- 23 – 24 Diciembre 2025 \n– Recepción de la Sra Claus: 6 – 14 – 21- 23 Diciembre 2025 \nOASIS DE BEN ALÍ\nHorario: 11:00 a 14:30 y de 16:30 a 21:00h Día 5E solo en horario de mañana \n– Recepción Emisario Real: 2-3-4-5 de Enero 2026 \nA PEQUENA FÁBRICA DE OBRADOIROS DE NADAL\nFechas: 6-7-8-13-21-23-27-28-29-30-31de Diciembre de 2025 y 3- 5 enero 2026 \nHorario: 16:30 a 18:30h \nEl día 31 de Diciembre en horario de 11:00 a 12:30h \nA PEQUENA FÁBRICA DE XOGOS\nFechas: 6-7-8-14-20-22-23-27-28-29-30 de Diciembre de 2025 y 4 de Enero de\n2026 \nEn horario de 19:00 a 21:00h \nEl día 31 de Diciembre en horario de 13:00 a 14:30h \nSEGUINDO ÁS ESTRELAS\n– A MAXIA DE NADAL con el mago Roberto Lolo \nFechas: 6-13 y 27 de Diciembre\nHorario: 18:00 a 20:00h\nPases cada 20 min. \n– ELFILANDIA (Contacontos) \nFecha: 22 de Diciembre de 2025\nHorario: 17:00 a 20:00h\nPases: Cada 30 mim \n– LA SEÑORA CLAUS Y LOS ABRAZOS DE NIEVE \nFecha: 23 de Diciembre de 2025\nHorario: 19:00 a 20:30h\nPases cada 30 min. \n– TRAVESURAS DE REYES (Contacontos)\nFecha: 2 de Enero de 2026 Horario: 17:00 a 20:00h\nPases: Cada 30 mim \nDEGUSTACIÓN DE CHOCOLATE\nFechas: Sábado 13 – 20 – 27 de Diciembre de 2025 y 3 de Enero de 2026\nHorario: 18:00h\nHasta fin de existencias \nEXHIBICIONES\nMAGIE DANCE: 14de Diciembre de 2025 – 17:00h\nVICTORIA GIL: 20 de Diciembre de 2025 – 12:30h\nGRAVITTY: 21 de Diciembre de 2025 – 16:30h\nESCUELA GUITARRA CIRCULO DE LAS ARTES: 23 Diciembre de 2025 – 13:30h\nSTART DANCE: 23 de Diciembre de 2025 – 16:30h\nRITMO LUGO: 3 de Enero de 2026 -17:00h.
URL:https://vivalugo.es/evento/mercado-de-nadal-nadalmente-lucense-2025/
LOCATION:Lugo
ATTACH;FMTTYPE=image/jpeg:https://vivalugo.es/wp-content/uploads/2025/12/mercado-nadalmente-lucense-2025.jpg
END:VEVENT
BEGIN:VEVENT
DTSTART;TZID=Europe/Madrid:20251205T163000
DTEND;TZID=Europe/Madrid:20260104T203000
DTSTAMP:20260419T180100
CREATED:20251202T185207Z
LAST-MODIFIED:20251202T185207Z
UID:97472-1764952200-1767558600@vivalugo.es
SUMMARY:Xuvenlugo 2025
DESCRIPTION:Xuvenlugo 2025\nAtraccións\, xogos\, inchables\, talleres\, sorteos… \n\n\nDatas e Horarios:\n\nDo 5 ao 8 de decembro 2025\nDo 12 ao 14 de decembro 2025\nDo 19 ao 23 de decembro 2025\nDo 26 ao 30 de decembro 2025\nDo 1 ao 4 de xaneiro h. 2026\n\n\n\nDe 16:30 a 20:30 horas\nDías sen Ruído:\n\n6\, 21\, 26\, 29 de decembro 2025 e 1 e 4 de xaneiro 2026\n\nDurante estas xornadas\, dende as 18:30 ata as 20:30\, reducirase o volume da música e controlarase a sonoridade do recinto para que os nenos e nenas con TEA\, hipersensibilidade sensorial ou calquera outra condición poidan participar de xeito activo.\n\n\n\n\nDatas Especiais:\n\nVisita de Papá Noel: 23 de decembro\n\nVisita da Paxe Real: 4 de xaneiro\n\nLugar: Pazo de Feiras e Congresos de Lugo.\nEntradas e TODA A INFORMACIÓN: na web oficial de Xuvenlugo https://xuvenlugo.com
URL:https://vivalugo.es/evento/xuvenlugo-2025/
LOCATION:Pazo de Feiras e Congresos\, Lugo\, Spain
CATEGORIES:Varios
ATTACH;FMTTYPE=image/jpeg:https://vivalugo.es/wp-content/uploads/2025/12/xuvenlugo-2025.jpg
END:VEVENT
BEGIN:VEVENT
DTSTART;VALUE=DATE:20251212
DTEND;VALUE=DATE:20260107
DTSTAMP:20260419T180100
CREATED:20251212T102158Z
LAST-MODIFIED:20251212T102238Z
UID:97795-1765497600-1767743999@vivalugo.es
SUMMARY:Pista de Xeo na Praza da Milagrosa
DESCRIPTION:Pista de Xeo na Praza da Milagrosa \nHorario escolar: \nLuns a venres de 16:30 a 22:00 \nSábado e domingo 11:00 a 14:00 e 16:30 a 23:00 \nHorario vacacional: \nLuns a domingo de 11:00 a 23:00 \nPrezo: 8€ \nFamilia numerosa: 6€
URL:https://vivalugo.es/evento/pista-de-xeo-na-praza-da-milagrosa/
LOCATION:Lugo
CATEGORIES:Varios
ATTACH;FMTTYPE=image/jpeg:https://vivalugo.es/wp-content/uploads/2025/12/pista-xeo-praza-milagrosa.jpg
END:VEVENT
BEGIN:VEVENT
DTSTART;VALUE=DATE:20251226
DTEND;VALUE=DATE:20260107
DTSTAMP:20260419T180100
CREATED:20251226T113245Z
LAST-MODIFIED:20251226T113245Z
UID:98270-1766707200-1767743999@vivalugo.es
SUMMARY:Nadal na Milagrosa
DESCRIPTION:Nadal na Milagrosa
URL:https://vivalugo.es/evento/nadal-na-milagrosa/
LOCATION:Lugo
CATEGORIES:Varios
ATTACH;FMTTYPE=image/jpeg:https://vivalugo.es/wp-content/uploads/2025/12/nadal-na-milagrosa.jpg
END:VEVENT
BEGIN:VEVENT
DTSTART;TZID=Europe/Madrid:20251226T170000
DTEND;TZID=Europe/Madrid:20251230T170000
DTSTAMP:20260419T180100
CREATED:20251215T171733Z
LAST-MODIFIED:20251215T171733Z
UID:97979-1766768400-1767114000@vivalugo.es
SUMMARY:(E ás 18:30) Medrando no Nadal 2025
DESCRIPTION:Medrando no Nadal 2025\nAuditorio Municipal Gustavo Freire \n\n– 26 de decembro ás 17:00 e ás 18.30. “O Ninho” da Cia Particulas elementares.\n\n\nRecomendada a partir de 3 anos\nDuración: 35 minutos \nSinopse: \n«Era una vez un niñito. Un niñito con un huevo. Un huevo muy redondito\, que tiene dentro un pajarito Nuevo» (Secreto – Miguel Torga). O ninho inspírase nun dos poemas máis sinxelos do escritor portugués Miguel Torga\, que nunhas poucas líñas desvela cómo un segredo ben gardado pode fortalecer unha amizade verdadeira. O ninho é un convite a valorar as cousas sinxelas da vida\, esas que non son complexas de entender e deben conservarse como as máis importantes. \n– 27 de decembro ás 17:00 e ás 18.30.“Un trozo de pan” de Cía. Les Pinyes.\nRecomendada a partir de 3 anos\nDuración: 40 minutos \nSinopse: \nTeño fame! Qué xantamos hoxe? Pensástedes algunha vez de onde ven o pan que temos na mesa? Cómo se cociñou? De onde veñen os ingredientes? Seguiremos a viaxe que fai un pan\, un sinxelo pan. Pouco a pouco descubriremos as respostas en forma de canción\, de debuxos\, de títeres e de maxia. Un trozo de pan é unha experiencia visual\, sensitiva e divertida para o público máis pequeno. Mans á masa! \n– 28 de decembro ás 17:00 e ás 18.30. “Comenoites” de Náufragos Teatro.\nRecomendada a partir de 2 anos\nDuración: 35 minutos \nSinopse: \nComenoites é unha bonita historia coa que os nenos e as nenas descubrirán o segredo de por que existen o día e a noite.\nComenoites é un trasgo regordete que come todo tipo de noites para que o Sol poida saír cada día\, traendo luz\, calor e cor para todos. Unha noite a súa amiga a Lúa coméntalle que se está a poñer gordinflón e Comenoites deixa de comer. Nunca volverá a saír o Sol!  Tan só unha estrela pode abrirlle novamente o apetito. Ti tes unha estrela? Volverá saír o Sol? \n– 29 de decembro ás 17:00 e ás 18.30. “Emociones de hojalata” de Mar Rojo Teatro.\nRecomendada entre os 12 meses e 6 anos\nDuración: 40 minutos \nSinopse: \nInma e Emma construiron un amigo á súa medida: o robot “Hojalata”. Todo está listo para a súa presentación\, pero falta por poñer a peza máis importante\, o corazón. “Hojalata” actívase\, e coa emoción sofre un cortocircuito. O diagnóstico é claro: o seu corazón non funciona\, porque ten as emocións feitas un lío! Inma e Emma porán orde nas súas emocións para que o pequeno corazón de “Hojalata” comece a latexar con normalidade\, e conseguir por fin ter ao seu lado a un novo amigo. \n– 30 de decembro ás 17:00 e ás 18.30. “Lumiero” de La menuda.\nRecomendada entre os 0 e 5 anos\nDuración: 40 minutos \nSinopse: \nLa Menuda estrea un novo espectáculo coa luz coma protagonista. Da man do colecionista de luz Lumiero (o paiaso Pere Hosta) e a súa filla Lumina (a bailarina e actriz Jana Noguera)\, o público descubrirá a maxia da penumbra e o fascinante universo de historias que se agochan nela. En Lumiero\, a compañía incorpora o teatro xestual á poesía visual\, a danza e a música en directo que configuran a súa esencia\, cercana e sensible para achegarse á primeira infancia con delicadeza. \nENTRADAS\nAs entradas para cada función terán un prezo simbólico de 3 euros \nTanto os menores como as persoas adultas deberán retirar entrada para acceder ao auditorio (cun aforo de 80 persoas por pase) \nPensando nas familias que desexen participar en varias propostas\, a área de Cultura ofrecerá un bono para cinco funcións por 10 euros\, dispoñible do 15 ao 20 de decembro. A partir do día 21 iniciará a venda das entradas individuais. \nhttps://entradaslugo.es/ \nAdemais\, con calquera das entradas será posible desfrutar previamente de “Un Mar de Xogos”\, unha instalación lúdica creada por Bico de Toupa que permanecerá aberta no propio auditorio entre as 16:00 e as 18:30 horas. \nProgramación do Nadal 2025–2026 en Lugo
URL:https://vivalugo.es/evento/e-as-1830-medrando-no-nadal-2025/
LOCATION:​Auditorio Municipal Gustavo Freire\, Parque da Milagrosa\, Avda. da Coruña\, s/n\, Lugo\, Lugo\, 27003\, Spain
CATEGORIES:Artes escénicas
ATTACH;FMTTYPE=image/jpeg:https://vivalugo.es/wp-content/uploads/2025/12/medrando-nadal-2025-lugo.jpg
END:VEVENT
BEGIN:VEVENT
DTSTART;VALUE=DATE:20251227
DTEND;VALUE=DATE:20251228
DTSTAMP:20260419T180100
CREATED:20251215T092037Z
LAST-MODIFIED:20251215T092037Z
UID:97855-1766793600-1766879999@vivalugo.es
SUMMARY:Festa de Nadal Facela Fest 2025
DESCRIPTION:Festa de Nadal Facela Fest 2025 \n27 de decembro de 2025 \n13:00 Concerto de Incurable no Facela Bar e pinchada a cargo de Ventura aka Turista 78 \n22:00 Concerto de Dogo no Club Clavicémbalo \nIncurable é o proxecto persoal de Álvaro Blanco (Músculo!\, As Ánimas\, Noise Project…). É un espazo para a experimentación\, na busca de novos sons e melodías que se achegan ao dream pop e á psicodelia. Aquí @alvaroincurable encárgase de todo: tocar\, gravar e producir. \nEntre concertos\, a música non vai parar: o Facela Bar recuperará o espírito do Saint Etienne cun reencontro moi especial. Ventura aka Turista 78\, será o encargado de facernos bailar. \nCarlos\, Xoan e Ángel son Dogo ( @somos.dogo )\, unha formación de post-punk e shoegaze\, con atmosferas densas e melodías envolventes cantadas en galego. \nEntradas: https://facelafest.com/
URL:https://vivalugo.es/evento/festa-de-nadal-facela-fest-2025/
LOCATION:Lugo
CATEGORIES:Conciertos
ATTACH;FMTTYPE=image/jpeg:https://vivalugo.es/wp-content/uploads/2025/12/festa-nadal-facela-fest-2025.jpg
END:VEVENT
BEGIN:VEVENT
DTSTART;VALUE=DATE:20251227
DTEND;VALUE=DATE:20251228
DTSTAMP:20260419T180100
CREATED:20251215T154715Z
LAST-MODIFIED:20251215T154725Z
UID:97928-1766793600-1766879999@vivalugo.es
SUMMARY:Actuacións de corais Nadal 2025
DESCRIPTION:Actuacións de corais Nadal 2025\n\n\n\nSábado 27 de decembro: Coro do Hospital de Lugo 12:00 – 13:30 (4 pases de 20 min en Quiroga Ballesteros\, Armañá con Conde Pallares\, Fondo Praza Maior e Diante do Concello) e Orfeón Lucense 20:00 – 21:30 (4 pases de 20 min en San Pedro con Rúa Progreso\, Rúa da Raíña\, Fondo Praza Maior e Praza do Campo)\n\nLuns 29 de decembro: Orfeón Xoán Montes 17:00 – 18:30 (4 pases de 20 min en Quiroga Ballesteros\, Armañá con Conde Pallares\, Fondo Praza Maior e Diante do Concello)\, Coral Ecos do Miño 18:30 – 20:00 (4 pases de 20 min en Diante do Concello\, Rúa da Raíña\, Rúa San Pedro con Rúa do Progreso e Santo Domingo) e Orfeón Lucense 20:00 – 21:30 (4 pases de 20 min en Santo Domingo\, Rúa da Raíña\, Conde Pallares con Dr Castro e Praza do Campo)\n\nMartes 30 de decembro: Asociación Músico Vocal Xeada 11:30 – 13:00 (3 pases de 25 min en Mercado de Quiroga Ballesteros) e Conxunto Vocal Lugh 18:00 – 19:30 (3 pases de 25 min en Fondo da Praza Maior\, Rúa da Raíña e Rúa San Pedro con Rúa do Progreso)\n\nSábado 3 de xaneiro: Coro Xuvenil de Lugo 12:00 – 13:30 (4 pases de 20 min en Quiroga Ballesteros\, Armañá con Conde Pallares\, Fondo Praza Maior e Diante do Concello)\n\nDomingo 4 de xaneiro: Coro Xuvenil de Lugo 12:00 – 13:30 (4 pases de 20 min en Rúa San Marcos\, Santo Domingo\, San Pedro con Rúa Progreso e Rúa da Raíña)
URL:https://vivalugo.es/evento/actuacions-de-corais-nadal-2025/
LOCATION:Lugo
CATEGORIES:Conciertos
ATTACH;FMTTYPE=image/jpeg:https://vivalugo.es/wp-content/uploads/2025/12/corais-nadal-2025.jpg
END:VEVENT
BEGIN:VEVENT
DTSTART;VALUE=DATE:20251227
DTEND;VALUE=DATE:20251231
DTSTAMP:20260419T180100
CREATED:20251217T110411Z
LAST-MODIFIED:20251217T110613Z
UID:98096-1766793600-1767139199@vivalugo.es
SUMMARY:Escape room ‘En busca da campá máxica’
DESCRIPTION:Escape room ‘En busca da campá máxica’ \nTerá lugar os días 27\,28\, 29 e 30\, en horarios de 10.30 a 13.30 pola mañá\, e entre as 16.30 e as 20.30 horas\, pola tarde. Así\, en cada unha das xornadas reservadas para esta actividade haberá sete sesións dunha hora\, cun máximo de 6 participantes por cada un dos grupos. \nA escape room desenvolverase nas distintas salas e dependencias que ocupan toda unha planta da Casa da Xuventude. \nHaberá distintas fases nas que os participantes deberán ir resolvendo enigmas empregando o sistema arduino\, superar probas con sensores táctiles e metálicos\, busca de obxectos ocultos\, desafíos manuais\, descifrado de códigos e claves\, combinacións numéricas\, resolución de xeroglíficos\, e  encriptados de palabras\, entre outras. \nAdemais\, a escape room contará con elementos novos como unha barca con trampilla\, un faro\, máquina de fume e a participación do Grinch\, un personaxe que se incorpora nesta edición á iniciativa organizada desde Xuventude. \nAs inscricións\, totalmente de balde e abertas ata completar as prazas\, pódense realizar ata a xornada previa ao inicio da primeira escape room a través da web www.formulario.xuventudelugo.gal.
URL:https://vivalugo.es/evento/escape-room-en-busca-da-campa-maxica/
LOCATION:Casa da Xuventude\, Rúa Xesús Bal y Gay\, 26\, LUGO\, Lugo\, 27002\, Spain
CATEGORIES:Varios
END:VEVENT
BEGIN:VEVENT
DTSTART;TZID=Europe/Madrid:20251227T100000
DTEND;TZID=Europe/Madrid:20251227T100000
DTSTAMP:20260419T180100
CREATED:20251215T083851Z
LAST-MODIFIED:20251215T083851Z
UID:97828-1766829600-1766829600@vivalugo.es
SUMMARY:Guido Guía especial Nadal - "O anel verde"
DESCRIPTION:Guido Guía especial Nadal – «O anel verde» \n27 de decembro de 2025 \n10:00 horas \n+ info e inscricións: guidoguiaturismo@gmail.com
URL:https://vivalugo.es/evento/guido-guia-especial-nadal-o-anel-verde/
LOCATION:Lugo
CATEGORIES:Varios
ATTACH;FMTTYPE=image/jpeg:https://vivalugo.es/wp-content/uploads/2025/12/guido-guia-especial-nadal.jpg
END:VEVENT
BEGIN:VEVENT
DTSTART;TZID=Europe/Madrid:20251227T110000
DTEND;TZID=Europe/Madrid:20251227T110000
DTSTAMP:20260419T180100
CREATED:20251223T120942Z
LAST-MODIFIED:20251223T121027Z
UID:98205-1766833200-1766833200@vivalugo.es
SUMMARY:(Tamén ás 12:30) Contacontos miúdos “O Apalpador”
DESCRIPTION:Contacontos miúdos “O Apalpador” \n11:00 e 12:30\n27/12/2025 O Vello Cárcere de Lugo \nNeste conto de Xoán G. coñecemos a “O Apalpador”\, unha das figuras máis máxicas da tradición galega que vive nas montañas e baixa polo Nadal a visitar ás crianzas. \nApálpalles a barriguiña para comprobar se están ben mantidos e déixalles un pequeno agasallo: xoguetes e unha presa de castañas. \nO tempo restante\, os participantes poderán ler\, debuxar ou xogar no Espazo de Lecer. \nPúblico: nados entre 2017 e 2022 inclusive. \nAforo: 15 persoas. \n*Recoméndase inscrición previa \n \n O Vello Cárcere de Lugo – Programación semanal
URL:https://vivalugo.es/evento/tamen-as-1230-contacontos-miudos-o-apalpador/
LOCATION:O Vello Cárcere\, Av. Alcalde Anxo López Pérez\, 10\, Lugo\, Lugo\, 27002\, Spain
CATEGORIES:Artes escénicas
END:VEVENT
BEGIN:VEVENT
DTSTART;TZID=Europe/Madrid:20251227T113000
DTEND;TZID=Europe/Madrid:20251227T113000
DTSTAMP:20260419T180100
CREATED:20251222T153001Z
LAST-MODIFIED:20251222T153001Z
UID:98160-1766835000-1766835000@vivalugo.es
SUMMARY:Obradoiro ‘Olores e sabores da antiga Roma: descubrindo a domus a través dos sentidos’
DESCRIPTION:Obradoiro ‘Olores e sabores da antiga Roma: descubrindo a domus a través dos sentidos’ \nComo cada ano\, o Museo universitario Domus do Mitreo celebra o Nadal cunha programación de obradoiros dirixida ás familias. \nNeta ocasión\, baixo o título ‘Olores e sabores da antiga Roma: descubrindo a domus a través dos sentidos’\, convídase a descubrir o xacemento de forma interactiva. \nA través dunha percepción sensorial\, deberase vincular olores\, sabores ou sons coas distintas estancias do espazo museístico. \nEstes obradoiros desenvolveranse ás 11.30 horas os días 27 de decembro e 3 de xaneiro\, cunha duración de 35 minutos e unha visita guiada posterior. \nO acceso é gratuíto previa reserva da entrada no teléfono 610323926 o en museomitreo.lugo@fundacionusc.gal.
URL:https://vivalugo.es/evento/obradoiro-olores-e-sabores-da-antiga-roma-descubrindo-a-domus-a-traves-dos-sentidos/
LOCATION:Domus do Mitreo\, Praza Pío XII\, 3\, Lugo\, 27001
CATEGORIES:Cursos
ATTACH;FMTTYPE=image/jpeg:https://vivalugo.es/wp-content/uploads/2025/12/obradoiro-olores-sabores-antiga-roma.jpg
END:VEVENT
BEGIN:VEVENT
DTSTART;TZID=Europe/Madrid:20251227T113000
DTEND;TZID=Europe/Madrid:20251227T203000
DTSTAMP:20260419T180100
CREATED:20251226T111127Z
LAST-MODIFIED:20251226T111127Z
UID:98247-1766835000-1766867400@vivalugo.es
SUMMARY:II Xuntanza de Centros Sociais
DESCRIPTION:II Xuntanza de Centros Sociais \nSábado 27 de decembro de 2025 \n11:30 a 19:30 horas \nA Hedreira\, Lugo \n«Tanto se participas na xestión dun centro social coma se es usuaria\, estás convidada a asistir ao encontro de centros sociais que terá lugar no CSA A Hedreira (Lugo) este sábado 27 de decembro. \nEste será o programa do encontro: \n· 11:30 – Recibimento\n· 12:00 – [Exposición] A experiencia da Xarxa de Casals i Ateneus dels Països Catalans: funcionamento e impacto.\n· 13:30 – [Dinámica] Desafíos que atravesan os centros sociais galegos. Faremos unha chuvia de ideas global\, dividirémonos en grupos de traballo por temáticas e extraeremos conclusións en conxunto.\n· 14:30 – Xantar vegano*\n· 16:00 – Bingo musical\n· 17:00 – [Mesa redonda] Que necesidades e propósitos podemos cubrir mediante unha coordinación de centros sociais a nivel galego?\n· 18:30 – [Diálogo aberto] Como organizamos a coordinación?\n· 19:30 – Concerto \n*Para poder estimar a comida\, agradecemos que nos avisedes de cantas persoas vides\, e tamén se tedes algunha alerxia e demais casuísticas a ter en conta para o xantar. Prezo á vontade. \nReserva por aquí ou no mail csahedreira@riseup.net» A Hedreira
URL:https://vivalugo.es/evento/ii-xuntanza-de-centros-sociais/
LOCATION:A Hedreira\, Rua Catasol\, 17\, Lugo\, 27002
CATEGORIES:Varios
ATTACH;FMTTYPE=image/jpeg:https://vivalugo.es/wp-content/uploads/2025/12/xuntanza-centro-sociais.jpg
END:VEVENT
BEGIN:VEVENT
DTSTART;TZID=Europe/Madrid:20251227T133000
DTEND;TZID=Europe/Madrid:20251227T133000
DTSTAMP:20260419T180100
CREATED:20251226T105510Z
LAST-MODIFIED:20251226T105510Z
UID:98228-1766842200-1766842200@vivalugo.es
SUMMARY:Festa de Nadal - Plataforma Feminista de Lugo
DESCRIPTION:Festa de Nadal – Plataforma Feminista de Lugo \nXantar\, música e sorpresas \nSábado 27 de decembro de 2025 \nDendes as 13:30 horas \nC.S. Madia Leva\, Lugo
URL:https://vivalugo.es/evento/festa-de-nadal-plataforma-feminista-de-lugo/
LOCATION:La Ferretería\, San Froilán 11\, Lugo\, 27001
CATEGORIES:Varios
ATTACH;FMTTYPE=image/jpeg:https://vivalugo.es/wp-content/uploads/2025/12/festa-nadal-plataforma-feminista-lugo.jpg
END:VEVENT
BEGIN:VEVENT
DTSTART;TZID=Europe/Madrid:20251227T180000
DTEND;TZID=Europe/Madrid:20251227T180000
DTSTAMP:20260419T180100
CREATED:20251215T104452Z
LAST-MODIFIED:20251215T104452Z
UID:97883-1766858400-1766858400@vivalugo.es
SUMMARY:(Tamén ás 20:30) Espectáculo "REINVENTIO"
DESCRIPTION:Espectáculo «REINVENTIO» \nAuditorio Fuxan os Ventos | Lugo \n\n27 Decembro 2025 – 18:00 e 20:30 horas \nREINVENTIO é un espectáculo visualmente abraiante que mergulla ao espectador nunha aventura sen precedentes. A narración segue a un mago que perdeu a súa ilusión. Será quen de recuperala ao percorrer os seus pesadelos e soños? \nO show transfórmase nunha especie de cabaret narrativo vibrante\, rebosante de beleza e emoción\, onde o circo\, a danza e a maxia convértense nas pegadas do camiño. \nO público é convidado a un universo onírico no que a realidade se desdobra en aparicións e desaparicións imposibles\, levitacións que desafían a gravidade\, actos de circo que cortan a respiración e coreografías que encarnan a esencia da ilusión. \nEsta aventura de asombro e misterio lévanos ao encontro da inocencia e a pura ilusión. REINVENTIO promete gozo\, emoción e humor para toda a familia. É un recordatorio abraiante de que a maxia non é un segredo. É a forza de volver crer. \nEntradas: Ataquilla
URL:https://vivalugo.es/evento/tamen-as-2030-espectaculo-reinventio/
LOCATION:Auditorio Municipal Fuxan os Ventos\, Rúa Madanela\, LUGO\, Lugo\, 27002\, Spain
CATEGORIES:Artes escénicas
END:VEVENT
BEGIN:VEVENT
DTSTART;TZID=Europe/Madrid:20251227T190000
DTEND;TZID=Europe/Madrid:20251227T190000
DTSTAMP:20260419T180100
CREATED:20251215T085850Z
LAST-MODIFIED:20251215T085850Z
UID:97843-1766862000-1766862000@vivalugo.es
SUMMARY:Tardeo con Vilouta e KR-ON
DESCRIPTION:Tardeo con Vilouta e KR-ON \nO sábado 27 de decembro de 2025 no Salón Rexio do Círculo das Artes de Lugo \nHorario: de 19:00 a 00:00 horas \nMúsica a cargo de: \nVilouta\nKR-ON \nEntradas:\n– Socios/as: GRATIS\n– Non socios/as: 10 €
URL:https://vivalugo.es/evento/tardeo-con-vilouta-e-kr-on/
LOCATION:Círculo das Artes\, Praza Maior\, 23\, Lugo\, Lugo\, 27001\, Spain
CATEGORIES:Conciertos
ATTACH;FMTTYPE=image/jpeg:https://vivalugo.es/wp-content/uploads/2025/12/tardeo-vilouta-kron.jpg
END:VEVENT
BEGIN:VEVENT
DTSTART;TZID=Europe/Madrid:20251227T190000
DTEND;TZID=Europe/Madrid:20251227T190000
DTSTAMP:20260419T180100
CREATED:20251226T112907Z
LAST-MODIFIED:20251226T112907Z
UID:98265-1766862000-1766862000@vivalugo.es
SUMMARY:Concerto de Ivan San no Clavi
DESCRIPTION:Concerto de Ivan San no Clavi \nSábado 27 de decembro de 2025 \n19:00 horas \nClub Clavicémbalo de Lugo
URL:https://vivalugo.es/evento/concerto-de-ivan-san-no-clavi/
LOCATION:Club Clavicémbalo\, Rúa dos Paxariños\, 23\, Lugo\, Lugo\, 27002\, Spain
CATEGORIES:Conciertos
ATTACH;FMTTYPE=image/jpeg:https://vivalugo.es/wp-content/uploads/2025/12/concerto-ivan-san.jpg
END:VEVENT
BEGIN:VEVENT
DTSTART;TZID=Europe/Madrid:20251227T200000
DTEND;TZID=Europe/Madrid:20251227T200000
DTSTAMP:20260419T180100
CREATED:20251226T110301Z
LAST-MODIFIED:20251226T110301Z
UID:98241-1766865600-1766865600@vivalugo.es
SUMMARY:Cine - Presentación de "Ariel" con Lois Patiño
DESCRIPTION:Cine – Presentación de «Ariel» con Lois Patiño \nSábado 27 de decembro de 2025 \n20:00 horas \nCódex Cinema\, Lugo
URL:https://vivalugo.es/evento/cine-presentacion-de-ariel-con-lois-patino/
LOCATION:Codex Cinema\, Plaza Viana do Castelo nº4\, Lugo\, Lugo\, 27003
CATEGORIES:Cine
ATTACH;FMTTYPE=image/jpeg:https://vivalugo.es/wp-content/uploads/2025/12/cine-presentacion-ariel-lois-patino.jpg
END:VEVENT
END:VCALENDAR