BEGIN:VCALENDAR
VERSION:2.0
PRODID:-//VivaLugo - ECPv6.15.13.1//NONSGML v1.0//EN
CALSCALE:GREGORIAN
METHOD:PUBLISH
X-ORIGINAL-URL:https://vivalugo.es
X-WR-CALDESC:Eventos para VivaLugo
REFRESH-INTERVAL;VALUE=DURATION:PT1H
X-Robots-Tag:noindex
X-PUBLISHED-TTL:PT1H
BEGIN:VTIMEZONE
TZID:Europe/Madrid
BEGIN:DAYLIGHT
TZOFFSETFROM:+0100
TZOFFSETTO:+0200
TZNAME:CEST
DTSTART:20240331T010000
END:DAYLIGHT
BEGIN:STANDARD
TZOFFSETFROM:+0200
TZOFFSETTO:+0100
TZNAME:CET
DTSTART:20241027T010000
END:STANDARD
BEGIN:DAYLIGHT
TZOFFSETFROM:+0100
TZOFFSETTO:+0200
TZNAME:CEST
DTSTART:20250330T010000
END:DAYLIGHT
BEGIN:STANDARD
TZOFFSETFROM:+0200
TZOFFSETTO:+0100
TZNAME:CET
DTSTART:20251026T010000
END:STANDARD
BEGIN:DAYLIGHT
TZOFFSETFROM:+0100
TZOFFSETTO:+0200
TZNAME:CEST
DTSTART:20260329T010000
END:DAYLIGHT
BEGIN:STANDARD
TZOFFSETFROM:+0200
TZOFFSETTO:+0100
TZNAME:CET
DTSTART:20261025T010000
END:STANDARD
BEGIN:DAYLIGHT
TZOFFSETFROM:+0100
TZOFFSETTO:+0200
TZNAME:CEST
DTSTART:20270328T010000
END:DAYLIGHT
BEGIN:STANDARD
TZOFFSETFROM:+0200
TZOFFSETTO:+0100
TZNAME:CET
DTSTART:20271031T010000
END:STANDARD
END:VTIMEZONE
BEGIN:VEVENT
DTSTART;VALUE=DATE:20251205
DTEND;VALUE=DATE:20260106
DTSTAMP:20260419T163214
CREATED:20251204T123732Z
LAST-MODIFIED:20251204T123943Z
UID:97497-1764892800-1767657599@vivalugo.es
SUMMARY:Mercado de Nadal “Nadalmente Lucense” 2025
DESCRIPTION:Mercado de Nadal “Nadalmente Lucense” 2025\nNa Praza Maior de Lugo entre o 5 de decembro e o 5 de xaneiro. O mercado\, que funcionará en horario de mañá e tarde -agás os días 24 e 31\, cando abrirá só pola mañá\, e os días 25 e 1\, que permanecerá pechado- contará cunha ampla programación de actividades: \nINAUGURACIÓN MERCADO DE NADAL “NADALMENTE LUCENSE”\n5 de Diciembre 2025. Praza Maior \n17:00 a 21:00h Recepción del Señor y la Señora Claus\n17:30 a 20:30h Navidad a todo ritmo (peque disco)\n18:00 h: Gran chocolatada (hasta fin de existencias)\n19:00 h: Historias de Laponia con la Señora Claus. \nO FOGAR DO SANTA (Recepción Sr y Sra Claus)\nHorario: 11:00 a 14:30 y de 16:30 a 21:00h Día 24D solo en horario de mañana \n– Recepción del Señor Claus: 6 – 7 – 8 – 13 – 15 – 20 – 22- 23 – 24 Diciembre 2025 \n– Recepción de la Sra Claus: 6 – 14 – 21- 23 Diciembre 2025 \nOASIS DE BEN ALÍ\nHorario: 11:00 a 14:30 y de 16:30 a 21:00h Día 5E solo en horario de mañana \n– Recepción Emisario Real: 2-3-4-5 de Enero 2026 \nA PEQUENA FÁBRICA DE OBRADOIROS DE NADAL\nFechas: 6-7-8-13-21-23-27-28-29-30-31de Diciembre de 2025 y 3- 5 enero 2026 \nHorario: 16:30 a 18:30h \nEl día 31 de Diciembre en horario de 11:00 a 12:30h \nA PEQUENA FÁBRICA DE XOGOS\nFechas: 6-7-8-14-20-22-23-27-28-29-30 de Diciembre de 2025 y 4 de Enero de\n2026 \nEn horario de 19:00 a 21:00h \nEl día 31 de Diciembre en horario de 13:00 a 14:30h \nSEGUINDO ÁS ESTRELAS\n– A MAXIA DE NADAL con el mago Roberto Lolo \nFechas: 6-13 y 27 de Diciembre\nHorario: 18:00 a 20:00h\nPases cada 20 min. \n– ELFILANDIA (Contacontos) \nFecha: 22 de Diciembre de 2025\nHorario: 17:00 a 20:00h\nPases: Cada 30 mim \n– LA SEÑORA CLAUS Y LOS ABRAZOS DE NIEVE \nFecha: 23 de Diciembre de 2025\nHorario: 19:00 a 20:30h\nPases cada 30 min. \n– TRAVESURAS DE REYES (Contacontos)\nFecha: 2 de Enero de 2026 Horario: 17:00 a 20:00h\nPases: Cada 30 mim \nDEGUSTACIÓN DE CHOCOLATE\nFechas: Sábado 13 – 20 – 27 de Diciembre de 2025 y 3 de Enero de 2026\nHorario: 18:00h\nHasta fin de existencias \nEXHIBICIONES\nMAGIE DANCE: 14de Diciembre de 2025 – 17:00h\nVICTORIA GIL: 20 de Diciembre de 2025 – 12:30h\nGRAVITTY: 21 de Diciembre de 2025 – 16:30h\nESCUELA GUITARRA CIRCULO DE LAS ARTES: 23 Diciembre de 2025 – 13:30h\nSTART DANCE: 23 de Diciembre de 2025 – 16:30h\nRITMO LUGO: 3 de Enero de 2026 -17:00h.
URL:https://vivalugo.es/evento/mercado-de-nadal-nadalmente-lucense-2025/
LOCATION:Lugo
ATTACH;FMTTYPE=image/jpeg:https://vivalugo.es/wp-content/uploads/2025/12/mercado-nadalmente-lucense-2025.jpg
END:VEVENT
BEGIN:VEVENT
DTSTART;TZID=Europe/Madrid:20251205T163000
DTEND;TZID=Europe/Madrid:20260104T203000
DTSTAMP:20260419T163214
CREATED:20251202T185207Z
LAST-MODIFIED:20251202T185207Z
UID:97472-1764952200-1767558600@vivalugo.es
SUMMARY:Xuvenlugo 2025
DESCRIPTION:Xuvenlugo 2025\nAtraccións\, xogos\, inchables\, talleres\, sorteos… \n\n\nDatas e Horarios:\n\nDo 5 ao 8 de decembro 2025\nDo 12 ao 14 de decembro 2025\nDo 19 ao 23 de decembro 2025\nDo 26 ao 30 de decembro 2025\nDo 1 ao 4 de xaneiro h. 2026\n\n\n\nDe 16:30 a 20:30 horas\nDías sen Ruído:\n\n6\, 21\, 26\, 29 de decembro 2025 e 1 e 4 de xaneiro 2026\n\nDurante estas xornadas\, dende as 18:30 ata as 20:30\, reducirase o volume da música e controlarase a sonoridade do recinto para que os nenos e nenas con TEA\, hipersensibilidade sensorial ou calquera outra condición poidan participar de xeito activo.\n\n\n\n\nDatas Especiais:\n\nVisita de Papá Noel: 23 de decembro\n\nVisita da Paxe Real: 4 de xaneiro\n\nLugar: Pazo de Feiras e Congresos de Lugo.\nEntradas e TODA A INFORMACIÓN: na web oficial de Xuvenlugo https://xuvenlugo.com
URL:https://vivalugo.es/evento/xuvenlugo-2025/
LOCATION:Pazo de Feiras e Congresos\, Lugo\, Spain
CATEGORIES:Varios
ATTACH;FMTTYPE=image/jpeg:https://vivalugo.es/wp-content/uploads/2025/12/xuvenlugo-2025.jpg
END:VEVENT
BEGIN:VEVENT
DTSTART;VALUE=DATE:20251212
DTEND;VALUE=DATE:20260107
DTSTAMP:20260419T163214
CREATED:20251212T102158Z
LAST-MODIFIED:20251212T102238Z
UID:97795-1765497600-1767743999@vivalugo.es
SUMMARY:Pista de Xeo na Praza da Milagrosa
DESCRIPTION:Pista de Xeo na Praza da Milagrosa \nHorario escolar: \nLuns a venres de 16:30 a 22:00 \nSábado e domingo 11:00 a 14:00 e 16:30 a 23:00 \nHorario vacacional: \nLuns a domingo de 11:00 a 23:00 \nPrezo: 8€ \nFamilia numerosa: 6€
URL:https://vivalugo.es/evento/pista-de-xeo-na-praza-da-milagrosa/
LOCATION:Lugo
CATEGORIES:Varios
ATTACH;FMTTYPE=image/jpeg:https://vivalugo.es/wp-content/uploads/2025/12/pista-xeo-praza-milagrosa.jpg
END:VEVENT
BEGIN:VEVENT
DTSTART;VALUE=DATE:20251226
DTEND;VALUE=DATE:20260107
DTSTAMP:20260419T163214
CREATED:20251226T113245Z
LAST-MODIFIED:20251226T113245Z
UID:98270-1766707200-1767743999@vivalugo.es
SUMMARY:Nadal na Milagrosa
DESCRIPTION:Nadal na Milagrosa
URL:https://vivalugo.es/evento/nadal-na-milagrosa/
LOCATION:Lugo
CATEGORIES:Varios
ATTACH;FMTTYPE=image/jpeg:https://vivalugo.es/wp-content/uploads/2025/12/nadal-na-milagrosa.jpg
END:VEVENT
BEGIN:VEVENT
DTSTART;VALUE=DATE:20260103
DTEND;VALUE=DATE:20260104
DTSTAMP:20260419T163214
CREATED:20251231T194238Z
LAST-MODIFIED:20251231T194238Z
UID:98353-1767398400-1767484799@vivalugo.es
SUMMARY:Mercado de Nadal na Praza de Abastos
DESCRIPTION:Mercado de Nadal na Praza de Abastos \nSábado\, 3 de xaneiro\nPraza de Abastos de Lugo\nDe 10:00 a 14:00 e de 16:00 a 20:00 \nPostos de artesanía e dous obradoiros: \n17:00 Como dirixir a túa primeira partida de rol con @amesadebreogan\n19:00 Cantigas e tradicións do Nadal lucense con @branquipanqui
URL:https://vivalugo.es/evento/mercado-de-nadal-na-praza-de-abastos/
LOCATION:Lugo
CATEGORIES:Varios
ATTACH;FMTTYPE=image/jpeg:https://vivalugo.es/wp-content/uploads/2025/12/mercado-nadal-praza-de-abastos.jpg
END:VEVENT
BEGIN:VEVENT
DTSTART;VALUE=DATE:20260103
DTEND;VALUE=DATE:20260105
DTSTAMP:20260419T163214
CREATED:20251215T155002Z
LAST-MODIFIED:20251215T155002Z
UID:97933-1767398400-1767571199@vivalugo.es
SUMMARY:Corais no recinto histórico
DESCRIPTION:Corais no recinto histórico\n\n\n\nSábado 3 de xaneiro: Coro Xuvenil de Lugo 12:00 – 13:30 (4 pases de 20 min en Quiroga Ballesteros\, Armañá con Conde Pallares\, Fondo Praza Maior e Diante do Concello)\n\nDomingo 4 de xaneiro: Coro Xuvenil de Lugo 12:00 – 13:30 (4 pases de 20 min en Rúa San Marcos\, Santo Domingo\, San Pedro con Rúa Progreso e Rúa da Raíña)
URL:https://vivalugo.es/evento/corais-no-recinto-historico/
LOCATION:Lugo
CATEGORIES:Conciertos
ATTACH;FMTTYPE=image/jpeg:https://vivalugo.es/wp-content/uploads/2025/12/corais-nadal-2025.jpg
END:VEVENT
BEGIN:VEVENT
DTSTART;TZID=Europe/Madrid:20260103T110000
DTEND;TZID=Europe/Madrid:20260103T110000
DTSTAMP:20260419T163214
CREATED:20251201T145946Z
LAST-MODIFIED:20251201T145946Z
UID:97322-1767438000-1767438000@vivalugo.es
SUMMARY:Obradoiro "Deseña o teu boneco e lévao á realidade"
DESCRIPTION:Obradoiro «Deseña o teu boneco e lévao á realidade» \nMuseo Provincial de Lugo \nImaxina\, debuxa e crea. \nPartindo dun bosquexo en papel\, daremos vida a bonecos brandiños utilizando feltro\, teas e fibra. Un obradoiro ideal para iniciarse na costura básica e o deseño de personaxes. \n\n\nData: 3 de xaneiro. \n\n\nHorario: De 11:00 a 13:30 h. \n\n\nPrazas: Máximo 20 participantes. \n\n\nPúblico: Actividade interxeracional (cativos acompañados de adultos). \n\n\nPara reservar a túa praza ou solicitar máis información\, contacta no seguinte correo concertacionsrmp@gmail.com.
URL:https://vivalugo.es/evento/obradoiro-desena-o-teu-boneco-e-levao-a-realidade/
LOCATION:Museo Provincial de Lugo\, Praza da Soidade\, s/n\, Lugo\, 27001
CATEGORIES:Cursos
END:VEVENT
BEGIN:VEVENT
DTSTART;TZID=Europe/Madrid:20260103T110000
DTEND;TZID=Europe/Madrid:20260103T110000
DTSTAMP:20260419T163214
CREATED:20251230T152449Z
LAST-MODIFIED:20251230T152513Z
UID:98331-1767438000-1767438000@vivalugo.es
SUMMARY:(Tamén ás 12:30) Contacontos miúdos “Un extraño regalo”
DESCRIPTION:Contacontos miúdos “Un extraño regalo” \n\n11:00 e 12:30\n03/01/2026 – O Vello Cárcere de Lugo \n\n\nNeste conto de José Carlos Román un paquete misterioso chega á casa dunha pequena musaraña. \nOs animais do bosque pensan que o agasallo é para eles e prexuzgan a musaraña. \nCon este conto aprenderemos valores como a amizade\, a xenerosidade e a importancia de non xulgar aos demais. \nO tempo restante\, os participantes poderán ler\, debuxar ou xogar no Espazo de Lecer. \nPúblico: nados entre 2017 e 2022 inclusive. \nAforo: 15 persoas. \n*Recoméndase inscrición previa a partir do luns 29 de decembro (inclusive)
URL:https://vivalugo.es/evento/tamen-as-1230-contacontos-miudos-un-extrano-regalo/
LOCATION:O Vello Cárcere\, Av. Alcalde Anxo López Pérez\, 10\, Lugo\, Lugo\, 27002\, Spain
CATEGORIES:Artes escénicas
END:VEVENT
BEGIN:VEVENT
DTSTART;TZID=Europe/Madrid:20260103T110000
DTEND;TZID=Europe/Madrid:20260103T110000
DTSTAMP:20260419T163214
CREATED:20251231T194903Z
LAST-MODIFIED:20251231T194903Z
UID:98357-1767438000-1767438000@vivalugo.es
SUMMARY:Paseo guiado "Arte nos barrios do norte de Lugo"
DESCRIPTION:Paseo guiado «Arte nos barrios do norte de Lugo» \nGuido Guía: \n«4 paseos guiados pola arte dos barrios do norte\, leste\, sur e oeste de Lugo. \nUnha oportunidade para descubrir a fondo\, durante 4 sábados\, distintas obras dos barrios da cidade\, que\, como sabedes\, leva moitos anos sendo recoñecida como unha gran capital artística con variados premios nacionais e internacionais  \nAquí tedes as datas!  \n03/01 Os barrios do Norte – 11:00 a 13:00 horas – Saída: praza da Milagrosa\n10/01 Os barrios do Leste\n17/01 Os barrios do Sur\n24/01 Os barrios do Oeste \nContamos contigo? Inscricións en guidoguiaturismo@gmail.com «
URL:https://vivalugo.es/evento/paseo-guiado-arte-nos-barrios-do-norte-de-lugo/
LOCATION:Lugo
CATEGORIES:Varios
ATTACH;FMTTYPE=image/jpeg:https://vivalugo.es/wp-content/uploads/2025/12/paseo-guiado-arte-nos-barrios.jpg
END:VEVENT
BEGIN:VEVENT
DTSTART;TZID=Europe/Madrid:20260103T113000
DTEND;TZID=Europe/Madrid:20260103T113000
DTSTAMP:20260419T163214
CREATED:20251222T153159Z
LAST-MODIFIED:20251222T153159Z
UID:98163-1767439800-1767439800@vivalugo.es
SUMMARY:Obradoiro de Nadal no Museo universitario Domus do Mitreo
DESCRIPTION:Obradoiro de Nadal no Museo universitario Domus do Mitreo \nObradoiro dirixido ás familias: ‘Olores e sabores da antiga Roma: descubrindo a domus a través dos sentidos’\, convídase a descubrir o xacemento de forma interactiva. \nA través dunha percepción sensorial\, deberase vincular olores\, sabores ou sons coas distintas estancias do espazo museístico. \nEstes obradoiros desenvolveranse ás 11.30 horas os días 27 de decembro e 3 de xaneiro\, cunha duración de 35 minutos e unha visita guiada posterior. \nO acceso é gratuíto previa reserva da entrada no teléfono 610323926 o en museomitreo.lugo@fundacionusc.gal.
URL:https://vivalugo.es/evento/obradoiro-de-nadal-no-museo-universitario-domus-do-mitreo/
LOCATION:Domus do Mitreo\, Praza Pío XII\, 3\, Lugo\, 27001
CATEGORIES:Cursos
ATTACH;FMTTYPE=image/jpeg:https://vivalugo.es/wp-content/uploads/2025/12/obradoiro-olores-sabores-antiga-roma.jpg
END:VEVENT
BEGIN:VEVENT
DTSTART;TZID=Europe/Madrid:20260103T130000
DTEND;TZID=Europe/Madrid:20260103T130000
DTSTAMP:20260419T163214
CREATED:20251226T110646Z
LAST-MODIFIED:20251226T110646Z
UID:98244-1767445200-1767445200@vivalugo.es
SUMMARY:Concerto de Punk'on Keixo
DESCRIPTION:Concerto de Punk’on Keixo \nSábado 03 de xaneiro de 2025 \n13:00 horas \nEntrada de balde \nMadia Leva C. S. Lugo
URL:https://vivalugo.es/evento/concerto-punkon-keixo/
LOCATION:Madia Leva\, Serra de Ancares 18\, Lugo
CATEGORIES:Conciertos
ATTACH;FMTTYPE=image/jpeg:https://vivalugo.es/wp-content/uploads/2025/12/concerto-punk-on-keixo.jpg
END:VEVENT
BEGIN:VEVENT
DTSTART;TZID=Europe/Madrid:20260103T193000
DTEND;TZID=Europe/Madrid:20260103T193000
DTSTAMP:20260419T163214
CREATED:20251230T152915Z
LAST-MODIFIED:20251230T152915Z
UID:98334-1767468600-1767468600@vivalugo.es
SUMMARY:19:45 horas - Concierto de Navidad de Alma Selene
DESCRIPTION:Concierto de Navidad de Alma Selene \nIglesia Parroquial de San Lorenzo de Albeiros \nSábado 03 de enero de 2026 \n19:45 horas \nEntrada libre hasta completar aforo
URL:https://vivalugo.es/evento/1945-horas-concierto-de-navidad-de-alma-selene/
LOCATION:Lugo
CATEGORIES:Conciertos
ATTACH;FMTTYPE=image/jpeg:https://vivalugo.es/wp-content/uploads/2025/12/concierto-navidad-alma-selene-scaled.jpg
END:VEVENT
BEGIN:VEVENT
DTSTART;TZID=Europe/Madrid:20260103T200000
DTEND;TZID=Europe/Madrid:20260103T200000
DTSTAMP:20260419T163214
CREATED:20251215T105107Z
LAST-MODIFIED:20251215T105144Z
UID:97898-1767470400-1767470400@vivalugo.es
SUMMARY:IX Galicia Magic Fest
DESCRIPTION:IX Galicia Magic Fest \nAuditorio Municipal Gustavo Freire | Lugo \n\n03 de Xaneiro de 2026 ás 20:00 horas \n«Prepárate para vivir un Nadal inolvidable\, porque o Galicia Magic Fest chega coa súa novena edición máis espectacular que nunca. Reunimos á élite mundial do ilusionismo\, artistas que conquistaron os escenarios máis grandes e os corazóns de millones. ¡Non perdas a oportunidade de velos en directo!» \nEntradas: Ataquilla
URL:https://vivalugo.es/evento/ix-galicia-magic-fest/
LOCATION:​Auditorio Municipal Gustavo Freire\, Parque da Milagrosa\, Avda. da Coruña\, s/n\, Lugo\, Lugo\, 27003\, Spain
CATEGORIES:Artes escénicas
ATTACH;FMTTYPE=image/jpeg:https://vivalugo.es/wp-content/uploads/2025/12/galicia-magic-fest.jpg
END:VEVENT
BEGIN:VEVENT
DTSTART;TZID=Europe/Madrid:20260103T223000
DTEND;TZID=Europe/Madrid:20260103T223000
DTSTAMP:20260419T163214
CREATED:20260102T100656Z
LAST-MODIFIED:20260102T100656Z
UID:98377-1767479400-1767479400@vivalugo.es
SUMMARY:Duetos Luis Monsalve no Clavi
DESCRIPTION:Duetos Luis Monsalve no Clavi \n22:30 horas \nSábado 03 de xaneiro de 2025 \nClub Clavicémbalo
URL:https://vivalugo.es/evento/duetos-luis-monsalve-no-clavi/
LOCATION:Club Clavicémbalo\, Rúa dos Paxariños\, 23\, Lugo\, Lugo\, 27002\, Spain
CATEGORIES:Conciertos
ATTACH;FMTTYPE=image/jpeg:https://vivalugo.es/wp-content/uploads/2026/01/club-clavicembalo-xaneiro-2026.jpg
END:VEVENT
END:VCALENDAR