BEGIN:VCALENDAR
VERSION:2.0
PRODID:-//VivaLugo - ECPv6.15.13.1//NONSGML v1.0//EN
CALSCALE:GREGORIAN
METHOD:PUBLISH
X-WR-CALNAME:VivaLugo
X-ORIGINAL-URL:https://vivalugo.es
X-WR-CALDESC:Eventos para VivaLugo
REFRESH-INTERVAL;VALUE=DURATION:PT1H
X-Robots-Tag:noindex
X-PUBLISHED-TTL:PT1H
BEGIN:VTIMEZONE
TZID:Europe/Madrid
BEGIN:DAYLIGHT
TZOFFSETFROM:+0100
TZOFFSETTO:+0200
TZNAME:CEST
DTSTART:20250330T010000
END:DAYLIGHT
BEGIN:STANDARD
TZOFFSETFROM:+0200
TZOFFSETTO:+0100
TZNAME:CET
DTSTART:20251026T010000
END:STANDARD
BEGIN:DAYLIGHT
TZOFFSETFROM:+0100
TZOFFSETTO:+0200
TZNAME:CEST
DTSTART:20260329T010000
END:DAYLIGHT
BEGIN:STANDARD
TZOFFSETFROM:+0200
TZOFFSETTO:+0100
TZNAME:CET
DTSTART:20261025T010000
END:STANDARD
BEGIN:DAYLIGHT
TZOFFSETFROM:+0100
TZOFFSETTO:+0200
TZNAME:CEST
DTSTART:20270328T010000
END:DAYLIGHT
BEGIN:STANDARD
TZOFFSETFROM:+0200
TZOFFSETTO:+0100
TZNAME:CET
DTSTART:20271031T010000
END:STANDARD
END:VTIMEZONE
BEGIN:VEVENT
DTSTART;TZID=Europe/Madrid:20260109T183000
DTEND;TZID=Europe/Madrid:20260109T183000
DTSTAMP:20260419T163133
CREATED:20260108T112159Z
LAST-MODIFIED:20260108T180044Z
UID:98416-1767983400-1767983400@vivalugo.es
SUMMARY:Visita guiada - "Paseando cariñosas alimañas"
DESCRIPTION:O venres 9 de xaneiro as 18.30 horas terá lugar unha visita guiada á exposición «Paseando cariñosas alimañas» de Paco Pestana no Vello Carcere en Lugo. \nInscrición previa en \n982 297 195 \nvellocarcere@lugo.gal
URL:https://vivalugo.es/evento/visita-guiada-paseando-carinosas-alimanas/
LOCATION:O Vello Cárcere\, Av. Alcalde Anxo López Pérez\, 10\, Lugo\, Lugo\, 27002\, Spain
CATEGORIES:Expos
ATTACH;FMTTYPE=image/jpeg:https://vivalugo.es/wp-content/uploads/2026/01/visita-paseando.jpg
END:VEVENT
BEGIN:VEVENT
DTSTART;TZID=Europe/Madrid:20260109T190000
DTEND;TZID=Europe/Madrid:20260109T190000
DTSTAMP:20260419T163133
CREATED:20260108T175829Z
LAST-MODIFIED:20260109T115612Z
UID:98515-1767985200-1767985200@vivalugo.es
SUMMARY:Reunión aberta do grupo de consumo
DESCRIPTION:Reunión aberta do grupo de consumo \nVenres 09 de xaneiro de 2026 \n19:00 horas \nA Hedreira C.S. Lugo
URL:https://vivalugo.es/evento/reunion-aberta-do-grupo-de-consumo/
LOCATION:A Hedreira\, Rua Catasol\, 17\, Lugo\, 27002
CATEGORIES:Varios
ATTACH;FMTTYPE=image/jpeg:https://vivalugo.es/wp-content/uploads/2026/01/reunio-aberta-grupo-consumo.jpg
END:VEVENT
BEGIN:VEVENT
DTSTART;TZID=Europe/Madrid:20260109T203000
DTEND;TZID=Europe/Madrid:20260109T203000
DTSTAMP:20260419T163133
CREATED:20251215T105511Z
LAST-MODIFIED:20260108T183219Z
UID:97901-1767990600-1767990600@vivalugo.es
SUMMARY:(CANCELADO) Gran Concerto de Aninovo da Strauss Festival Orchestra + Ballet
DESCRIPTION:CANCELADO – Non aparece na web de Ataquilla\, sen confirmación do organizador\, probablemente CANCELADO \nGran Concerto de Aninovo da Strauss Festival Orchestra + Ballet \nAuditorio Municipal Gustavo Freire | Lugo \n\n09 de Xaneiro de 2026 ás 20:30 horas \n«Que ten esta produción para namorar dela mesmo ao público máis esixente das mellores salas de concertos de toda Europa? \nSe es amante da música clásica\, os títulos máis famosos do Rei do Vals\, Napoleón\, Fiesta de las flores\, El vals del emperador o Champagne\, te serán familiares. O vals máis célebre de todos\, El Bello Danubio azul e a Marcha Radetzky completan este extraordinario concerto que emocionou a máis de 5 millóns de espectadores en todo o mundo. \nMusikverein de Viena\, Concertgebouw de Amsterdam\, la Philarmonie de Berlín\, el Musikhalle de Hamburgo\, el Auditorium Parco della Musica de Roma\, el Gran Teatre del Liceu\, el Palau de la Música de Barcelona o el Teatro Real de Madrid… Estes son só algúns dos recintos que estaban cheos para ver un dos eventos máis esperados da tempada musical. \nAgora ti tamén podes gozar deste fenómeno musical!» \nEntradas: Ataquilla
URL:https://vivalugo.es/evento/gran-concerto-de-aninovo-da-strauss-festival-orchestra-ballet/
LOCATION:​Auditorio Municipal Gustavo Freire\, Parque da Milagrosa\, Avda. da Coruña\, s/n\, Lugo\, Lugo\, 27003\, Spain
CATEGORIES:Conciertos
END:VEVENT
BEGIN:VEVENT
DTSTART;TZID=Europe/Madrid:20260109T210000
DTEND;TZID=Europe/Madrid:20260109T210000
DTSTAMP:20260419T163133
CREATED:20260108T174422Z
LAST-MODIFIED:20260109T115638Z
UID:98497-1767992400-1767992400@vivalugo.es
SUMMARY:Candlelight no Círculo das Artes - Coldplay vs. Imagine Dragons
DESCRIPTION:Candlelight no Círculo das Artes – Coldplay vs. Imagine Dragons \nVenres 09 de xaneiro de 2026 \n21:00 horas
URL:https://vivalugo.es/evento/candlelight-no-circulo-das-artes-coldplay-vs-imagine-dragons/
LOCATION:Círculo das Artes\, Praza Maior\, 23\, Lugo\, Lugo\, 27001\, Spain
CATEGORIES:Conciertos
ATTACH;FMTTYPE=image/jpeg:https://vivalugo.es/wp-content/uploads/2026/01/candlelight-circulo-das-artes.jpg
END:VEVENT
BEGIN:VEVENT
DTSTART;TZID=Europe/Madrid:20260109T223000
DTEND;TZID=Europe/Madrid:20260109T223000
DTSTAMP:20260419T163133
CREATED:20260108T180642Z
LAST-MODIFIED:20260109T115745Z
UID:98521-1767997800-1767997800@vivalugo.es
SUMMARY:Concierto de Shug R’Band en Sala Jagger
DESCRIPTION:Concierto de Shug R’Band en Sala Jagger \n\nViernes 9 de enero de 2026 – 22:30 horas – Entrada libre\n\nBlues\, soul y rock del que te hace moverte. Una banda de 6 músicos con muchas tablas\,\n\n\nun directo con saxo incluido y clásicos del rock and roll de los 80 que suenan más vivos que nunca.
URL:https://vivalugo.es/evento/concierto-de-shug-rband-en-sala-jagger/
LOCATION:Sala Jagger\, Rua da Cruz 20\, Lugo\, Lugo\, 27001
CATEGORIES:Conciertos
ATTACH;FMTTYPE=image/jpeg:https://vivalugo.es/wp-content/uploads/2026/01/concierto-de-shug-rband.jpg
END:VEVENT
BEGIN:VEVENT
DTSTART;TZID=Europe/Madrid:20260109T223000
DTEND;TZID=Europe/Madrid:20260109T223000
DTSTAMP:20260419T163133
CREATED:20260108T181104Z
LAST-MODIFIED:20260108T181104Z
UID:98524-1767997800-1767997800@vivalugo.es
SUMMARY:Concerto de Panosedán no Clavi
DESCRIPTION:Concerto de Panosedán no Clavi \nVenres 09 de xaneiro de 2026 \n22:30 horas \nClub Clavicémbalo\, Lugo \nPrograma do Club Clavicémbalo – Xaneiro 2026
URL:https://vivalugo.es/evento/concerto-de-panosedan-no-clavi/
LOCATION:Club Clavicémbalo\, Rúa dos Paxariños\, 23\, Lugo\, Lugo\, 27002\, Spain
CATEGORIES:Conciertos
ATTACH;FMTTYPE=image/jpeg:https://vivalugo.es/wp-content/uploads/2026/01/concerto-panosedan.jpg
END:VEVENT
END:VCALENDAR