BEGIN:VCALENDAR
VERSION:2.0
PRODID:-//VivaLugo - ECPv6.15.13.1//NONSGML v1.0//EN
CALSCALE:GREGORIAN
METHOD:PUBLISH
X-ORIGINAL-URL:https://vivalugo.es
X-WR-CALDESC:Eventos para VivaLugo
REFRESH-INTERVAL;VALUE=DURATION:PT1H
X-Robots-Tag:noindex
X-PUBLISHED-TTL:PT1H
BEGIN:VTIMEZONE
TZID:Europe/Madrid
BEGIN:DAYLIGHT
TZOFFSETFROM:+0100
TZOFFSETTO:+0200
TZNAME:CEST
DTSTART:20250330T010000
END:DAYLIGHT
BEGIN:STANDARD
TZOFFSETFROM:+0200
TZOFFSETTO:+0100
TZNAME:CET
DTSTART:20251026T010000
END:STANDARD
BEGIN:DAYLIGHT
TZOFFSETFROM:+0100
TZOFFSETTO:+0200
TZNAME:CEST
DTSTART:20260329T010000
END:DAYLIGHT
BEGIN:STANDARD
TZOFFSETFROM:+0200
TZOFFSETTO:+0100
TZNAME:CET
DTSTART:20261025T010000
END:STANDARD
BEGIN:DAYLIGHT
TZOFFSETFROM:+0100
TZOFFSETTO:+0200
TZNAME:CEST
DTSTART:20270328T010000
END:DAYLIGHT
BEGIN:STANDARD
TZOFFSETFROM:+0200
TZOFFSETTO:+0100
TZNAME:CET
DTSTART:20271031T010000
END:STANDARD
END:VTIMEZONE
BEGIN:VEVENT
DTSTART;TZID=Europe/Madrid:20260111T183000
DTEND;TZID=Europe/Madrid:20260111T183000
DTSTAMP:20260419T175953
CREATED:20260108T160224Z
LAST-MODIFIED:20260108T162130Z
UID:98465-1768156200-1768156200@vivalugo.es
SUMMARY:Familiar "Sé tortuga"
DESCRIPTION:Familiar «Sé tortuga»\nDe Xip xap Teatre \n\n\n\n\nDomingo\, 11 de xaneiro de 2026 18:30 hs. \nLugar: Auditorio Municipal Gustavo Freire \n\n\n\n\nIdade recomendada: A partir dos 4 anos \nSinopse: \nCoa fórmula de fábula\, un galo e unhas entrañables tartarugas farán que descubramos a importancia de vivir e disfrutar das cousas dun xeito tranquilo e sen presas. E do gran poder que ten o amar e ser amable\, porque sí\, sen agardar nada a cambio. \nUnha historia divertida\, na que uns personaxes intelixentes apelan tamén á intelixencia do espectador. \nO galo está pasándoo fatal. Leva moito tempo sen traballo e non ten un céntimo. Un día ofrécenlle ser profesor de canto e todo é entusiasmo\, pero o traballo non é o que esperaba\, as súas alumnas son as Wonderful\, cinco tartarugas cunhas voces non demasiado dotadas para o canto que pretenden que o galo lles axude a gañar un concurso. \nCo seu entrañable optimismo e a súa bondade infinita\, as tartarugas porán a proba a paciencia do galo e ensínaránlle que\, nesta vida\, o importante non é chegar lonxe senon disfrutar do camiño. \nPremio Provincia a Escena (2024). Feria de Teatro de Castilla y León. \nPremio Edebé de Literatura Infantil (2023) para a obra orixinal «Sé Tortuga» de Agustín Sánchez Aguilar. \nENTRADAS \nAdquisición de entradas a través do portal web entradaslugo.es e no Vello Cárcere ata 3 horas antes do comezo de cada función; e no auditorio\, o día da función\, desde unha hora e media antes do comezo do espectáculo. \nProgramación do Auditorio Gustavo Freire no primeiro semestre do 2026
URL:https://vivalugo.es/evento/familiar-se-tortuga/
LOCATION:​Auditorio Municipal Gustavo Freire\, Parque da Milagrosa\, Avda. da Coruña\, s/n\, Lugo\, Lugo\, 27003\, Spain
CATEGORIES:Artes escénicas
END:VEVENT
END:VCALENDAR