BEGIN:VCALENDAR
VERSION:2.0
PRODID:-//VivaLugo - ECPv6.15.13.1//NONSGML v1.0//EN
CALSCALE:GREGORIAN
METHOD:PUBLISH
X-WR-CALNAME:VivaLugo
X-ORIGINAL-URL:https://vivalugo.es
X-WR-CALDESC:Eventos para VivaLugo
REFRESH-INTERVAL;VALUE=DURATION:PT1H
X-Robots-Tag:noindex
X-PUBLISHED-TTL:PT1H
BEGIN:VTIMEZONE
TZID:Europe/Madrid
BEGIN:DAYLIGHT
TZOFFSETFROM:+0100
TZOFFSETTO:+0200
TZNAME:CEST
DTSTART:20250330T010000
END:DAYLIGHT
BEGIN:STANDARD
TZOFFSETFROM:+0200
TZOFFSETTO:+0100
TZNAME:CET
DTSTART:20251026T010000
END:STANDARD
BEGIN:DAYLIGHT
TZOFFSETFROM:+0100
TZOFFSETTO:+0200
TZNAME:CEST
DTSTART:20260329T010000
END:DAYLIGHT
BEGIN:STANDARD
TZOFFSETFROM:+0200
TZOFFSETTO:+0100
TZNAME:CET
DTSTART:20261025T010000
END:STANDARD
BEGIN:DAYLIGHT
TZOFFSETFROM:+0100
TZOFFSETTO:+0200
TZNAME:CEST
DTSTART:20270328T010000
END:DAYLIGHT
BEGIN:STANDARD
TZOFFSETFROM:+0200
TZOFFSETTO:+0100
TZNAME:CET
DTSTART:20271031T010000
END:STANDARD
END:VTIMEZONE
BEGIN:VEVENT
DTSTART;TZID=Europe/Madrid:20260115T200000
DTEND;TZID=Europe/Madrid:20260115T200000
DTSTAMP:20260419T163059
CREATED:20260108T180230Z
LAST-MODIFIED:20260113T121043Z
UID:98519-1768507200-1768507200@vivalugo.es
SUMMARY:Presentación do libro "Manual para destapar a un policía infiltrado"
DESCRIPTION:Presentación do libro «Manual para destapar a un policía infiltrado» \nXoves 15 de xaneiro de 2026 \n20:00 horas \nC.S. A Hedreira\, Lugo
URL:https://vivalugo.es/evento/presentacion-do-libro-manual-para-destapar-a-un-policia-infiltrado/
LOCATION:A Hedreira\, Rua Catasol\, 17\, Lugo\, 27002
CATEGORIES:Presentaciones
ATTACH;FMTTYPE=image/jpeg:https://vivalugo.es/wp-content/uploads/2026/01/presentacion-libro-manual-destapar-policia.jpg
END:VEVENT
BEGIN:VEVENT
DTSTART;TZID=Europe/Madrid:20260115T200000
DTEND;TZID=Europe/Madrid:20260115T200000
DTSTAMP:20260419T163059
CREATED:20260108T184144Z
LAST-MODIFIED:20260108T184144Z
UID:98542-1768507200-1768507200@vivalugo.es
SUMMARY:Concerto Xove Orquestra Terra Nova
DESCRIPTION:Concerto Xove Orquestra Terra Nova \n\n\n\n15 de Xaneiro 2026\, 20:00 – Salón de actos (ata completar capacidade) Biblioteca Provincial de Lugo\n\n\n\n\n\n\n\n\n\n\nUnha banda de música clásica lucense formada por un grupo de rapaces que queren darlle unha nova volta aos clásicos \n 
URL:https://vivalugo.es/evento/concerto-xove-orquestra-terra-nova/
LOCATION:Biblioteca Provincial de Lugo\, Avda Ramón Ferreiro\, Lugo
CATEGORIES:Conciertos
ATTACH;FMTTYPE=image/jpeg:https://vivalugo.es/wp-content/uploads/2026/01/concerto-xove-orquestra-terra-nova.jpg
END:VEVENT
BEGIN:VEVENT
DTSTART;TZID=Europe/Madrid:20260115T203000
DTEND;TZID=Europe/Madrid:20260115T203000
DTSTAMP:20260419T163059
CREATED:20260108T162339Z
LAST-MODIFIED:20260108T162339Z
UID:98481-1768509000-1768509000@vivalugo.es
SUMMARY:Teatro - Manual de Patronaxe
DESCRIPTION:Teatro – Manual de Patronaxe\nTeatro do Noroeste \n\n\n\n\nXoves\, 15 de xaneiro de 2026 20:30 hs. \n\n\n\n\n\nLugar: Auditorio Municipal Gustavo Freire \nIdade recomendada: A partir dos 14 anos \n\nENTRADAS \nAdquisición de entradas a través do portal web entradaslugo.es e no Vello Cárcere ata 3 horas antes do comezo de cada función; e no auditorio\, o día da función\, desde unha hora e media antes do comezo do espectáculo. \nProgramación do Auditorio Gustavo Freire no primeiro semestre do 2026
URL:https://vivalugo.es/evento/teatro-manual-de-patronaxe/
LOCATION:​Auditorio Municipal Gustavo Freire\, Parque da Milagrosa\, Avda. da Coruña\, s/n\, Lugo\, Lugo\, 27003\, Spain
CATEGORIES:Artes escénicas
END:VEVENT
BEGIN:VEVENT
DTSTART;TZID=Europe/Madrid:20260115T203000
DTEND;TZID=Europe/Madrid:20260115T203000
DTSTAMP:20260419T163059
CREATED:20260108T175109Z
LAST-MODIFIED:20260109T115909Z
UID:98503-1768509000-1768509000@vivalugo.es
SUMMARY:Oráculo con Wences Lamas
DESCRIPTION:Oráculo con Wences Lamas\nXoves 15 de xaneiro de 2026 \n20:30 horas \nFacela Bar\, Lugo \n«O Oráculo vai de xuntar a unhas cantas persoas e facer que cada unha delas meta unha cuestión sobre algo que lle preocupa\, escrita nun papelciño\, nun bote de cristal. Despois\, mediante tarots tolos tipo ovos Kinder\, sargadelos mal ou memes\, botarémoslle amor a esas preguntas. E ademais aproveitaremos o poder deses grupos improvisados para realizar pequenos actos de sortilexio sobre o que doe. \nO artista e terapeuta zurdo e lucense Wences Lamas ( @wenceslamas ) é quen conduce a experiencia. \nE así\, con este ritual compartido\, comezamos o 2026 mirando de fronte o que nos depara este novo ano.» Facela Bar
URL:https://vivalugo.es/evento/oraculo-con-wences-lamas/
LOCATION:FACELA BAR\, Rúa Tinería 7-9\, Lugo
CATEGORIES:Artes escénicas
ATTACH;FMTTYPE=image/jpeg:https://vivalugo.es/wp-content/uploads/2026/01/orcaulo-wences-lamas.jpg
END:VEVENT
BEGIN:VEVENT
DTSTART;TZID=Europe/Madrid:20260115T213000
DTEND;TZID=Europe/Madrid:20260115T213000
DTSTAMP:20260419T163059
CREATED:20260108T182025Z
LAST-MODIFIED:20260109T115933Z
UID:98533-1768512600-1768512600@vivalugo.es
SUMMARY:Improdutivas no Clavi
DESCRIPTION:O xoves 15 de xaneiro de 2026\, a partir das 21:30 (comeza ás 22h)\, no Club Clavicémbalo\, show de impro teatral con Improdutivas.
URL:https://vivalugo.es/evento/improdutivas-no-clavi/
LOCATION:Club Clavicémbalo\, Rúa dos Paxariños\, 23\, Lugo\, Lugo\, 27002\, Spain
CATEGORIES:Artes escénicas
ATTACH;FMTTYPE=image/jpeg:https://vivalugo.es/wp-content/uploads/2026/01/improdutivas-no-clavi.jpg
END:VEVENT
END:VCALENDAR