BEGIN:VCALENDAR
VERSION:2.0
PRODID:-//VivaLugo - ECPv6.15.13.1//NONSGML v1.0//EN
CALSCALE:GREGORIAN
METHOD:PUBLISH
X-WR-CALNAME:VivaLugo
X-ORIGINAL-URL:https://vivalugo.es
X-WR-CALDESC:Eventos para VivaLugo
REFRESH-INTERVAL;VALUE=DURATION:PT1H
X-Robots-Tag:noindex
X-PUBLISHED-TTL:PT1H
BEGIN:VTIMEZONE
TZID:Europe/Madrid
BEGIN:DAYLIGHT
TZOFFSETFROM:+0100
TZOFFSETTO:+0200
TZNAME:CEST
DTSTART:20250330T010000
END:DAYLIGHT
BEGIN:STANDARD
TZOFFSETFROM:+0200
TZOFFSETTO:+0100
TZNAME:CET
DTSTART:20251026T010000
END:STANDARD
BEGIN:DAYLIGHT
TZOFFSETFROM:+0100
TZOFFSETTO:+0200
TZNAME:CEST
DTSTART:20260329T010000
END:DAYLIGHT
BEGIN:STANDARD
TZOFFSETFROM:+0200
TZOFFSETTO:+0100
TZNAME:CET
DTSTART:20261025T010000
END:STANDARD
BEGIN:DAYLIGHT
TZOFFSETFROM:+0100
TZOFFSETTO:+0200
TZNAME:CEST
DTSTART:20270328T010000
END:DAYLIGHT
BEGIN:STANDARD
TZOFFSETFROM:+0200
TZOFFSETTO:+0100
TZNAME:CET
DTSTART:20271031T010000
END:STANDARD
END:VTIMEZONE
BEGIN:VEVENT
DTSTART;TZID=Europe/Madrid:20260116T170000
DTEND;TZID=Europe/Madrid:20260116T170000
DTSTAMP:20260419T163057
CREATED:20251209T153324Z
LAST-MODIFIED:20251209T153324Z
UID:97645-1768582800-1768582800@vivalugo.es
SUMMARY:Unha tarde con Miguel Anxo Macía
DESCRIPTION:Unha tarde con Miguel Anxo Macía \n«O venres 16 de xaneiro\, de 17h a 19h\, visitaremos o seu estudo no barrio do Carme\, desfutaremos dunha charla súa titulada «Como se afronta unha obra de arte» e agasallaranos a todos e a todas co libro «Biografía de Macía»\, con máis de 200 ilustracións e escrito polo Doutor en Filoloxía Camilo Gómez Torres. \n Remataremos tomando algo (por libre\, quen se anime) no Rincón do Bocata da rúa Montevideo!Se queredes inscribirvos\, podedes facelo a través do correo electrónico guidoguiaturismo@gmail.com! Lembrade que as prazas son limitadas e que é precisa a reserva para asegurarse o sitio.» Guido Guía \nGuido Guía conecta ao público con artistas lucenses.
URL:https://vivalugo.es/evento/unha-tarde-con-miguel-anxo-macia/
LOCATION:Lugo
CATEGORIES:Expos
ATTACH;FMTTYPE=image/jpeg:https://vivalugo.es/wp-content/uploads/2025/12/unha-tarde-con-macia.jpg
END:VEVENT
BEGIN:VEVENT
DTSTART;TZID=Europe/Madrid:20260116T170000
DTEND;TZID=Europe/Madrid:20260116T170000
DTSTAMP:20260419T163057
CREATED:20260112T183559Z
LAST-MODIFIED:20260112T183655Z
UID:98577-1768582800-1768582800@vivalugo.es
SUMMARY:Encontro coa escritora Elisa Vázquez de Gey
DESCRIPTION:Encontro coa escritora Elisa Vázquez de Gey\nO Club de lectura Lugo Patrimonio e a Librería Trama organizan unha charla aberta con Elisa Vázquez de Gey a propósito do seu libro ‘El alma del tango. Ada Falcón\, la diva’ \n\nVenres\, 16 de xaneiro\n17:00h\nLibrería Trama\n\nSobre ‘El alma del tango’\, de Elisa Vázquez de Gey e Eduardo Alberto Zavala: \nNa Arxentina de principios do século XX\, o nacemento do tango proporcionou a banda sonora dos teatros\, os inicios da radio\, as discográficas e o cine. Nun tempo récord\, Ada Falcón triunfa. A súa voz\, que incluso cativou a Gardel\, chegou ós fogares de todo o país\, os seus discos esgotáronse e as súas xoias\, romances e caprichos enchen as páxinas das revistas. É a estrela consentida que se move con facilidade nun mundo de homes\, elegante\, esplendorosa.  \nPero… ata onde pode chegar unha persoa para superar a dor da traizón? Porque\, de súpeto\, a célebre diva desaparece aos 37 anos e nunca máis volve cantar.\nMedio século despois\, un historiador arxentino e unha produtora española seguen o seu rastro ata un recuncho agochado. Alí\, a diva esquecida Ada Falcón rompe o seu silencio. E o que revela é unha historia fascinante onde a paixón\, a traizón\, a fe e a música se entrelazan coa intensidade dun tango eterno. Este libro é máis que unha novela: é unha viaxe literaria e documental á vida privada dunha muller irrepetible que decidiu reinventarse no misterio.
URL:https://vivalugo.es/evento/encontro-coa-escritora-elisa-vazquez-de-gey/
LOCATION:Librería Trama\, Avenida A Coruña\, 21\, Lugo\, 27003
CATEGORIES:Conferencias
ATTACH;FMTTYPE=image/png:https://vivalugo.es/wp-content/uploads/2026/01/encontro-escritora-elisa-vazquez-de-gey.png
END:VEVENT
BEGIN:VEVENT
DTSTART;TZID=Europe/Madrid:20260116T173000
DTEND;TZID=Europe/Madrid:20260116T173000
DTSTAMP:20260419T163057
CREATED:20260116T104016Z
LAST-MODIFIED:20260116T104016Z
UID:98674-1768584600-1768584600@vivalugo.es
SUMMARY:Contacontos "A estrela cos pés no chan"
DESCRIPTION:Contacontos «A estrela cos pés no chan» \nVenres 16 de xaneiro de 2026\, ás 17:30 horas\, na Librería Biblos de Lugo.
URL:https://vivalugo.es/evento/contacontos-a-estrela-cos-pes-no-chan/
LOCATION:Librería Biblos\, Avenida de Ramón Ferreiro\, Lugo\, Lugo\, 27002
CATEGORIES:Artes escénicas
ATTACH;FMTTYPE=image/jpeg:https://vivalugo.es/wp-content/uploads/2026/01/contacontos-a-estrela-cos-pes.jpg
END:VEVENT
BEGIN:VEVENT
DTSTART;TZID=Europe/Madrid:20260116T180000
DTEND;TZID=Europe/Madrid:20260116T180000
DTSTAMP:20260419T163057
CREATED:20260113T115017Z
LAST-MODIFIED:20260113T115017Z
UID:98599-1768586400-1768586400@vivalugo.es
SUMMARY:Cuentacuentos "El ladrón de nieve"
DESCRIPTION:Cuentacuentos «El ladrón de nieve» \nViernes 16 de enero de 2026 \n18:00 horas \nLibrería Soños de Papel\, Lugo \n«Vuelve la magia infantil a Soños de Papel con una historia increíble\, especial y divertida de la mano de @profealba_infantil \nNos contará “El ladrón de nieve” (súper conocido por ladrón de hojas\, flor y sol) y tendremos un obradoiro muy especial para hacer nieve y copos encantados. No podéis faltar!! \nAdemás\, este año todo sube\, pero nosotros queremos que podais venir y disfrutar como en el 2025 y los cuentacuentos mantendrán su precio por peque ~ 8€/peque \nEste es abierto a cualquier edad\, los siguientes\, haremos una aventura de 0-3 y otra de 3-6.» Librería Soños de Papel
URL:https://vivalugo.es/evento/cuentacuentos-el-ladron-de-nieve/
LOCATION:Librería Soños de Papel\, Calle María Castaña\, Esq. Augas Ferreas\, Lugo\, 27002
CATEGORIES:Artes escénicas
ATTACH;FMTTYPE=image/jpeg:https://vivalugo.es/wp-content/uploads/2026/01/cuentacuentos-el-ladron-de-nieve.jpg
END:VEVENT
BEGIN:VEVENT
DTSTART;TZID=Europe/Madrid:20260116T190000
DTEND;TZID=Europe/Madrid:20260116T190000
DTSTAMP:20260419T163057
CREATED:20260112T183334Z
LAST-MODIFIED:20260112T183334Z
UID:98574-1768590000-1768590000@vivalugo.es
SUMMARY:Presentación de "Adelina" de Sandra Lodi
DESCRIPTION:Presentación de «Adelina» de Sandra Lodi \n\nVenres\, 16 de xaneiro\n19:00h\nLibrería Trama\n\nSandra Lodi presenta na librería o seu libro Adelina (Premio Castelao de Banda Deseñada 2024). \nA autora estará acompañada de Alberto Guitián\, debuxante e humorista gráfico. \nSobre Adelina: \nAdelina é unha muller maior que escapa da residencia na que está internada contra a súa vontade cun propósito tan teimoso coma ela: volver á súa casa.  \nO resultado é unha obra que combina reivindicación\, humor e crítica social cun estilo divertido e irreverente.  \nUnha historia que defende a dignidade\, a liberdade persoal e o dereito a decidir como queremos vivir\, rompendo cos prexuízos e cos discursos idadistas. (Ed. Galaxia) 
URL:https://vivalugo.es/evento/presentacion-de-adelina-de-sandra-lodi/
LOCATION:Librería Trama\, Avenida A Coruña\, 21\, Lugo\, 27003
CATEGORIES:Presentaciones
ATTACH;FMTTYPE=image/jpeg:https://vivalugo.es/wp-content/uploads/2026/01/presentacion-adelina.jpg
END:VEVENT
BEGIN:VEVENT
DTSTART;TZID=Europe/Madrid:20260116T193000
DTEND;TZID=Europe/Madrid:20260116T193000
DTSTAMP:20260419T163057
CREATED:20260113T120612Z
LAST-MODIFIED:20260113T120612Z
UID:98607-1768591800-1768591800@vivalugo.es
SUMMARY:Regueifa Tour (hai obradoiro ás 18:00 horas)
DESCRIPTION:Regueifa Tour \nVenres 16 de xaneiro de 2026 \n18:00 Obradoiro de regueifa \n19:30 Regueifa tour \nC. S. Mádia Leva\, Lugo
URL:https://vivalugo.es/evento/regueifa-tour-hai-obradoiro-as-1800-horas/
LOCATION:Madia Leva\, Serra de Ancares 18\, Lugo
CATEGORIES:Conciertos
ATTACH;FMTTYPE=image/jpeg:https://vivalugo.es/wp-content/uploads/2026/01/regueifa-tour.jpg
END:VEVENT
BEGIN:VEVENT
DTSTART;TZID=Europe/Madrid:20260116T220000
DTEND;TZID=Europe/Madrid:20260116T220000
DTSTAMP:20260419T163057
CREATED:20260113T120950Z
LAST-MODIFIED:20260113T120950Z
UID:98610-1768600800-1768600800@vivalugo.es
SUMMARY:Concerto de Sweet Giant
DESCRIPTION:Concerto de Sweet Giant \nVenres 16 de xaneiro de 2026 \n22:00 horas \nClub Clavicémbalo\, Lugo \n«Modern indie rock from U.K.»
URL:https://vivalugo.es/evento/concerto-de-sweet-giant/
LOCATION:Club Clavicémbalo\, Rúa dos Paxariños\, 23\, Lugo\, Lugo\, 27002\, Spain
CATEGORIES:Conciertos
ATTACH;FMTTYPE=image/jpeg:https://vivalugo.es/wp-content/uploads/2026/01/concerto-sweet-giant.jpg
END:VEVENT
END:VCALENDAR