BEGIN:VCALENDAR
VERSION:2.0
PRODID:-//VivaLugo - ECPv6.15.13.1//NONSGML v1.0//EN
CALSCALE:GREGORIAN
METHOD:PUBLISH
X-WR-CALNAME:VivaLugo
X-ORIGINAL-URL:https://vivalugo.es
X-WR-CALDESC:Eventos para VivaLugo
REFRESH-INTERVAL;VALUE=DURATION:PT1H
X-Robots-Tag:noindex
X-PUBLISHED-TTL:PT1H
BEGIN:VTIMEZONE
TZID:Europe/Madrid
BEGIN:DAYLIGHT
TZOFFSETFROM:+0100
TZOFFSETTO:+0200
TZNAME:CEST
DTSTART:20250330T010000
END:DAYLIGHT
BEGIN:STANDARD
TZOFFSETFROM:+0200
TZOFFSETTO:+0100
TZNAME:CET
DTSTART:20251026T010000
END:STANDARD
BEGIN:DAYLIGHT
TZOFFSETFROM:+0100
TZOFFSETTO:+0200
TZNAME:CEST
DTSTART:20260329T010000
END:DAYLIGHT
BEGIN:STANDARD
TZOFFSETFROM:+0200
TZOFFSETTO:+0100
TZNAME:CET
DTSTART:20261025T010000
END:STANDARD
BEGIN:DAYLIGHT
TZOFFSETFROM:+0100
TZOFFSETTO:+0200
TZNAME:CEST
DTSTART:20270328T010000
END:DAYLIGHT
BEGIN:STANDARD
TZOFFSETFROM:+0200
TZOFFSETTO:+0100
TZNAME:CET
DTSTART:20271031T010000
END:STANDARD
END:VTIMEZONE
BEGIN:VEVENT
DTSTART;TZID=Europe/Madrid:20260118T183000
DTEND;TZID=Europe/Madrid:20260118T183000
DTSTAMP:20260419T163053
CREATED:20260108T162541Z
LAST-MODIFIED:20260108T165620Z
UID:98483-1768761000-1768761000@vivalugo.es
SUMMARY:Familiar - "A Tarabela Ambulante: IDEA"
DESCRIPTION:Familiar – «A Tarabela Ambulante: IDEA»\nDe Tarabela Creativa \n\n\n\n\nDomingo\, 18 de xaneiro de 2026 18:30 hs. \nLugar: Auditorio Municipal Gustavo Freire \n\n\n\n\n\nIdade recomendada: A partir dos 4 anos \n\n\n\n\nENTRADAS \n\n\n\n\n\nAdquisición de entradas a través do portal web entradaslugo.es e no Vello Cárcere ata 3 horas antes do comezo de cada función; e no auditorio\, o día da función\, desde unha hora e media antes do comezo do espectáculo. \nProgramación do Auditorio Gustavo Freire no primeiro semestre do 2026
URL:https://vivalugo.es/evento/familiar-a-tarabela-ambulante-idea/
LOCATION:​Auditorio Municipal Gustavo Freire\, Parque da Milagrosa\, Avda. da Coruña\, s/n\, Lugo\, Lugo\, 27003\, Spain
CATEGORIES:Artes escénicas
END:VEVENT
END:VCALENDAR