BEGIN:VCALENDAR
VERSION:2.0
PRODID:-//VivaLugo - ECPv6.15.13.1//NONSGML v1.0//EN
CALSCALE:GREGORIAN
METHOD:PUBLISH
X-WR-CALNAME:VivaLugo
X-ORIGINAL-URL:https://vivalugo.es
X-WR-CALDESC:Eventos para VivaLugo
REFRESH-INTERVAL;VALUE=DURATION:PT1H
X-Robots-Tag:noindex
X-PUBLISHED-TTL:PT1H
BEGIN:VTIMEZONE
TZID:Europe/Madrid
BEGIN:DAYLIGHT
TZOFFSETFROM:+0100
TZOFFSETTO:+0200
TZNAME:CEST
DTSTART:20250330T010000
END:DAYLIGHT
BEGIN:STANDARD
TZOFFSETFROM:+0200
TZOFFSETTO:+0100
TZNAME:CET
DTSTART:20251026T010000
END:STANDARD
BEGIN:DAYLIGHT
TZOFFSETFROM:+0100
TZOFFSETTO:+0200
TZNAME:CEST
DTSTART:20260329T010000
END:DAYLIGHT
BEGIN:STANDARD
TZOFFSETFROM:+0200
TZOFFSETTO:+0100
TZNAME:CET
DTSTART:20261025T010000
END:STANDARD
BEGIN:DAYLIGHT
TZOFFSETFROM:+0100
TZOFFSETTO:+0200
TZNAME:CEST
DTSTART:20270328T010000
END:DAYLIGHT
BEGIN:STANDARD
TZOFFSETFROM:+0200
TZOFFSETTO:+0100
TZNAME:CET
DTSTART:20271031T010000
END:STANDARD
END:VTIMEZONE
BEGIN:VEVENT
DTSTART;TZID=Europe/Madrid:20260126T170000
DTEND;TZID=Europe/Madrid:20260126T170000
DTSTAMP:20260419T163101
CREATED:20260122T164829Z
LAST-MODIFIED:20260122T164829Z
UID:98868-1769446800-1769446800@vivalugo.es
SUMMARY:Conferencia con motivo do Día Mundial da Educación Ambiental
DESCRIPTION:A UNED de Lugo organiza unha conferencia con motivo do Día Mundial da Educación Ambiental \nA UNED de Lugo\, a través do programa ODS en Acción promovido polo Observatorio ODS da UNED\, organiza a conferencia titulada “O espertar da consciencia ambiental desde a infancia: o proxecto pellets”\, que terá lugar o luns 26 de xaneiro de 2026\, ás 17:00 horas\, en modalidade presencial no Salón de Actos José Luis Prieto Arroyo da UNED Lugo\, e en modalidade en liña\, con posibilidade de asistencia en directo ou en diferido. \nNesta convocatoria\, a actividade insírese na conmemoración do Día Mundial da Educación Ambiental e pon en valor o ODS 4: Educación de calidade. \nO evento combina unha conferencia e un espazo de reflexión centrados no proxecto pellets\, unha iniciativa que procura espertar a consciencia ambiental desde idades temperás\, promovendo unha mirada que recoñeza a interdependencia entre os seres vivos e os ecosistemas\, así como o desenvolvemento do pensamento crítico\, o compromiso ético e a acción responsable. \nA xornada contará con poñentes cunha ampla traxectoria en educación na natureza e pedagoxía ambiental\, entre elas Bibiana Marful Castañal\, cofundadora e coordinadora pedagóxica do proxecto Nenea\, medrar creando\, e María Mayorga Martín\, xornalista e educadora social vencellada á educación ao aire libre. \nA inscrición\, que pode realizarse a través da ligazón https://extension.uned.es/actividad/idactividad/50075\, é gratuíta e a actividade está aberta ao público xeral\, podendo resultar de especial interese para o profesorado ao tratarse dunha proposta accesible e directamente aplicable na práctica educativa.
URL:https://vivalugo.es/evento/conferencia-con-motivo-do-dia-mundial-da-educacion-ambiental/
LOCATION:UNED LUGO\, Tolda de Castela Nº4B\, Lugo\, 27169
CATEGORIES:Conferencias
ATTACH;FMTTYPE=image/jpeg:https://vivalugo.es/wp-content/uploads/2026/01/conferencia-dia-mundial-conciencia-ambiental.jpg
END:VEVENT
BEGIN:VEVENT
DTSTART;TZID=Europe/Madrid:20260126T193000
DTEND;TZID=Europe/Madrid:20260126T193000
DTSTAMP:20260419T163101
CREATED:20260120T112728Z
LAST-MODIFIED:20260120T112728Z
UID:98761-1769455800-1769455800@vivalugo.es
SUMMARY:Cine do mundo - "Querido trópico"
DESCRIPTION:O Club Cultural Valle-Inclán inicia as actividades de cine do ano co ciclo  “Cine do mundo 2026”. Un percorrido desde Panamá a España\, pasando por Brasil e Portugal. \nA muller protagonista: inmigración\, demencia\, amizade\, xubilación\, liberación e axuda na defensa da terra fronte ao gran capital\, desenvoltos en xéneros de fantasía\, distopía\, política\, vida rural\, comedia… Temas que recollen as catro películas\, multipremiadas\, que se proxectarán de acordo con seguinte programa: \nDía 26 de xaneiro: Querido trópico\, de Ana Endara Mislov. Panamá\, 2024. 106 min VOE. \nDía 2 de febreiro: El sendero azul\, de Gabriel Mascaro. Brasil\, 2025. 86 min VOSE. \nDía 9 de febreiro: La sabana y la montaña\, de Paulo Carneiro. Portugal\, 2024. 77 min VOSE. \nDía 16 de febreiro: Mi amiga Eva\, de Cesc Gay. España\, 2025. 100 min VOE. \nInformación de cada película en https://clubvalleinclan.org/gl/peliculas/215 \nSalón de actos de O Vello Cárcere\, en sesión de 19:30 horas. \nEntrada libre e de balde ata completar aforo. Iniciada a proxección non se permitirá o acceso á sala.
URL:https://vivalugo.es/evento/cine-do-mundo-querido-tropico/
LOCATION:O Vello Cárcere\, Av. Alcalde Anxo López Pérez\, 10\, Lugo\, Lugo\, 27002\, Spain
CATEGORIES:Cine
ATTACH;FMTTYPE=image/jpeg:https://vivalugo.es/wp-content/uploads/2026/01/cine-do-mundo.jpg
END:VEVENT
BEGIN:VEVENT
DTSTART;TZID=Europe/Madrid:20260126T200000
DTEND;TZID=Europe/Madrid:20260126T200000
DTSTAMP:20260419T163101
CREATED:20260120T153626Z
LAST-MODIFIED:20260122T121400Z
UID:98786-1769457600-1769457600@vivalugo.es
SUMMARY:Ballet Clásico Internacional "El Cascanueces"
DESCRIPTION:Ballet Clásico Internacional «El Cascanueces» \nAuditorio Municipal Gustavo Freire | Lugo \n\n26 Xaneiro 2026 20:00 \nNa víspera dun Nadal inesquecible\, unha xove chamada Marie emprende unha travesía chea de maravillas e misterio. Acompañada polo Cascanueces\, se enfrenta ós  ratos malvados\, baila entre os copos de neve e finalmente chega ó Palacio Máxico. Alí\, todos os xoguetes cobran vida e bailan nuha festa inolvidable. \nO Ballet Clásico Internacional é un proxecto artístico de Tatiana Solovieva Producciones\, un equipo que leva 30 anos compartindo as mellores actuacións con España\, respectando\, honrando e difundindo a fermosa tradición do ballet clásico. \nConta coa colaboración do alumnado de grao elemental do Conservatorio Profesional de Danza de Lugo. \nEntradas: Ataquilla
URL:https://vivalugo.es/evento/ballet-clasico-internacional-el-cascanueces/
LOCATION:​Auditorio Municipal Gustavo Freire\, Parque da Milagrosa\, Avda. da Coruña\, s/n\, Lugo\, Lugo\, 27003\, Spain
CATEGORIES:Artes escénicas
ATTACH;FMTTYPE=image/jpeg:https://vivalugo.es/wp-content/uploads/2026/01/ballet-clasico-internacional-cascanueces.jpg
END:VEVENT
END:VCALENDAR