BEGIN:VCALENDAR
VERSION:2.0
PRODID:-//VivaLugo - ECPv6.15.13.1//NONSGML v1.0//EN
CALSCALE:GREGORIAN
METHOD:PUBLISH
X-ORIGINAL-URL:https://vivalugo.es
X-WR-CALDESC:Eventos para VivaLugo
REFRESH-INTERVAL;VALUE=DURATION:PT1H
X-Robots-Tag:noindex
X-PUBLISHED-TTL:PT1H
BEGIN:VTIMEZONE
TZID:Europe/Madrid
BEGIN:DAYLIGHT
TZOFFSETFROM:+0100
TZOFFSETTO:+0200
TZNAME:CEST
DTSTART:20250330T010000
END:DAYLIGHT
BEGIN:STANDARD
TZOFFSETFROM:+0200
TZOFFSETTO:+0100
TZNAME:CET
DTSTART:20251026T010000
END:STANDARD
BEGIN:DAYLIGHT
TZOFFSETFROM:+0100
TZOFFSETTO:+0200
TZNAME:CEST
DTSTART:20260329T010000
END:DAYLIGHT
BEGIN:STANDARD
TZOFFSETFROM:+0200
TZOFFSETTO:+0100
TZNAME:CET
DTSTART:20261025T010000
END:STANDARD
BEGIN:DAYLIGHT
TZOFFSETFROM:+0100
TZOFFSETTO:+0200
TZNAME:CEST
DTSTART:20270328T010000
END:DAYLIGHT
BEGIN:STANDARD
TZOFFSETFROM:+0200
TZOFFSETTO:+0100
TZNAME:CET
DTSTART:20271031T010000
END:STANDARD
END:VTIMEZONE
BEGIN:VEVENT
DTSTART;TZID=Europe/Madrid:20260127T180000
DTEND;TZID=Europe/Madrid:20260127T180000
DTSTAMP:20260419T155830
CREATED:20260126T183444Z
LAST-MODIFIED:20260126T183444Z
UID:98935-1769536800-1769536800@vivalugo.es
SUMMARY:Presentación do poemario “A outra patria”
DESCRIPTION:O martes 27 de xaneiro\, ás 18.00h\, Simón Rodríguez (@galegodecaracas en Instagram) presentará o seu poemario “A outra patria” na biblioteca da EIO Lugo. \nPublicado por Medulia Editorial despois de recibir o Premio Poesía O Facho 2023. \nEstará acompañado do tamén poeta Roberto López Veiga. \nSimón Rodríguez estudou galego na EOI de Lugo\, e actualmente é alumno de inglés. \nColabora activamente co EDLG como recitador\, no marco das actividades que se están realizando en colaboración cos conservatorios de música e danza\, dentro do proxecto de innovación en dinamización lingüística Música e poesía en movemento: sentindo a lingua.
URL:https://vivalugo.es/evento/presentacion-do-poemario-a-outra-patria/
LOCATION:EOI LUGO\, Rolda Músico Xosé Castiñeira\, 1\, Lugo\, 27002
CATEGORIES:Presentaciones
ATTACH;FMTTYPE=image/jpeg:https://vivalugo.es/wp-content/uploads/2026/01/presentacion-poemaria-a-outra-patria.jpg
END:VEVENT
END:VCALENDAR