BEGIN:VCALENDAR
VERSION:2.0
PRODID:-//VivaLugo - ECPv6.15.13.1//NONSGML v1.0//EN
CALSCALE:GREGORIAN
METHOD:PUBLISH
X-ORIGINAL-URL:https://vivalugo.es
X-WR-CALDESC:Eventos para VivaLugo
REFRESH-INTERVAL;VALUE=DURATION:PT1H
X-Robots-Tag:noindex
X-PUBLISHED-TTL:PT1H
BEGIN:VTIMEZONE
TZID:Europe/Madrid
BEGIN:DAYLIGHT
TZOFFSETFROM:+0100
TZOFFSETTO:+0200
TZNAME:CEST
DTSTART:20250330T010000
END:DAYLIGHT
BEGIN:STANDARD
TZOFFSETFROM:+0200
TZOFFSETTO:+0100
TZNAME:CET
DTSTART:20251026T010000
END:STANDARD
BEGIN:DAYLIGHT
TZOFFSETFROM:+0100
TZOFFSETTO:+0200
TZNAME:CEST
DTSTART:20260329T010000
END:DAYLIGHT
BEGIN:STANDARD
TZOFFSETFROM:+0200
TZOFFSETTO:+0100
TZNAME:CET
DTSTART:20261025T010000
END:STANDARD
BEGIN:DAYLIGHT
TZOFFSETFROM:+0100
TZOFFSETTO:+0200
TZNAME:CEST
DTSTART:20270328T010000
END:DAYLIGHT
BEGIN:STANDARD
TZOFFSETFROM:+0200
TZOFFSETTO:+0100
TZNAME:CET
DTSTART:20271031T010000
END:STANDARD
END:VTIMEZONE
BEGIN:VEVENT
DTSTART;TZID=Europe/Madrid:20260128T190000
DTEND;TZID=Europe/Madrid:20260128T190000
DTSTAMP:20260419T141144
CREATED:20260120T124755Z
LAST-MODIFIED:20260120T124755Z
UID:98773-1769626800-1769626800@vivalugo.es
SUMMARY:Meetup WordPress Lugo "Crear contido sen telo claro (e por que non pasa nada)"
DESCRIPTION:Meetup WordPress Lugo «Crear contido sen telo claro (e por que non pasa nada)» \n19:00 horas \n28/01/2026 \nO Vello Cárcere de Lugo
URL:https://vivalugo.es/evento/meetup-wordpress-lugo-crear-contido-sen-telo-claro-e-por-que-non-pasa-nada/
LOCATION:O Vello Cárcere\, Av. Alcalde Anxo López Pérez\, 10\, Lugo\, Lugo\, 27002\, Spain
CATEGORIES:Conferencias
ATTACH;FMTTYPE=image/jpeg:https://vivalugo.es/wp-content/uploads/2026/01/meetup-wordpress-lugo-crear-contido.jpg
END:VEVENT
BEGIN:VEVENT
DTSTART;TZID=Europe/Madrid:20260128T190000
DTEND;TZID=Europe/Madrid:20260128T190000
DTSTAMP:20260419T141144
CREATED:20260126T183839Z
LAST-MODIFIED:20260126T183839Z
UID:98938-1769626800-1769626800@vivalugo.es
SUMMARY:Presentación do libro "Pegadas no muro"
DESCRIPTION:Presentación do libro «Pegadas no muro» \nO mércores 28 de xaneiro ás 19:00 h. no Museo Provincial de Lugo\, coa participación de: \nIria Castro\, deputada delegada de Cultura da Deputación de Lugo.\nAurelia Balseiro\, directora do Museo Provincial de Lugo e coautora.Antonio Álvarez\, adxunto para o Campus de Lugo da USC.\nPatricia Cupeiro e Miriam E. Cortés\, responsables da edición.\nHenrique Alvarellos\, director de Alvarellos Editora.
URL:https://vivalugo.es/evento/presentacion-do-libro-pegadas-no-muro/
LOCATION:Museo Provincial de Lugo\, Praza da Soidade\, s/n\, Lugo\, 27001
CATEGORIES:Presentaciones
ATTACH;FMTTYPE=image/jpeg:https://vivalugo.es/wp-content/uploads/2026/01/presentacion-libro-pegadas-no-muro.jpg
END:VEVENT
BEGIN:VEVENT
DTSTART;TZID=Europe/Madrid:20260128T200000
DTEND;TZID=Europe/Madrid:20260128T200000
DTSTAMP:20260419T141144
CREATED:20260120T154024Z
LAST-MODIFIED:20260122T121252Z
UID:98789-1769630400-1769630400@vivalugo.es
SUMMARY:IV Gala de Danza a prol da Asociación Española Contra o Cancro
DESCRIPTION:IV Gala de Danza a prol da Asociación Española Contra o Cancro \n\n28 Xaneiro de 2026\nAuditorio Gustavo Freire\n20.00h\n\n\nEntradas: 6€ na web de Ataquilla\nHabilitada tamén a fila 0 para facer donacións.\n\n\nParticipación do alumnado de 2º a 6º curso de Grao Profesional de ambas especialidades. Haberá coreografías de danza clásica\, contemporánea e do obradoiro de danza galega.
URL:https://vivalugo.es/evento/iv-gala-de-danza-a-prol-da-asociacion-espanola-contra-o-cancro/
LOCATION:​Auditorio Municipal Gustavo Freire\, Parque da Milagrosa\, Avda. da Coruña\, s/n\, Lugo\, Lugo\, 27003\, Spain
CATEGORIES:Artes escénicas
ATTACH;FMTTYPE=image/jpeg:https://vivalugo.es/wp-content/uploads/2026/01/gala-danza-a-prol.jpg
END:VEVENT
BEGIN:VEVENT
DTSTART;TZID=Europe/Madrid:20260128T220000
DTEND;TZID=Europe/Madrid:20260128T220000
DTSTAMP:20260419T141144
CREATED:20260113T114133Z
LAST-MODIFIED:20260113T114133Z
UID:98595-1769637600-1769637600@vivalugo.es
SUMMARY:Concerto de The Len Price 3
DESCRIPTION:Concerto de The Len Price 3\nMércores 28 de xaneiro de 2026 \n22:00 horas \nClub Clavicémbalo de Lugo \nPromove: Facela Fest \nEntradas: billeteira e https://facelafest.com/ \n\nThe Len Price 3\nCriados a base de cancións curtas e sen concesións como as de The Who\, The Kinks e The Clash\, The Len Price 3 (Thelenprice) son un trío de rock e pop sixtie\, de garage\, nacido nas Medway Towns (Kent) que leva anos demostrando que o rock non necesita maquillaxe.\n\nComezaron tocando en bares\, pagando por subir ao escenario e sendo expulsados por soar demasiado alto. Cambiaban de nome\, volvían entrar e seguían tocando.\n\nChinese Burn (2005) foi o inicio do ruído serio: xiras\, boas críticas e un concerto en Nova York para tres persoas\, unha delas Little Steven Van Zandt\, que os fichou alí mesmo. Así funciona isto ás veces.\n\nCo paso dos anos chegaron máis discos\, máis estrada e máis público.\n\nTocaron con Paul McCartney\, apareceron en Rolling Stone e nunca perderon o pulso. Cando Billy Childish dixo que The Len Price 3 collían as súas cancións e as facían máis pop para gañar cartos\, a banda respondeu cunha canción titulada “Childish Words” e cun disco enteiro\, Kentish Longtails (2017). Rock con sorriso…e con colmillo.\n\nTras a pandemia volveron rápidos e sen filtro co Lp Dip Do\, esgotaron salas tocando Chinese Burn enteiro e en 2025 seguen na estrada co seu sétimo disco\, Misty Medway Magick\, últimamente xiraron coas lendas do garage rock The Chesterfield Kings.\n\nNon van de moda nin de postureo. Van de tocar. E quen queira\, que se suba.\n\n\n\nÚnica data en Galiza\n\n\n\nArtwork de LaChapera
URL:https://vivalugo.es/evento/concerto-de-the-len-price-3/
LOCATION:Club Clavicémbalo\, Rúa dos Paxariños\, 23\, Lugo\, Lugo\, 27002\, Spain
CATEGORIES:Conciertos
ATTACH;FMTTYPE=image/jpeg:https://vivalugo.es/wp-content/uploads/2026/01/concerto-the-len-price-3.jpg
END:VEVENT
END:VCALENDAR