BEGIN:VCALENDAR
VERSION:2.0
PRODID:-//VivaLugo - ECPv6.15.13.1//NONSGML v1.0//EN
CALSCALE:GREGORIAN
METHOD:PUBLISH
X-WR-CALNAME:VivaLugo
X-ORIGINAL-URL:https://vivalugo.es
X-WR-CALDESC:Eventos para VivaLugo
REFRESH-INTERVAL;VALUE=DURATION:PT1H
X-Robots-Tag:noindex
X-PUBLISHED-TTL:PT1H
BEGIN:VTIMEZONE
TZID:Europe/Madrid
BEGIN:DAYLIGHT
TZOFFSETFROM:+0100
TZOFFSETTO:+0200
TZNAME:CEST
DTSTART:20250330T010000
END:DAYLIGHT
BEGIN:STANDARD
TZOFFSETFROM:+0200
TZOFFSETTO:+0100
TZNAME:CET
DTSTART:20251026T010000
END:STANDARD
BEGIN:DAYLIGHT
TZOFFSETFROM:+0100
TZOFFSETTO:+0200
TZNAME:CEST
DTSTART:20260329T010000
END:DAYLIGHT
BEGIN:STANDARD
TZOFFSETFROM:+0200
TZOFFSETTO:+0100
TZNAME:CET
DTSTART:20261025T010000
END:STANDARD
BEGIN:DAYLIGHT
TZOFFSETFROM:+0100
TZOFFSETTO:+0200
TZNAME:CEST
DTSTART:20270328T010000
END:DAYLIGHT
BEGIN:STANDARD
TZOFFSETFROM:+0200
TZOFFSETTO:+0100
TZNAME:CET
DTSTART:20271031T010000
END:STANDARD
END:VTIMEZONE
BEGIN:VEVENT
DTSTART;TZID=Europe/Madrid:20260203T113000
DTEND;TZID=Europe/Madrid:20260203T113000
DTSTAMP:20260421T100454
CREATED:20260130T131746Z
LAST-MODIFIED:20260130T131746Z
UID:99018-1770118200-1770118200@vivalugo.es
SUMMARY:Anuncio de finalistas dos Premios Mestre Mateo
DESCRIPTION:Anuncio de finalistas dos Premios Mestre Mateo \n\nMartes\, 3 de febreiro de 2026 – 11:30 horas – Centro Sociocultural O Vello Cárcere\n\n\n\n\n\n\nComunicación oficial da listaxe de obras e profesionais finalistas desta edición dos Premios Mestre Mateo. \n\n\nReserva a túa entrada chamando ao 633 24 56 39 en horario de 10:00 a 17:00 horas ou escribindo a actividades@academiagalegadoaudiovisual.gal indicando o teu nome.\n\nPrograma de actividades previas á Gala dos Premios Mestre Mateo
URL:https://vivalugo.es/evento/anuncio-de-finalistas-dos-premios-mestre-mateo/
LOCATION:O Vello Cárcere\, Av. Alcalde Anxo López Pérez\, 10\, Lugo\, Lugo\, 27002\, Spain
CATEGORIES:Artes escénicas
ATTACH;FMTTYPE=image/jpeg:https://vivalugo.es/wp-content/uploads/2026/01/premios-mestre-mateo-lugo-02.jpg
END:VEVENT
BEGIN:VEVENT
DTSTART;TZID=Europe/Madrid:20260203T180000
DTEND;TZID=Europe/Madrid:20260203T180000
DTSTAMP:20260421T100454
CREATED:20260202T163207Z
LAST-MODIFIED:20260202T163207Z
UID:99116-1770141600-1770141600@vivalugo.es
SUMMARY:Descubre o teatro radiofónico da man de Paula Carballeira
DESCRIPTION:O martes 3 de febreiro\, ás 18.00h\, na EOI (Escola Oficial de Idiomas de Lugo)\, obradoiro de radioteatro impartido por Paula Carballeira\, Premio Nacional de Literatura Dramática 2023 pola súa obra «As alumnas». \nA entrada é libre ata completar a cabida\, mais é recomendable contactar previamente con eoi.lugo.edlg@edu.xunta.gal para recibir o material da sesión\, que serán textos de literatura dramática programados no club de lectura de teatro radiofónico do EDLG. \nDurante esta actividade traballarase con textos escollidos das obras «Conxo\, non restraint»\, de Alberto Ramos; «Síbaris»\, de Domingo Villar; e «Dentes de coello»\, da propia Paula Carballeira.
URL:https://vivalugo.es/evento/descubre-o-teatro-radiofonico-da-man-de-paula-carballeira/
LOCATION:EOI LUGO\, Rolda Músico Xosé Castiñeira\, 1\, Lugo\, 27002
ATTACH;FMTTYPE=image/jpeg:https://vivalugo.es/wp-content/uploads/2026/02/descubre-o-teatro-radiofonico.jpg
END:VEVENT
END:VCALENDAR