BEGIN:VCALENDAR
VERSION:2.0
PRODID:-//VivaLugo - ECPv6.15.13.1//NONSGML v1.0//EN
CALSCALE:GREGORIAN
METHOD:PUBLISH
X-WR-CALNAME:VivaLugo
X-ORIGINAL-URL:https://vivalugo.es
X-WR-CALDESC:Eventos para VivaLugo
REFRESH-INTERVAL;VALUE=DURATION:PT1H
X-Robots-Tag:noindex
X-PUBLISHED-TTL:PT1H
BEGIN:VTIMEZONE
TZID:Europe/Madrid
BEGIN:DAYLIGHT
TZOFFSETFROM:+0100
TZOFFSETTO:+0200
TZNAME:CEST
DTSTART:20250330T010000
END:DAYLIGHT
BEGIN:STANDARD
TZOFFSETFROM:+0200
TZOFFSETTO:+0100
TZNAME:CET
DTSTART:20251026T010000
END:STANDARD
BEGIN:DAYLIGHT
TZOFFSETFROM:+0100
TZOFFSETTO:+0200
TZNAME:CEST
DTSTART:20260329T010000
END:DAYLIGHT
BEGIN:STANDARD
TZOFFSETFROM:+0200
TZOFFSETTO:+0100
TZNAME:CET
DTSTART:20261025T010000
END:STANDARD
BEGIN:DAYLIGHT
TZOFFSETFROM:+0100
TZOFFSETTO:+0200
TZNAME:CEST
DTSTART:20270328T010000
END:DAYLIGHT
BEGIN:STANDARD
TZOFFSETFROM:+0200
TZOFFSETTO:+0100
TZNAME:CET
DTSTART:20271031T010000
END:STANDARD
END:VTIMEZONE
BEGIN:VEVENT
DTSTART;VALUE=DATE:20260414
DTEND;VALUE=DATE:20260505
DTSTAMP:20260421T065225
CREATED:20260412T230042Z
LAST-MODIFIED:20260414T142738Z
UID:73747-1776124800-1777939199@vivalugo.es
SUMMARY:Cines en Lugo
DESCRIPTION:Cines en Lugo\nPodes ver a carteleira dos Cines Codex na súa web oficial  ou na seguinte imaxe: \n \nPodes ver a carteleira dos Cines Cristal na súa web oficial  \nPodes consultar a carteleira dos Cines Yelmo na súa web oficial \nViva Lugo\, Axenda Cultural de Lugo. \nwww.vivalugo.es \nhttps://www.facebook.com/vivalugo \nhttps://www.instagram.com/vivalugo/ \nhttps://x.com/viva_lugo
URL:https://vivalugo.es/evento/cines-en-lugo/
CATEGORIES:Cine
ATTACH;FMTTYPE=image/jpeg:https://vivalugo.es/wp-content/uploads/2024/01/cine-en-lugo.jpg
END:VEVENT
BEGIN:VEVENT
DTSTART;VALUE=DATE:20260414
DTEND;VALUE=DATE:20260607
DTSTAMP:20260421T065225
CREATED:20260414T063947Z
LAST-MODIFIED:20260414T142810Z
UID:72068-1776124800-1780790399@vivalugo.es
SUMMARY:Exposicións en Lugo
DESCRIPTION:MUSEO PROVINCIAL DE LUGO\nPl. de la Soledad\, s/n\, 27001 Lugo \nHorario de inverno (1 de novembro – 30 de maio): De martes a sábado: De 10:00 a 13:30 e de 16:00 a 20:30 / Domingos e festivos: De 10:00 a 16:00 / Luns pechado \nHorario de verán (1 de xuño – 30 de outubro): De martes a sábado: De 10:00 a 13:30 e de 16:00 a 20:30 / Domingos e festivos: De 10:00 a 16:00 / Luns pechado \nExpos temporais: \n\n«Tributo ao legado do poeta Eduardo González Ananín»\n«Toca madeira\, alza o voo»\n«Facedoras de Lugo\, 2025-2026» de Mar Caldas\n«As Cidades de Colmeiro»\n\nweb oficial. \nO VELLO CÁRCERE \nA exposición permanente ‘O Vello Cárcere: da Guerra á Posguerra’ foi organizada polo Concello de Lugo e a Asociación para a Recuperación da Memoria Histórica (A.R.M.H). A etapa da guerra civil e da posguerra dentro desta prisión queda ó descuberto a través das súas vítimas. Son as testemuñas e os recordos das persoas que estiveron retidas dentro destes muros por motivos inxustificados\, os que nos desvelarán as duras condicións ás que foron sometidas. \n‘O Vello Cárcere: da Guerra á Posguerra’ convértese\, deste xeito\, nunha homenaxe e nun espazo de encontro para dialogar e reflexionar sobre o pasado traumático que supuxo a guerra e a ditadura. \nA exposición permanente «Elas» é froito do traballo da investigadora\, ensaísta e mestra Aurora Marco. Durante máis de vinte anos\, levou a cabo un exhaustivo traballo de investigación acerca de mulleres galegas que sobresaíron ao longo da historia en diferentes campos e disciplinas. Como resultado deste labor xorde a publicación exposta nesta mostra\, cuxa edición se limitou a 155 exemplares. Nela recóllense 410 biografías destas mulleres galegas. \nEsta exposición está así mesmo composta por serigrafías realizadas por artistas galegas contemporáneas\, que tomaron como inspiración as historias aquí recollidas. Elas son Chelo Rodríguez\, Ehlaba Carballo\, Irene Silva Xiráldez\, María Manuela\, María Xesús Díaz\, Novais\, Sabela Arias Castro e Vanessa Lodeiro. \nA exposición permanente da Escola de Arte Superior de Deseño Ramón Falcón presenta nas celas do segundo andar do panóptico −espazo cedido permanentemente−\, a primeira das súas exposicións temporais en O Vello Cárcere. \nA mostra amosa unha escolma de traballos do seu alumnado e xira arredor dos estudos que ofrece: Serigrafía\, Gravado e Técnicas de Estampación\, Fotografía e Cerámica (ensinanzas profesionais); e Deseño Gráfico e Deseño de Interiores (estudos de Grao) \nExposicións temporais: \n   \nInformación sobre O Vello Cárcere de Lugo: \nPraza da Constitución\, s/n\, 27002 Lugo \nHorario: luns a sábado 11:00 a 14:00 e 16:00 a 20:00 horas. Domingo:  11:00 a 14:00 e 16:00 a 19:00 horas \n+ información (visitas guiadas …) Web oficial O Vello Cárcere de Lugo \n——————————————————————————————————–\nMUSEO MIHL – Museo Interactivo da Historia de Lugo\nAlberga un contido expositivo permanente que repasa a evolución histórica da cidade de Lugo mediante recursos audiovisuais\, maquetas interactivas e paneis informativos. Tamén conta cunha pequena selección de pezas arqueolóxicas entre as que destaca o monolito granítico que recolle a inscrición fundacional da cidade\, mandado levantar por Paulo Fabio Máximo en honor ao emperador Augusto. \nTamén se exhiben outras pezas de interese\, como unha máscara teatral de terracota e un conxunto de pezas epigráficas e cerámicas. \nExposición temporal: «Tanxarina 40 años» (títeres) \nInformación sobre o MIHL: \nAv. Infanta Elena\, s/n\, 27003 Lugo \n982 297 446 \n \nWeb oficial do Museo MIHL \n———————————————————————————————————-\nMUSEOS MUNICIPAIS DE LUGO\n \nCasa dos Mosaicos ou Domus Oceani\nHorario\, exposicións … Web oficial da Casa dos Mosaicos ou Domus Oceani \nCentro arqueolóxico San Roque\nHorario\, exposicións … Web oficial do Centro arqueolóxico San Roque \nSala de Exposicións Porta Miñá\nHorario\, exposicións … Web oficial da Sala de Exposicións Porta Miñá \nCentro de Interpretación da Muralla\nHorario\, exposicións … Web oficial do Centro de Interpretación da Muralla \nGALERÍA SOLAINA\nRúa Camiño Real 88\, baixo. \nhttps://www.instagram.com/solaina.galeria/ \nGALERÍA NÉBOA\nLamas de Prado\, 31\, Lugo 27004 \nhttps://www.instagram.com/galerianeboa/ \nGALERÍA NOVA RÚA\nRúa Nova 114 -116 Bajo\, Lugo 27001 \nhttps://www.instagram.com/galerianovarua/ \nGALERÍA LA CATEDRAL\nObispo Basulto 12\, 27001-Lugo – 982 240 992 \ny\nBolaño Rivadeneira 17\, 27001 Lugo – 982 24 21 14 – Lunes a sábado 11:00 a 14:00 y 17:00 a 21:00 horas
URL:https://vivalugo.es/evento/exposicions-en-lugo/
CATEGORIES:Expos
ATTACH;FMTTYPE=image/png:https://vivalugo.es/wp-content/uploads/2024/01/banner-expos-en-lugo-cuadrado-2024.png
END:VEVENT
BEGIN:VEVENT
DTSTART;VALUE=DATE:20260419
DTEND;VALUE=DATE:20260424
DTSTAMP:20260421T065225
CREATED:20260414T104903Z
LAST-MODIFIED:20260415T135354Z
UID:102022-1776556800-1776988799@vivalugo.es
SUMMARY:XXXII Festival de Teatro Universitario
DESCRIPTION:19 de abril\, ás 18.00 horas e ás 20.30 horas\, no Pazo de San Marcos de Lugo: Do marabilloso mundo dos animais\, os cordeiros\, da compañía de teatro da USC-Lugo \nO 20 de abril ás 20.30 h no Auditorio Gustavo Freire: Encrobas 77: A precuela\, da compañía de teatro da UDC-A Coruña. \nO 21 de abril ás 20.30 h no Auditorio Gustavo Freire: Insurección da Aula de teatro do campus de Ourense da UVigo-Grupo Maricastaña \nO 22 de abril ás 20.30 h no Auditorio Gustavo Freire: Irmáns da Compañía de teatro da USC – Santiago. \n23 de abril ás 20.30 h na Casa do Saber (Domus do Mitreu): Lectura dramatizada das asemblearias da compañía Vaites Vaites IV ciclo USC-Lugo \nA entrada a todas as funcións desta actividade é de balde. \nPara a estrea do 19 de abril hai que solicitar entrada en cultura.lugo@usc.gal\, dende o 13 ao 16 de abril. \nPara asistir ás funcións dos días 20\, 21 e 22 de abril hai que solicitar entrada en https://entradaslugo.es/ \nEsta iniciativa enmárcase dentro da programación da Primavera Cultural da USC que se artella ao abeiro do convenio LUGO CULTURAL que desenvolven a USC\, Cultura e Turismo do Concello de Lugo e a Vicepresidencia da Deputación Provincial de Lugo.
URL:https://vivalugo.es/evento/xxxii-festival-de-teatro-universitario/
CATEGORIES:Artes escénicas
ATTACH;FMTTYPE=image/jpeg:https://vivalugo.es/wp-content/uploads/2026/04/festival-teatro-universitario-lugo-cultural-2026.jpg
END:VEVENT
BEGIN:VEVENT
DTSTART;TZID=Europe/Madrid:20260420T170000
DTEND;TZID=Europe/Madrid:20260423T170000
DTSTAMP:20260421T065225
CREATED:20260420T142546Z
LAST-MODIFIED:20260420T142546Z
UID:102272-1776704400-1776963600@vivalugo.es
SUMMARY:Sesións na rúa
DESCRIPTION:Como peche práctico do curso de DJ xa desenvolvido nas últimas semanas dentro do programa +XTi\, o alumnado participará nas Sesións na rúa\, levando a música en directo a distintos espazos públicos da cidade. \nEsta proposta permite dar continuidade ao traballo realizado durante a formación\, ofrecendo aos participantes a oportunidade de actuar ante o público e formar parte activa da programación cultural xuvenil. \nAs sesións celebraranse en horario de 17:00 a 22:00 horas nas seguintes localizacións: \n\n20 de abril – Praza Agro do Rolo\n21 de abril – Praza Horta do Seminario\n22 de abril – Praza Augas Férreas\n23 de abril – Paseo do Miño\n\nOs DJs confirmados son: Angel\, DDJ\, Gensys\, Leduc\, DJ Naya\, Nugon\, SLP\, Sune\, Tweed Drop e Val-G.
URL:https://vivalugo.es/evento/sesions-na-rua/
CATEGORIES:Conciertos
ATTACH;FMTTYPE=image/png:https://vivalugo.es/wp-content/uploads/2026/04/sesions-na-rua.png
END:VEVENT
BEGIN:VEVENT
DTSTART;TZID=Europe/Madrid:20260421T120000
DTEND;TZID=Europe/Madrid:20260421T120000
DTSTAMP:20260421T065225
CREATED:20260416T145051Z
LAST-MODIFIED:20260417T154119Z
UID:102180-1776772800-1776772800@vivalugo.es
SUMMARY:Inauguración da exposición "TOCA”R”\, DANZA”R”
DESCRIPTION:O Museo Provincial de Lugo inaugura o vindeiro 21 de abril ás 12:00 horas a exposición “TOCA “R”\, DANZA “R”. Esta mostra reúne unha selección de obras escultóricas procedentes do Museo Tiflolóxico da ONCE\, creadas tanto por artistas con discapacidade visual grave como por autores sen ela\, todas articuladas baixo un mesmo fío condutor. \nA exposición explora a relación histórica entre a escultura e a danza\, dúas disciplinas que comparten o corpo humano como canle de expresión\, así como o uso do espazo\, o tempo e o movemento. Mentres a danza transforma o corpo nunha escultura dinámica\, a escultura fixa ese movemento\, permitindo que a figura baile de xeito permanente a través da materia. \nAs pezas seleccionadas permiten ao público achegarse a diferentes expresións corporais mediante o tacto. Esta aproximación táctil facilita a comprensión do corpo como medio artístico\, máis alá da propia natureza do material escultórico. A través da forma\, a composición e o xesto\, as obras capturan a enerxía e a fluidez do baile\, trasladando ao espectador o dinamismo e o sentimento propio da linguaxe coreográfica. \nCada escultura toma como modelo diversas danzas que representan rituais\, crenzas e herdanzas culturais transmitidas ao longo do tempo. Deste xeito\, as pezas posúen un significado concreto e único que transcende o seu valor estético\, convidando a unha reflexión sobre a comunicación e a narrativa a través do movemento conxelado na forma
URL:https://vivalugo.es/evento/inauguracion-da-exposicion-tocar-danzar/
LOCATION:Museo Provincial de Lugo\, Praza da Soidade\, s/n\, Lugo\, 27001
CATEGORIES:Expos
END:VEVENT
BEGIN:VEVENT
DTSTART;TZID=Europe/Madrid:20260421T180000
DTEND;TZID=Europe/Madrid:20260421T180000
DTSTAMP:20260421T065225
CREATED:20260420T174047Z
LAST-MODIFIED:20260420T174047Z
UID:102335-1776794400-1776794400@vivalugo.es
SUMMARY:Crónica da expedición da Ribeira Sacra aos Andes
DESCRIPTION:Crónica da expedición da Ribeira Sacra aos Andes \n21 de abril de 2026 \n18:00 horas \nMuseo Provincial de Lugo
URL:https://vivalugo.es/evento/cronica-da-expedicion-da-ribeira-sacra-aos-andes/
LOCATION:Museo Provincial de Lugo\, Praza da Soidade\, s/n\, Lugo\, 27001
CATEGORIES:Conferencias
ATTACH;FMTTYPE=image/jpeg:https://vivalugo.es/wp-content/uploads/2026/04/cronica-expedicion-ribeira-sacra-os-andes.jpg
END:VEVENT
BEGIN:VEVENT
DTSTART;TZID=Europe/Madrid:20260421T200000
DTEND;TZID=Europe/Madrid:20260421T200000
DTSTAMP:20260421T065225
CREATED:20260416T102157Z
LAST-MODIFIED:20260416T102157Z
UID:102105-1776801600-1776801600@vivalugo.es
SUMMARY:Proxección do documental "Mulleres da reconversión"
DESCRIPTION:Proxección do documental «Mulleres da reconversión. Cando o estaleiro parou\, as mulleres sostiveron a vida» de Iago Varela. \n21/04/2026 – 20:00 – O Vello Cárcere de Lugo – Entrada de balde ata completar aforo. \n 
URL:https://vivalugo.es/evento/proxeccion-do-documental-mulleres-da-reconversion/
LOCATION:O Vello Cárcere\, Av. Alcalde Anxo López Pérez\, 10\, Lugo\, Lugo\, 27002\, Spain
CATEGORIES:Cine
ATTACH;FMTTYPE=image/jpeg:https://vivalugo.es/wp-content/uploads/2026/04/proxeccion-documental-mulleres-da-reconversion.jpg
END:VEVENT
END:VCALENDAR