BEGIN:VCALENDAR
VERSION:2.0
PRODID:-//VivaLugo - ECPv6.15.13.1//NONSGML v1.0//EN
CALSCALE:GREGORIAN
METHOD:PUBLISH
X-WR-CALNAME:VivaLugo
X-ORIGINAL-URL:https://vivalugo.es
X-WR-CALDESC:Eventos para VivaLugo
REFRESH-INTERVAL;VALUE=DURATION:PT1H
X-Robots-Tag:noindex
X-PUBLISHED-TTL:PT1H
BEGIN:VTIMEZONE
TZID:Europe/Madrid
BEGIN:DAYLIGHT
TZOFFSETFROM:+0100
TZOFFSETTO:+0200
TZNAME:CEST
DTSTART:20250330T010000
END:DAYLIGHT
BEGIN:STANDARD
TZOFFSETFROM:+0200
TZOFFSETTO:+0100
TZNAME:CET
DTSTART:20251026T010000
END:STANDARD
BEGIN:DAYLIGHT
TZOFFSETFROM:+0100
TZOFFSETTO:+0200
TZNAME:CEST
DTSTART:20260329T010000
END:DAYLIGHT
BEGIN:STANDARD
TZOFFSETFROM:+0200
TZOFFSETTO:+0100
TZNAME:CET
DTSTART:20261025T010000
END:STANDARD
BEGIN:DAYLIGHT
TZOFFSETFROM:+0100
TZOFFSETTO:+0200
TZNAME:CEST
DTSTART:20270328T010000
END:DAYLIGHT
BEGIN:STANDARD
TZOFFSETFROM:+0200
TZOFFSETTO:+0100
TZNAME:CET
DTSTART:20271031T010000
END:STANDARD
END:VTIMEZONE
BEGIN:VEVENT
DTSTART;TZID=Europe/Madrid:20260321T110000
DTEND;TZID=Europe/Madrid:20260321T110000
DTSTAMP:20260421T112444
CREATED:20260319T200744Z
LAST-MODIFIED:20260319T200744Z
UID:101065-1774090800-1774090800@vivalugo.es
SUMMARY:Roteiro polas rúas do movemento nazional
DESCRIPTION:«O sábado 21 de março 11:00 horas organizamos um novo roteiro histórico pola cidade de Lugo.Nesta ocasom percorreremos ruas vinculadas a nomes de fascistas\, lembrando que o terror tivo nomes e apelidos \, e que ainda hoje muitos continuam a ter honras na nossa cidade.Umha boa maneira de combater o auge do discurso de extrema direita é conhecer a barbarie que estivo presente nas nossas ruas naqueles tempos.Acompanhade-nos!Lugar Rua Ramón Montenegro (diante do bar A Fouce)»  Centro Social Mádia Leva
URL:https://vivalugo.es/evento/roteiro-polas-ruas-do-movemento-nazional/
CATEGORIES:Varios
ATTACH;FMTTYPE=image/jpeg:https://vivalugo.es/wp-content/uploads/2026/03/roteiro-ruas-movemento-nazional.jpg
END:VEVENT
BEGIN:VEVENT
DTSTART;TZID=Europe/Madrid:20260322T120000
DTEND;TZID=Europe/Madrid:20260322T173000
DTSTAMP:20260421T112444
CREATED:20260313T163218Z
LAST-MODIFIED:20260313T163845Z
UID:100856-1774180800-1774200600@vivalugo.es
SUMMARY:Party Brunch Primavera
DESCRIPTION:Brunch\, vinilos y las mejores vistas de la ciudad el 22 de marzo de 2026 en Azotea de O Vello Cárcere (Praza da Constitución\, s/n\, 27002 Lugo\, España) \nLa primavera llega a la Azotea de O Vello Cárcere con un nuevo PARTY BRUNCH: café de especialidad con Urban Roasters @coffeeurbanroasters\, música en vinilo con DJ KR-On @djklron y el mejor ambiente para celebrar la llegada del buen tiempo con ritmo. \nSabores frescos\, buena música\, barra libre de café y las mejores vistas de la ciudad para disfrutar de un brunch que se vive como una fiesta.\nENTRADAS: \n25 € en tickets.azotealugo.es \n¿Qué incluye la entrada? \n\nAcceso al Party Brunch (12:00 apertura de puertas. Cierre barras: 17:30. Hora finalización: 18:00hs)\nBarra Libre Café Especialidad\n3 Platos brunch (1x Carta Picoteo / 1x Carta Brunchers / 1x Carta Lambetadas)\n\n¿Qué pasa si tengo alguna intolerancia\, alergia o dieta especial? \n\nLa comida es lo nuestro y queremos que tu eperiencia sea igual que la de todos! En caso de tener alguna alergia\, intolerancia o dieta especial\, escríbenos a azotea@rabuda.es o por whatsapp al número 696 200 229.\n\n¿Qué música voy a escuchar? \n\nEl Party Brunch estará musicalizado por DJ KR-On (Kiko López-Ron)\, uno de los DJs más veteranos y reconocibles de la escena gallega. Con casi tres décadas en cabina y siempre fiel al vinilo\, sus sesiones recorren la música negra y el house con una selección enérgica y dinámica que conecta directamente con el público.\n\n¿Qué otras cosas debo saber? \n\nEl evento se desarrolla de pie\, en un formato dinámico y en movimiento\, pensado para disfrutar del espacio y de la experiencia de forma libre.\nLos platos de la carta estarán sujetos a disponibilidad de existencias.\nVermú\, cerveza y otras bebidas podrán adquirirse en barra durante el evento.\nLos menores de 6 años tendrán la entrada gratuita (Para solicitar la entrada\, escribir por whatsapp al 696 200 229)\nEl aforo es limitado para garantizar una experiencia cómoda y cuidada para todos los asistentes.
URL:https://vivalugo.es/evento/party-brunch-primavera/
LOCATION:O Vello Cárcere\, Av. Alcalde Anxo López Pérez\, 10\, Lugo\, Lugo\, 27002\, Spain
CATEGORIES:Varios
ATTACH;FMTTYPE=image/jpeg:https://vivalugo.es/wp-content/uploads/2026/03/party-brunch-primavera-azotea-o-vello-carcere.jpg
END:VEVENT
BEGIN:VEVENT
DTSTART;TZID=Europe/Madrid:20260326T170000
DTEND;TZID=Europe/Madrid:20260326T170000
DTSTAMP:20260421T112444
CREATED:20260323T222300Z
LAST-MODIFIED:20260323T222300Z
UID:101257-1774544400-1774544400@vivalugo.es
SUMMARY:Xornada de portas abertas no Coliving Artístico Municipal de Lugo
DESCRIPTION:«O vindeiro xoves 26 de marzo abrimos as portas do coliving para que poidas descubrir de preto o proceso creativo dos nosos artistas residentes \nUnha oportunidade única para coñecer o que está a acontecer dentro do espazo: ideas\, inspiración e creación en directo. \nDe 17:00 a 19:30 h\nRonda do Carme\, 21-43\, Lugo\nEntrada de balde \nAchégate\, explora e conecta coa arte desde dentro.» https://www.instagram.com/colivingartisticolugo/
URL:https://vivalugo.es/evento/xornada-de-portas-abertas-no-coliving-artistico-municipal-de-lugo/
LOCATION:Coliving Artístico Municipal\, Rolda do Carme 21-43
CATEGORIES:Expos,Varios
ATTACH;FMTTYPE=image/jpeg:https://vivalugo.es/wp-content/uploads/2026/03/xornada-portas-abertas-coliving-lugo.jpg
END:VEVENT
BEGIN:VEVENT
DTSTART;TZID=Europe/Madrid:20260327T190000
DTEND;TZID=Europe/Madrid:20260327T190000
DTSTAMP:20260421T112444
CREATED:20260325T161824Z
LAST-MODIFIED:20260325T161824Z
UID:101479-1774638000-1774638000@vivalugo.es
SUMMARY:Apresentaçom pública de Lugo Língua Viva
DESCRIPTION:«Lugo Língua Viva bota a andar! \nA língua galega precisa de novos espaços sociais para promover o seu uso\, de iniciativas que aumentem a sua valorizaçom social e de projetos que potenciem o seu conhecimento. \nPor isso convidamos-te a fazer parte dum novo movimento social que nasce em Lugo para defender\, promover e normalizar o galego no dia a dia. \nApresentaçom pública\n27 de março\n19:00 h\nC.S. Mádia Leva! \nVem conhecer o movimento\, achegar ideias e somar forças. \nPorque o futuro da língua constrói-se em comum. \nParticipa. Implica-te. Fala galego.» https://www.instagram.com/madialevagz/
URL:https://vivalugo.es/evento/apresentacom-publica-de-lugo-lingua-viva/
LOCATION:Madia Leva\, Serra de Ancares 18\, Lugo
CATEGORIES:Varios
ATTACH;FMTTYPE=image/jpeg:https://vivalugo.es/wp-content/uploads/2026/03/apresentacom-lugo-lingua-viva.jpg
END:VEVENT
BEGIN:VEVENT
DTSTART;TZID=Europe/Madrid:20260328T130000
DTEND;TZID=Europe/Madrid:20260328T130000
DTSTAMP:20260421T112444
CREATED:20260323T220535Z
LAST-MODIFIED:20260323T220535Z
UID:101242-1774702800-1774702800@vivalugo.es
SUMMARY:II Festa Xuntanza Xuntos por Lugo
DESCRIPTION:II Festa Xuntanza Xuntos por Lugo \nSábado 28 de marzo de 2026 \nPazo de Feiras e Congresos de Lugo \nA partir das 13:00 horas \nToda a información e entradas en https://www.instagram.com/xuntosporlugo/
URL:https://vivalugo.es/evento/ii-festa-xuntanza-xuntos-por-lugo/
LOCATION:Pazo de Feiras e Congresos\, Lugo\, Spain
CATEGORIES:Varios
ATTACH;FMTTYPE=image/jpeg:https://vivalugo.es/wp-content/uploads/2026/03/festa-xuntanza-xuntos-por-lugo.jpg
END:VEVENT
BEGIN:VEVENT
DTSTART;TZID=Europe/Madrid:20260331T163000
DTEND;TZID=Europe/Madrid:20260401T163000
DTSTAMP:20260421T112444
CREATED:20260323T220843Z
LAST-MODIFIED:20260326T215709Z
UID:101245-1774974600-1775061000@vivalugo.es
SUMMARY:Hinchalugo 2026
DESCRIPTION:31 Marzo e 1 de Abril de 2026 no Pazo de Feiras e Congresos de Lugo de 16:30 a 19:30 \nA actividade permitirá ás familias desfrutar dun amplo espazo con máis de 30 atraccións\ninchables\, adaptadas a diferentes idades\, co obxectivo de fomentar o xogo\, a actividade\nfísica e a convivencia entre a rapazada. \nHinchalugo está concibida como unha iniciativa aberta non só aos nenos e nenas da cidade\nde Lugo\, senón tamén aos dos concellos limítrofes e ao conxunto da provincia. \nDo mesmo xeito\, a actividade está especialmente pensada para facilitar a participación das AMPAS\, que poderán atopar nesta proposta unha opción atractiva para organizar actividades colectivas durante a Semana Santa. \nDesde a organización\, a Federación Lugo Rural Importa\, destácase que esta iniciativa pretende contribuír a dinamizar a cidade nestas datas\, ao tempo que se ofrece unha alternativa de lecer familiar accesible\, inclusiva e orientada ao benestar da infancia. \n 
URL:https://vivalugo.es/evento/hinchalugo-2026/
LOCATION:Pazo de Feiras e Congresos\, Lugo\, Spain
CATEGORIES:Varios
ATTACH;FMTTYPE=image/jpeg:https://vivalugo.es/wp-content/uploads/2026/03/hinchalugo-2026.jpg
END:VEVENT
BEGIN:VEVENT
DTSTART;VALUE=DATE:20260409
DTEND;VALUE=DATE:20260413
DTSTAMP:20260421T112444
CREATED:20260406T151900Z
LAST-MODIFIED:20260407T141928Z
UID:101685-1775692800-1776038399@vivalugo.es
SUMMARY:Actividades polos Días Europeos da Artesanía 2026
DESCRIPTION:A Vicepresidencia da Deputación de Lugo súmase á celebración dos Días Europeos da Artesanía cun programa de demostracións participativas que se realizarán do xoves 9 ao domingo 12 de abril na Capela de Santa María\, en Lugo. \nAs persoas asistentes poderán coñecer de primeira man e experimentar cos materiais e técnicas de artesás de cerámica\, coiro e tear. \nAs actividades desenvolveranse en horario de mañá -de 11.00 a 14.00 horas – e tarde -de 17.30 a 19.30 horas – con asistencia libre e gratuíta. \nObradoiros e demostracións. \nMercedes Buján de “Bolboretas de coiro”\n• Demostración participativa na que os asistentes poderán participar na\nelaboración dunha flor feita en coiro e levala como agasallo. \nInmaculada Díaz Cabado de “ La bellota mágica”\n• Demostración participativa nas que os asistentes poderán modelar unha\npeza coas súas mans \nTear “Fusaiola” con Lourdes Otero Mato e  Miriam Fernández Otero\n• Demostración de montaxe de tear de alto e baixo lizo\n• As persoas asistentes poderán sentarse fronte ao tear e tecer uns\ncentímetros guiadas pola artesá. \nMªJosefa Sánchez Castedo de “Ceniza de papel”\n• Demostración participativa na que as persoas asistentes poderán crear\nunha peza no torno e decorala utilizando diferentes técnicas \nSoni Argiz de “Mimacuir”\n• Demostración participativa na que as persoas participantes poderán\nfacer unha pequena peza de coiro
URL:https://vivalugo.es/evento/actividades-polos-dias-europeos-da-artesania-2026/
LOCATION:Capela de Santa María\, Ronda da Muralla\, 140\, Lugo\, Lugo\, 27004
CATEGORIES:Varios
ATTACH;FMTTYPE=image/jpeg:https://vivalugo.es/wp-content/uploads/2026/04/dias-europeos-artesania-2026.jpg
END:VEVENT
BEGIN:VEVENT
DTSTART;VALUE=DATE:20260410
DTEND;VALUE=DATE:20260411
DTSTAMP:20260421T112444
CREATED:20260406T152334Z
LAST-MODIFIED:20260406T152334Z
UID:101687-1775779200-1775865599@vivalugo.es
SUMMARY:Oficios á luz do claustro
DESCRIPTION:O venres 10 de abril polos Días Europeos da Artesanía no claustro da Catedral de Lugo. \nDe 11:00 a 14:00 horas e de 16:00 a 19:00 horas. \nParticipan os obradoiros de Artesanía de Galicia: Artesanía do Pasatempo\, Enxogate\, Esquina Atlántica\, Fonte Meimil\, Fusaiola\, LeCoop Víctor Montero\, MIRATU\, Nova\, tallerpatapum\, Portomeñekos. Arte en cartón/pedra. e TRES Caracoles.
URL:https://vivalugo.es/evento/oficios-a-luz-do-claustro/
CATEGORIES:Varios
ATTACH;FMTTYPE=image/jpeg:https://vivalugo.es/wp-content/uploads/2026/04/oficios-a-luz-do-claustro.jpg
END:VEVENT
BEGIN:VEVENT
DTSTART;TZID=Europe/Madrid:20260410T210000
DTEND;TZID=Europe/Madrid:20260410T210000
DTSTAMP:20260421T112444
CREATED:20260406T175109Z
LAST-MODIFIED:20260406T175109Z
UID:101743-1775854800-1775854800@vivalugo.es
SUMMARY:Noite de Xogos de Mesa Abril 2026
DESCRIPTION:«O venres 10 de abril estaremos a partires das 21h00 no CSA A Hedreira\, na Rúa Catasol 17. Traede os vosos xogos favoritos e vide pasar unhas horiñas entretidas connosco! ✊🏼🫂\nTrataremos de reunirnos mensualmente para pasar un anaquiño de tempo divertido.\nEsperámosvos!» https://www.instagram.com/avantelgbtlugo
URL:https://vivalugo.es/evento/noite-de-xogos-de-mesa-abril-2026/
LOCATION:A Hedreira\, Rua Catasol\, 17\, Lugo\, 27002
CATEGORIES:Varios
ATTACH;FMTTYPE=image/jpeg:https://vivalugo.es/wp-content/uploads/2026/04/noite-xogos-de-mesa-abril-2026.jpg
END:VEVENT
BEGIN:VEVENT
DTSTART;TZID=Europe/Madrid:20260415T170000
DTEND;TZID=Europe/Madrid:20260416T170000
DTSTAMP:20260421T112444
CREATED:20260409T161508Z
LAST-MODIFIED:20260409T161508Z
UID:101867-1776272400-1776358800@vivalugo.es
SUMMARY:Mercadiño de Troco edición primavera
DESCRIPTION:«Díganllo ás veciñas\, á familia\, á parella\, ás amigas porque volve\, un ano máis (e van 12)\, O MERCADIÑO DE TROCO de Bico de Grao edición primavera! \nO funcionamento é o habitual: Tes algo que non uses? Está en bo estado? Pois que estea limpiño e digno de intercambiar porque seguro\, seguro que a alguén lle fai avío. \nA cambio\, levas o que precises. Non se trata de caridade\, senón dun xeito alternativo de economía e de resistencia.\nResistencia ao consumismo que nos afoga.\nResistencia a unha economía que esquece ás persoas.\nResistencia desde o cotiá\, desde o pequeno\, desde o colectivo. \nPorque trocar tamén é coidarnos.\nPorque compartir tamén é loitar. \nVémonos mércores 15 e xoves 16 de abril en Bico (de 17 a 20 horas)\nQue este convite chegue moi lonxe! Que rule\, que rule!»
URL:https://vivalugo.es/evento/mercadino-de-troco-edicion-primavera/
LOCATION:Bico de Grao S. Coop. Galega\, Ronda das Fontiñas\, 226 baixo\, Lugo
CATEGORIES:Varios
ATTACH;FMTTYPE=image/jpeg:https://vivalugo.es/wp-content/uploads/2026/04/mercadino-troco-primavera.jpg
END:VEVENT
BEGIN:VEVENT
DTSTART;VALUE=DATE:20260417
DTEND;VALUE=DATE:20260420
DTSTAMP:20260421T112444
CREATED:20260413T153436Z
LAST-MODIFIED:20260413T153436Z
UID:101969-1776384000-1776643199@vivalugo.es
SUMMARY:Jornadas de Rol 2026
DESCRIPTION:Los días 17\, 18 y 19 de abril Jornadas de Rol en Ludus Gallaeciae\, «con aventuras de todo tipo\, propuestas para gustos muy distintos y un montón de mesas listas para que os sentéis a vivir historias épicas\, raras\, tensas o directamente caóticas  \nEn nuestra web ludusgallaeciae.es tenéis toda la información de cada una de las partidas: horarios\, descripción\, sistema y detalles importantes para apuntaros. \n📩 Si queréis participar en alguna\, escribidnos por mensaje directo o por WhatsApp al 632 974 985. \n¡Las plazas son limitadas y varían según la partida!»  https://www.instagram.com/ludusgallaeciae/
URL:https://vivalugo.es/evento/jornadas-de-rol-2026/
CATEGORIES:Varios
ATTACH;FMTTYPE=image/png:https://vivalugo.es/wp-content/uploads/2026/04/jornadas-de-rol-2026.png
END:VEVENT
BEGIN:VEVENT
DTSTART;TZID=Europe/Madrid:20260418T200000
DTEND;TZID=Europe/Madrid:20260418T200000
DTSTAMP:20260421T112444
CREATED:20260416T142227Z
LAST-MODIFIED:20260416T142227Z
UID:102163-1776542400-1776542400@vivalugo.es
SUMMARY:Mobilización "ATACAR CIVÍS = CRIME DE GUERRA"
DESCRIPTION:Mobilización «ATACAR CIVÍS = CRIME DE GUERRA»\nSábado 18 de abril de 2026\n20:00 h\nSaída: A Mosqueira\nFin: Praza de Santa María\nAcompáñanos nesta mobilización histórica en #Lugo. Pasa a voz! (Amnistía Internacional Lugo)
URL:https://vivalugo.es/evento/mobilizacion-atacar-civis-crime-de-guerra/
CATEGORIES:Varios
ATTACH;FMTTYPE=image/jpeg:https://vivalugo.es/wp-content/uploads/2026/04/mobilizacion-atacar-civis-crime-de-guerra.jpg
END:VEVENT
BEGIN:VEVENT
DTSTART;TZID=Europe/Madrid:20260423T190000
DTEND;TZID=Europe/Madrid:20260423T190000
DTSTAMP:20260421T112444
CREATED:20260420T163103Z
LAST-MODIFIED:20260420T163103Z
UID:102318-1776970800-1776970800@vivalugo.es
SUMMARY:Café filosófico "Que vida queremos?"
DESCRIPTION:Café filosófico «Que vida queremos?» \n23/04/2026 \n19:00 horas \nA Hedreira
URL:https://vivalugo.es/evento/cafe-filosofico-que-vida-queremos/
LOCATION:A Hedreira\, Rua Catasol\, 17\, Lugo\, 27002
CATEGORIES:Varios
ATTACH;FMTTYPE=image/jpeg:https://vivalugo.es/wp-content/uploads/2026/04/cafe-filosofico-que-vida-queremos.jpg
END:VEVENT
BEGIN:VEVENT
DTSTART;VALUE=DATE:20260424
DTEND;VALUE=DATE:20260427
DTSTAMP:20260421T112444
CREATED:20260320T075833Z
LAST-MODIFIED:20260420T144419Z
UID:87755-1776988800-1777247999@vivalugo.es
SUMMARY:Visitas Guiadas a O Vello Cárcere
DESCRIPTION:Visitas Guiadas a O Vello Cárcere\nVenres – 17:30 \nSábados \n11:15 e 17:30 \nVisita guiada sobre a historia do edificio e a Memoria Histórica a través da exposición permanente “O Vello Cárcere: da Guerra á Posguerra”. \nDomingos \n11:15 \nPúblico familiar. Visita guiada adaptada ás idades dos máis novos\, sobre a historia do edificio e a Memoria Histórica a través da exposición permanente “O Vello Cárcere: da Guerra á Posguerra” \n17:30 \nVisita guiada sobre a historia do edificio e a Memoria Histórica a través da exposición permanente “O Vello Cárcere: da Guerra á Posguerra”. \nAs visitas guiadas teñen un aforo limitado a 25 visitantes e unha duración aproximada de 45-60′. \nRecomendamos inscrición previa: 982 297 195. \n+ info (visitas guiadas grupais\, escolas…) na web oficial de O Vello Cárcere de Lugo \n \n  \nAxenda Cultural de Lugo\, Viva Lugo. \nhttps://www.facebook.com/vivalugo \nhttps://www.instagram.com/vivalugo/ \nhttps://x.com/viva_lugo \nwww.vivalugo.es
URL:https://vivalugo.es/evento/visitas-guiadas-a-o-vello-carcere/
LOCATION:O Vello Cárcere\, Av. Alcalde Anxo López Pérez\, 10\, Lugo\, Lugo\, 27002\, Spain
CATEGORIES:Varios
ATTACH;FMTTYPE=image/png:https://vivalugo.es/wp-content/uploads/2025/09/Visitas-guiadas.png
END:VEVENT
BEGIN:VEVENT
DTSTART;TZID=Europe/Madrid:20260424T193000
DTEND;TZID=Europe/Madrid:20260424T193000
DTSTAMP:20260421T112444
CREATED:20260420T162440Z
LAST-MODIFIED:20260420T162440Z
UID:102312-1777059000-1777059000@vivalugo.es
SUMMARY:After Work en La Ferretería
DESCRIPTION:After Work en La Ferretería con LATE Catering \nViernes 24 de abril · 19:30 — 23:00h\nLa Ferretería Eventos\nEntrada libre · Solo pagas lo que tomes \nSus platos más aplaudidos + alguna propuesta nueva que tienen muchas ganas de estrenar. \nBarra con vinos\, cervezas y buena selección para brindar por que la semana\, por fin\, ha terminado.
URL:https://vivalugo.es/evento/after-work-en-la-ferreteria/
LOCATION:La Ferretería\, San Froilán 11\, Lugo\, 27001
CATEGORIES:Varios
ATTACH;FMTTYPE=image/jpeg:https://vivalugo.es/wp-content/uploads/2026/04/after-work-la-ferreteria.jpg
END:VEVENT
BEGIN:VEVENT
DTSTART;VALUE=DATE:20260618
DTEND;VALUE=DATE:20260622
DTSTAMP:20260421T112444
CREATED:20250701T151935Z
LAST-MODIFIED:20250701T151935Z
UID:92464-1781740800-1782086399@vivalugo.es
SUMMARY:Arde Lucus 2026
DESCRIPTION:Arde Lucus 2026 \n25 aniversario \nDo 18 ao 21 de Xuño de 2026
URL:https://vivalugo.es/evento/arde-lucus-2026/
CATEGORIES:Varios
END:VEVENT
END:VCALENDAR